Workbook
Name B1_BS_CI: bieu1!$B$34:$E$35
Name B1_BS_CII: bieu1!$B$35:$E$36
Name B1_BS_NT: bieu1!$B$36:$E$37
Name B1_CQTT: bieu1!$B$13:$E$14
Name B1_CU_TUYEN: bieu1!$B$15:$E$16
Name B1_DN_CDN: bieu1!$B$23:$E$24
Name B1_DN_NH: bieu1!$B$25:$E$26
Name B1_DN_TCN: bieu1!$B$24:$E$25
Name B1_HeCQ: bieu1!$B$20:$E$21
Name B1_LienThong_VLVH: bieu1!$B$18:$E$19
Name B1_LienThongCQ: bieu1!$B$14:$E$15
Name B1_PT_CHUYEN: bieu1!$B$28:$E$29
Name B1_PT_DBDH: bieu1!$B$27:$E$28
Name B1_PT_DTNT: bieu1!$B$29:$E$30
Name B1_SDH_CH: bieu1!$B$32:$E$33
Name B1_SDH_NCS: bieu1!$B$31:$E$32
Name B1_TCCN_VLVH: bieu1!$B$21:$E$22
Name B1_VHVL: bieu1!$B$17:$E$18
Name B2_BS_CI: 'bieu2 CD cac he'!$B$34:$E$35
Name B2_BS_CII: 'bieu2 CD cac he'!$B$35:$E$36
Name B2_BS_NT: 'bieu2 CD cac he'!$B$36:$E$37
Name B2_CD_CQTT: 'bieu2 CD cac he'!$B$13:$E$14
Name B2_CD_CT: 'bieu2 CD cac he'!$B$15:$E$16
Name B2_CD_LT: 'bieu2 CD cac he'!$B$18:$E$19
Name B2_CD_LTCQ: 'bieu2 CD cac he'!$B$14:$E$15
Name B2_CD_VLVH: 'bieu2 CD cac he'!$B$17:$E$18
Name B2_DN_CD: 'bieu2 CD cac he'!$B$23:$E$24
Name B2_DN_NH: 'bieu2 CD cac he'!$B$25:$E$26
Name B2_DN_TC: 'bieu2 CD cac he'!$B$24:$E$25
Name B2_DT_CD_CQ: 'bieu2 do tuoi'!$B$13:$K$14
Name B2_DT_CD_CT: 'bieu2 do tuoi'!$B$15:$K$16
Name B2_DT_CD_LT: 'bieu2 do tuoi'!$B$14:$K$15
Name B2_DT_CD_LTVHVL: 'bieu2 do tuoi'!$B$18:$K$19
Name B2_DT_CD_VLVH: 'bieu2 do tuoi'!$B$17:$K$18
Name B2_DT_TC_CQ: 'bieu2 do tuoi'!$B$20:$K$21
Name B2_DT_TC_VLVH: 'bieu2 do tuoi'!$B$21:$K$22
Name B2_PT_CHUYEN: 'bieu2 CD cac he'!$B$28:$E$29
Name B2_PT_DBDH: 'bieu2 CD cac he'!$B$27:$E$28
Name B2_PT_DTNT: 'bieu2 CD cac he'!$B$29:$E$30
Name B2_SDH_CH: 'bieu2 CD cac he'!$B$32:$E$33
Name B2_SDH_NCS: 'bieu2 CD cac he'!$B$31:$E$32
Name B2_TCCCN_VLVH: 'bieu2 CD cac he'!$B$21:$E$22
Name B2_TCCN_CQ: 'bieu2 CD cac he'!$B$20:$E$21
Name B24_CHUYEN: 'bieu2 TCCN'!$B$109:$H$110
Name B24_DTNT: 'bieu2 TCCN'!$B$112:$H$113
Name B24_HSDB: 'bieu2 TCCN'!$B$106:$H$107
Name B42_TL_CQ: bieu4a!$C$20:$L$21
Name B42_TL_LT_CQ: bieu4a!$C$23:$L$24
Name B42_TL_LT_VLVH: bieu4a!$C$24:$L$25
Name B42_TL_VLVH: bieu4a!$C$21:$L$22
Name B42_TN_CQ: bieu4a!$C$14:$L$15
Name B42_TN_LT_CQ: bieu4a!$C$17:$L$18
Name B42_TN_LT_VHVL: bieu4a!$C$18:$L$19
Name B42_TN_VLVH: bieu4a!$C$15:$L$16
Name B43_DN_CDN: bieu4a!$C$217:$L$218
Name B43_DNNH: bieu4a!$D$219:$G$220
Name B43_TC_CQ: bieu4a!$C$214:$L$215
Name B43_TC_VHVL: bieu4a!$C$215:$L$216
Name B43_TCN: bieu4a!$C$218:$L$219
Name B51_31: bieu5.1!$B$23:$U$24

Sheet CODE
F1: Cấu hình | J1: 51 | K1: TRÌNH ĐỘ CAO ĐẲNG
A2: Đồng bằng Sông Hồng | F2: ma_truong | G2: =VLOOKUP(Bia!C10,TRUONG_LIST,2,FALSE) -> CHCM11 | J2: 5114 | K2: Khoa học giáo dục và đào tạo giáo viên
A3: 1. Hà Nội | F3: CL | G3: =IF(Bia!O16,"1","2") -> 1 | J3: 511402 | K3: Đào tạo giáo viên
A4: Đại học Quốc gia Hà Nội | B4: DHNI01 | F4: CapHoc | G4: ="2" -> 2 | J4: 51140201 | K4: Giáo dục Mầm non
A5: Tr.ĐH Công nghệ | B5: DHNI02 | J5: 51140202 | K5: Giáo dục Tiểu học
A6: Tr.ĐH Khoa học tự nhiên | B6: DHNI03 | J6: 51140203 | K6: Giáo dục Đặc biệt
A7: Tr.ĐH Khoa học XH & Nhân văn | B7: DHNI04 | J7: 51140204 | K7: Giáo dục Công dân
A8: Tr.ĐH Ngoại ngữ | B8: DHNI05 | J8: 51140206 | K8: Giáo dục Thể chất
A9: Tr.ĐH Kinh tế | B9: DHNI06 | J9: 51140207 | K9: Huấn luyện thể thao*
A10: Tr.ĐH Giáo dục | B10: DHNI07 | J10: 51140208 | K10: Giáo dục Quốc phòng - An ninh
A11: Khoa Luật | B11: DHNI08 | J11: 51140209 | K11: Sư phạm Toán học
A12: Khoa Quốc tế | B12: DHNI09 | J12: 51140210 | K12: Sư phạm Tin học
A13: Tr.ĐH Khoa học và công nghệ Hà Nội | B13: DHNI10 | J13: 51140211 | K13: Sư phạm Vật lý
A14: Tr.ĐH Bách khoa Hà Nội | B14: DHNI11 | J14: 51140212 | K14: Sư phạm Hoá học
A15: Tr.ĐH Công đoàn | B15: DHNI12 | J15: 51140213 | K15: Sư phạm Sinh học
A16: Tr.ĐH Công nghiệp Hà Nội | B16: DHNI13 | J16: 51140214 | K16: Sư phạm Kỹ thuật công nghiệp
... A44: Học viện Ngân hàng | B44: DHNI41 | J44: 51210226 | K44: Diễn viên sân khấu kịch hát
A45: Học viện Ngoại giao | B45: DHNI42 | D45: a1b2c3d4e5f6g7 | J45: 51210227 | K45: Đạo diễn sân khấu
A46: Học viện Quản lý giáo dục | B46: DHNI43 | J46: 51210234 | K46: Diễn viên kịch - điện ảnh
A47: Học viện Tài chính | B47: DHNI44 | J47: 51210236 | K47: Quay phim
A48: Học viện Y dược học cổ truyền VN | B48: DHNI45 | J48: 51210242 | K48: Diễn viên múa
A49: Học viện Thanh thiếu niên Việt Nam | B49: DHNI46 | J49: 51210243 | K49: Biên đạo múa
A50: Học viện Khoa học Xã hội | B50: DHNI47 | J50: 51210244 | K50: Huấn luyện múa
A51: Học viện Phụ nữ Việt Nam | B51: DHNI48 | J51: 512103 | K51: Nghệ thuật nghe nhìn
A52: Viện đại học Mở Hà Nội | B52: DHNI49 | J52: 51210301 | K52: Nhiếp ảnh
A53: Tr.ĐH Công nghiệp Việt - Hung | B53: DHNI50 | J53: 51210302 | K53: Công nghệ điện ảnh - truyền hình
A54: Tr.ĐH Lâm nghiệp | B54: DHNI51 | J54: 51210303 | K54: Thiết kế âm thanh - ánh sáng
A55: Tr.ĐH Sư phạm thể dục thể thao Hà Nội | B55: DHNI52 | J55: 512104 | K55: Mỹ thuật ứng dụng
A56: Tr.ĐH Tài nguyên và môi trường HN | B56: DHNI53 | J56: 51210402 | K56: Thiết kế công nghiệp
A57: Tr.ĐH Công nghệ giao thông vận tải | B57: DHNI54 | J57: 51210403 | K57: Thiết kế đồ họa
... A97: Tr.CĐ Kỹ thuật công nghệ Bách Khoa (NCL) | B97: CHNI26 | J97: 51340121 | K97: Kinh doanh thương mại
A98: 2. Vĩnh Phúc | J98: 513402 | K98: Tài chính – Ngân hàng – Bảo hiểm
A99: Tr.ĐH Dầu khí Việt Nam | B99: DVPC01 | J99: 51340201 | K99: Tài chính – Ngân hàng
A100: Tr.ĐH Sư phạm Hà Nội II | B100: DVPC02 | J100: 51340202 | K100: Bảo hiểm
A101: Tr.ĐH Trưng Vương (NCL) | B101: DVPC03 | J101: 513403 | K101: Kế toán – Kiểm toán
A102: Tr.CĐ Công nghiệp Phúc Yên | B102: CVPC01 | J102: 51340301 | K102: Kế toán
A103: Tr.CĐ Kinh tế kỹ thuật Vĩnh Phúc | B103: CVPC02 | J103: 51340302 | K103: Kiểm toán
A104: Tr. CĐ Vĩnh Phúc | B104: CVPC03 | J104: 513404 | K104: Quản trị – Quản lý
A105: 3. Bắc Ninh | J105: 51340404 | K105: Quản trị nhân lực
A106: Học viện Chính sách và Phát triển | B106: DBNH01 | J106: 51340405 | K106: Hệ thống thông tin quản lý
...

Sheet Bia
B1: Bộ Giáo Dục Và Đào Tạo
B7: Biểu báo cáo thống kê năm học 2014-2015
B10: Đơn vị báo cáo:. | C10: Tr.CĐ Kỹ thuật Lý Tự Trọng TP HCM
B11: Địa chỉ: Số 390 đường Hoàng Văn Thụ, Phường 4, Quận Tân Bình, TP. Hồ Chí Minh.
B12: Cơ quan chủ quản : Sở Giáo dục và Đào tạo TP. Hồ Chí Minh
B13: Họ và tên hiệu trưởng: Phạm Hữu Lộc giới tính: Nam nữ | O13: FALSE | Q13: TRUE
B14: Họ và tên cán bộ thống kê tổng hợp: Trần Thị Thu Hà
B15: Điện thoại liên hệ công tác thống kê: 08 38440 567 Fax: 08 38118 676 Email: phanhchinh@lytc.edu.vn Website: www.lytc.edu.vn
B16: Loại hình trường: công lập Dân lập Tư thục | O16: TRUE | P16: FALSE | Q16: FALSE
B17: Đơn vị nhận: VỤ KẾ HOẠCH-TÀI CHÍNH, BỘ GIÁO DỤC VÀ ĐÀO TẠO
B18: Ủy ban Nhân dân Thành phố Hồ Chí Minh
B19: Sở Giáo dục và Đào tạo Thành phố Hồ Chí Minh
B21: Thời gian nhận báo cáo: ngày 31 tháng 12 hàng năm
B25: Vụ Kế hoạch - Tài chính, số 49 Đại Cồ Việt, Hà Nội
B26: Phiên bản: 2014.01/ ngày 18/11/2014

Sheet bieu1
A1: Biểu số : 01 - CĐ | B1: Thống kê tuyển mới | F1: Đơn vị báo cáo
A2: Ban hành theo Quyết định | B2: năm 2014 | F2: =Bia!C10 -> Tr.CĐ Kỹ thuật Lý Tự Trọng TP HCM
A3: số 5363/QĐ-BGDĐT
A4: ngày 14/11/2013 của Bộ trưởng
A5: Ngày nhận báo cáo: 31/12
B6: Tổng số HS,SV đã tuyển vào trường | C6: Trong đó
D7: Dân tộc ít người
C8: Nữ | F8: Ghi chú
D9: Tổng số | E9: Trong đó
E10: Nữ
A11: A | B11: 1 | C11: 2 | D11: 3 | E11: 4 | F11: 5
A12: I- Cao Đẳng | B12: =SUM(B13,B16,B17) -> 906 | C12: =SUM(C13,C16,C17) -> 41 | D12: =SUM(D13,D16,D17) -> 19 | E12: =SUM(E13,E16,E17) -> 0 | H12: =IF(OR(B12<C12,B12<D12,B12<E12),"Er","") | I12: =IF(OR(B12<C12,C12<E12),"Er","") | J12: =IF(OR(B12<D12,D12<E12),"Er","") | K12: =IF(OR(B12<E12,C12<E12,D12<E12),"Er","")
A13: 1. Hệ chính quy | B13: =SUM(B14:B15) -> 906 | C13: =SUM(C14:C15) -> 41 | D13: =SUM(D14:D15) -> 19 | E13: =SUM(E14:E15) -> 0 | H13: =IF(OR(B13<C13,B13<D13,B13<E13),"Er","") | I13: =IF(OR(B13<C13,C13<E13),"Er","") | J13: =IF(OR(B13<D13,D13<E13),"Er","") | K13: =IF(OR(B13<E13,C13<E13,D13<E13),"Er","")
A14: Chia ra: - Chính quy tập trung | B14: 906 | C14: 41 | D14: 19 | E14: 0 | H14: =IF(OR(B14<C14,B14<D14,B14<E14),"Er","") | I14: =IF(OR(B14<C14,C14<E14),"Er","") | J14: =IF(OR(B14<D14,D14<E14),"Er","") | K14: =IF(OR(B14<E14,C14<E14,D14<E14),"Er","")
A15: - Liên thông chính quy | H15: =IF(OR(B15<C15,B15<D15,B15<E15),"Er","") | I15: =IF(OR(B15<C15,C15<E15),"Er","") | J15: =IF(OR(B15<D15,D15<E15),"Er","") | K15: =IF(OR(B15<E15,C15<E15,D15<E15),"Er","")
A16: 2. Cử tuyển | H16: =IF(OR(B16<C16,B16<D16,B16<E16),"Er","") | I16: =IF(OR(B16<C16,C16<E16),"Er","") | J16: =IF(OR(B16<D16,D16<E16),"Er","") | K16: =IF(OR(B16<E16,C16<E16,D16<E16),"Er","")
A17: 3. Vừa làm vừa học | B17: =SUM(B18:B19) -> 0 | C17: =SUM(C18:C19) -> 0 | D17: =SUM(D18:D19) -> 0 | E17: =SUM(E18:E19) -> 0 | H17: =IF(OR(B17<C17,B17<D17,B17<E17),"Er","") | I17: =IF(OR(B17<C17,C17<E17),"Er","") | J17: =IF(OR(B17<D17,D17<E17),"Er","") | K17: =IF(OR(B17<E17,C17<E17,D17<E17),"Er","")
A18: Chia ra: - Vừa làm vừa học | H18: =IF(OR(B18<C18,B18<D18,B18<E18),"Er","") | I18: =IF(OR(B18<C18,C18<E18),"Er","") | J18: =IF(OR(B18<D18,D18<E18),"Er","") | K18: =IF(OR(B18<E18,C18<E18,D18<E18),"Er","")
A19: - Liên thông VLVH | H19: =IF(OR(B19<C19,B19<D19,B19<E19),"Er","") | I19: =IF(OR(B19<C19,C19<E19),"Er","") | J19: =IF(OR(B19<D19,D19<E19),"Er","") | K19: =IF(OR(B19<E19,C19<E19,D19<E19),"Er","")
A20: II-Trung cấp chuyên nghiệp | B20: =SUM(B21:B22) -> 406 | C20: =SUM(C21:C22) -> 31 | D20: =SUM(D21:D22) -> 3 | E20: =SUM(E21:E22) -> 0 | H20: =IF(OR(B20<C20,B20<D20,B20<E20),"Er","") | I20: =IF(OR(B20<C20,C20<E20),"Er","") | J20: =IF(OR(B20<D20,D20<E20),"Er","") | K20: =IF(OR(B20<E20,C20<E20,D20<E20),"Er","")
A21: 1. Hệ chính quy | B21: 406 | C21: 31 | D21: 3 | E21: 0 | H21: =IF(OR(B21<C21,B21<D21,B21<E21),"Er","") | I21: =IF(OR(B21<C21,C21<E21),"Er","") | J21: =IF(OR(B21<D21,D21<E21),"Er","") | K21: =IF(OR(B21<E21,C21<E21,D21<E21),"Er","")
A22: 2. Vừa làm vừa học | H22: =IF(OR(B22<C22,B22<D22,B22<E22),"Er","") | I22: =IF(OR(B22<C22,C22<E22),"Er","") | J22: =IF(OR(B22<D22,D22<E22),"Er","") | K22: =IF(OR(B22<E22,C22<E22,D22<E22),"Er","")
A23: III- Dạy nghề | B23: =SUM(B24:B26) -> 1382 | C23: =SUM(C24:C26) -> 17 | D23: =SUM(D24:D26) -> 1 | E23: =SUM(E24:E26) -> 0 | H23: =IF(OR(B23<C23,B23<D23,B23<E23),"Er","") | I23: =IF(OR(B23<C23,C23<E23),"Er","") | J23: =IF(OR(B23<D23,D23<E23),"Er","") | K23: =IF(OR(B23<E23,C23<E23,D23<E23),"Er","")
A24: 1. Cao đẳng nghề | H24: =IF(OR(B24<C24,B24<D24,B24<E24),"Er","") | I24: =IF(OR(B24<C24,C24<E24),"Er","") | J24: =IF(OR(B24<D24,D24<E24),"Er","") | K24: =IF(OR(B24<E24,C24<E24,D24<E24),"Er","")
A25: 2. Trung cấp nghề | H25: =IF(OR(B25<C25,B25<D25,B25<E25),"Er","") | I25: =IF(OR(B25<C25,C25<E25),"Er","") | J25: =IF(OR(B25<D25,D25<E25),"Er","") | K25: =IF(OR(B25<E25,C25<E25,D25<E25),"Er","")
A26: 3. Ngắn hạn (dưới 12 tháng) | B26: 1382 | C26: 17 | D26: 1 | E26: 0 | H26: =IF(OR(B26<C26,B26<D26,B26<E26),"Er","") | I26: =IF(OR(B26<C26,C26<E26),"Er","") | J26: =IF(OR(B26<D26,D26<E26),"Er","") | K26: =IF(OR(B26<E26,C26<E26,D26<E26),"Er","")
A27: IV - Học sinh phổ thông | B27: =SUM(B28:B30) -> 0 | C27: =SUM(C28:C30) -> 0 | D27: =SUM(D28:D30) -> 0 | E27: =SUM(E28:E30) -> 0 | H27: =IF(OR(B27<C27,B27<D27,B27<E27),"Er","") | I27: =IF(OR(B27<C27,C27<E27),"Er","") | J27: =IF(OR(B27<D27,D27<E27),"Er","") | K27: =IF(OR(B27<E27,C27<E27,D27<E27),"Er","")
A28: 1. Học sinh dự bị đại học | H28: =IF(OR(B28<C28,B28<D28,B28<E28),"Er","") | I28: =IF(OR(B28<C28,C28<E28),"Er","") | J28: =IF(OR(B28<D28,D28<E28),"Er","") | K28: =IF(OR(B28<E28,C28<E28,D28<E28),"Er","")
A29: 2. Học sinh phổ thông chuyên, năng khiếu | H29: =IF(OR(B29<C29,B29<D29,B29<E29),"Er","") | I29: =IF(OR(B29<C29,C29<E29),"Er","") | J29: =IF(OR(B29<D29,D29<E29),"Er","") | K29: =IF(OR(B29<E29,C29<E29,D29<E29),"Er","")
A30: 3. Học sinh phổ thông dân tộc nội trú | H30: =IF(OR(B30<C30,B30<D30,B30<E30),"Er","") | I30: =IF(OR(B30<C30,C30<E30),"Er","") | J30: =IF(OR(B30<D30,D30<E30),"Er","") | K30: =IF(OR(B30<E30,C30<E30,D30<E30),"Er","")
A31: V -Sau đại học | B31: =SUM(B32:B33) -> 0 | C31: =SUM(C32:C33) -> 0 | D31: =SUM(D32:D33) -> 0 | E31: =SUM(E32:E33) -> 0 | H31: =IF(OR(B31<C31,B31<D31,B31<E31),"Er","") | I31: =IF(OR(B31<C31,C31<E31),"Er","") | J31: =IF(OR(B31<D31,D31<E31),"Er","") | K31: =IF(OR(B31<E31,C31<E31,D31<E31),"Er","")
A32: 1. Nghiên cứu sinh | H32: =IF(OR(B32<C32,B32<D32,B32<E32),"Er","") | I32: =IF(OR(B32<C32,C32<E32),"Er","") | J32: =IF(OR(B32<D32,D32<E32),"Er","") | K32: =IF(OR(B32<E32,C32<E32,D32<E32),"Er","")
A33: 2. Cao học | H33: =IF(OR(B33<C33,B33<D33,B33<E33),"Er","") | I33: =IF(OR(B33<C33,C33<E33),"Er","") | J33: =IF(OR(B33<D33,D33<E33),"Er","") | K33: =IF(OR(B33<E33,C33<E33,D33<E33),"Er","")
A34: VI. Bác sĩ chuyên khoa | B34: =SUM(B35:B37) -> 0 | C34: =SUM(C35:C37) -> 0 | D34: =SUM(D35:D37) -> 0 | E34: =SUM(E35:E37) -> 0 | H34: =IF(OR(B34<C34,B34<D34,B34<E34),"Er","") | I34: =IF(OR(B34<C34,C34<E34),"Er","") | J34: =IF(OR(B34<D34,D34<E34),"Er","") | K34: =IF(OR(B34<E34,C34<E34,D34<E34),"Er","")
A35: 1. Bác sĩ chuyên khoa cấp I | H35: =IF(OR(B35<C35,B35<D35,B35<E35),"Er","") | I35: =IF(OR(B35<C35,C35<E35),"Er","") | J35: =IF(OR(B35<D35,D35<E35),"Er","") | K35: =IF(OR(B35<E35,C35<E35,D35<E35),"Er","")
A36: 2. Bác sĩ chuyên khoa cấp II | H36: =IF(OR(B36<C36,B36<D36,B36<E36),"Er","") | I36: =IF(OR(B36<C36,C36<E36),"Er","") | J36: =IF(OR(B36<D36,D36<E36),"Er","") | K36: =IF(OR(B36<E36,C36<E36,D36<E36),"Er","")
A37: 3. Bác sĩ nội trú Bệnh viện | H37: =IF(OR(B37<C37,B37<D37,B37<E37),"Er","") | I37: =IF(OR(B37<C37,C37<E37),"Er","") | J37: =IF(OR(B37<D37,D37<E37),"Er","") | K37: =IF(OR(B37<E37,C37<E37,D37<E37),"Er","")
D38: Ngày 29 tháng 12 năm 2014
A39: Người lập biểu | D39: Hiệu trưởng
A45: Nguyễn Văn Tấn | F45: Phạm Hữu Lộc

Sheet bieu2 CD cac he
A1: Biểu số: 02- CĐ | B1: Số sinh viên, học sinh đang học | F1: Đơn vị báo cáo
A2: Ban hành theo Quyết định | B2: tất cả các hệ | F2: =Bia!C10 -> Tr.CĐ Kỹ thuật Lý Tự Trọng TP HCM
A3: số 5363/QĐ-BGDĐT | B3: Năm học 2014 - 2015
A4: ngày 14/11/2013 của Bộ trưởng
A5: Ngày nhận báo cáo: 31/12
B6: Tổng số SV, HS đang học | C6: Trong đó
D7: Dân tộc ít người
C8: Nữ | F8: Ghi chú
D9: Tổng sổ | E9: Trong đó
E10: Nữ
A11: A | B11: 1 | C11: 2 | D11: 3 | E11: 4 | F11: 5
A12: I- Cao Đẳng | B12: =SUM(B13,B16,B17) -> 2466 | C12: =SUM(C13,C16,C17) -> 145 | D12: =SUM(D13,D16,D17) -> 87 | E12: =SUM(E13,E16,E17) -> 6 | H12: =IF(OR(B12<C12,B12<D12,B12<E12),"Er","") | I12: =IF(OR(B12<C12,C12<E12),"Er","") | J12: =IF(OR(B12<D12,D12<E12),"Er","") | K12: =IF(OR(B12<E12,C12<E12,D12<E12),"Er","")
A13: 1. Hệ chính quy | B13: 2466 | C13: 145 | D13: 87 | E13: 6 | H13: =IF(OR(B13<C13,B13<D13,B13<E13),"Er","") | I13: =IF(OR(B13<C13,C13<E13),"Er","") | J13: =IF(OR(B13<D13,D13<E13),"Er","") | K13: =IF(OR(B13<E13,C13<E13,D13<E13),"Er","")
A14: Chia ra: - Chính quy tập trung | B14: =SUM(B15:B16) -> 0 | C14: =SUM(C15:C16) -> 0 | D14: =SUM(D15:D16) -> 0 | E14: =SUM(E15:E16) -> 0 | H14: =IF(OR(B14<C14,B14<D14,B14<E14),"Er","") | I14: =IF(OR(B14<C14,C14<E14),"Er","") | J14: =IF(OR(B14<D14,D14<E14),"Er","") | K14: =IF(OR(B14<E14,C14<E14,D14<E14),"Er","")
A15: - Liên thông chính quy | H15: =IF(OR(B15<C15,B15<D15,B15<E15),"Er","") | I15: =IF(OR(B15<C15,C15<E15),"Er","") | J15: =IF(OR(B15<D15,D15<E15),"Er","") | K15: =IF(OR(B15<E15,C15<E15,D15<E15),"Er","")
A16: 2. Cử tuyển | H16: =IF(OR(B16<C16,B16<D16,B16<E16),"Er","") | I16: =IF(OR(B16<C16,C16<E16),"Er","") | J16: =IF(OR(B16<D16,D16<E16),"Er","") | K16: =IF(OR(B16<E16,C16<E16,D16<E16),"Er","")
A17: 3. Vừa làm vừa học | B17: =SUM(B18:B19) -> 0 | C17: =SUM(C18:C19) -> 0 | D17: =SUM(D18:D19) -> 0 | E17: =SUM(E18:E19) -> 0 | H17: =IF(OR(B17<C17,B17<D17,B17<E17),"Er","") | I17: =IF(OR(B17<C17,C17<E17),"Er","") | J17: =IF(OR(B17<D17,D17<E17),"Er","") | K17: =IF(OR(B17<E17,C17<E17,D17<E17),"Er","")
A18: Chia ra: - Vừa làm vừa học | H18: =IF(OR(B18<C18,B18<D18,B18<E18),"Er","") | I18: =IF(OR(B18<C18,C18<E18),"Er","") | J18: =IF(OR(B18<D18,D18<E18),"Er","") | K18: =IF(OR(B18<E18,C18<E18,D18<E18),"Er","")
A19: - Liên thông VLVH | H19: =IF(OR(B19<C19,B19<D19,B19<E19),"Er","") | I19: =IF(OR(B19<C19,C19<E19),"Er","") | J19: =IF(OR(B19<D19,D19<E19),"Er","") | K19: =IF(OR(B19<E19,C19<E19,D19<E19),"Er","")
A20: II-Trung cấp chuyên nghiệp | B20: =SUM(B21:B22) -> 584 | C20: =SUM(C21:C22) -> 51 | D20: =SUM(D21:D22) -> 25 | E20: =SUM(E21:E22) -> 2 | H20: =IF(OR(B20<C20,B20<D20,B20<E20),"Er","") | I20: =IF(OR(B20<C20,C20<E20),"Er","") | J20: =IF(OR(B20<D20,D20<E20),"Er","") | K20: =IF(OR(B20<E20,C20<E20,D20<E20),"Er","")
A21: 1. Hệ chính quy | B21: 584 | C21: 51 | D21: 25 | E21: 2 | H21: =IF(OR(B21<C21,B21<D21,B21<E21),"Er","") | I21: =IF(OR(B21<C21,C21<E21),"Er","") | J21: =IF(OR(B21<D21,D21<E21),"Er","") | K21: =IF(OR(B21<E21,C21<E21,D21<E21),"Er","")
A22: 2. Vừa làm vừa học | H22: =IF(OR(B22<C22,B22<D22,B22<E22),"Er","") | I22: =IF(OR(B22<C22,C22<E22),"Er","") | J22: =IF(OR(B22<D22,D22<E22),"Er","") | K22: =IF(OR(B22<E22,C22<E22,D22<E22),"Er","")
A23: III- Dạy nghề | B23: =SUM(B24:B26) -> 49 | C23: =SUM(C24:C26) -> 0 | D23: =SUM(D24:D26) -> 0 | E23: =SUM(E24:E26) -> 0 | H23: =IF(OR(B23<C23,B23<D23,B23<E23),"Er","") | I23: =IF(OR(B23<C23,C23<E23),"Er","") | J23: =IF(OR(B23<D23,D23<E23),"Er","") | K23: =IF(OR(B23<E23,C23<E23,D23<E23),"Er","")
A24: 1. Cao đẳng nghề | H24: =IF(OR(B24<C24,B24<D24,B24<E24),"Er","") | I24: =IF(OR(B24<C24,C24<E24),"Er","") | J24: =IF(OR(B24<D24,D24<E24),"Er","") | K24: =IF(OR(B24<E24,C24<E24,D24<E24),"Er","")
A25: 2. Trung cấp nghề | H25: =IF(OR(B25<C25,B25<D25,B25<E25),"Er","") | I25: =IF(OR(B25<C25,C25<E25),"Er","") | J25: =IF(OR(B25<D25,D25<E25),"Er","") | K25: =IF(OR(B25<E25,C25<E25,D25<E25),"Er","")
A26: 3. Ngắn hạn (dưới 12 tháng) | B26: 49 | C26: 0 | D26: 0 | E26: 0 | H26: =IF(OR(B26<C26,B26<D26,B26<E26),"Er","") | I26: =IF(OR(B26<C26,C26<E26),"Er","") | J26: =IF(OR(B26<D26,D26<E26),"Er","") | K26: =IF(OR(B26<E26,C26<E26,D26<E26),"Er","")
A27: IV - Học sinh phổ thông | B27: =SUM(B28:B30) -> 0 | C27: =SUM(C28:C30) -> 0 | D27: =SUM(D28:D30) -> 0 | E27: =SUM(E28:E30) -> 0 | H27: =IF(OR(B27<C27,B27<D27,B27<E27),"Er","") | I27: =IF(OR(B27<C27,C27<E27),"Er","") | J27: =IF(OR(B27<D27,D27<E27),"Er","") | K27: =IF(OR(B27<E27,C27<E27,D27<E27),"Er","")
A28: 1. Học sinh dự bị đại học | H28: =IF(OR(B28<C28,B28<D28,B28<E28),"Er","") | I28: =IF(OR(B28<C28,C28<E28),"Er","") | J28: =IF(OR(B28<D28,D28<E28),"Er","") | K28: =IF(OR(B28<E28,C28<E28,D28<E28),"Er","")
A29: 2. Học sinh phổ thông chuyên, năng khiếu | H29: =IF(OR(B29<C29,B29<D29,B29<E29),"Er","") | I29: =IF(OR(B29<C29,C29<E29),"Er","") | J29: =IF(OR(B29<D29,D29<E29),"Er","") | K29: =IF(OR(B29<E29,C29<E29,D29<E29),"Er","")
A30: 3. Học sinh phổ thông dân tộc nội trú | H30: =IF(OR(B30<C30,B30<D30,B30<E30),"Er","") | I30: =IF(OR(B30<C30,C30<E30),"Er","") | J30: =IF(OR(B30<D30,D30<E30),"Er","") | K30: =IF(OR(B30<E30,C30<E30,D30<E30),"Er","")
A31: V -Sau đại học | B31: =SUM(B32:B33) -> 0 | C31: =SUM(C32:C33) -> 0 | D31: =SUM(D32:D33) -> 0 | E31: =SUM(E32:E33) -> 0 | H31: =IF(OR(B31<C31,B31<D31,B31<E31),"Er","") | I31: =IF(OR(B31<C31,C31<E31),"Er","") | J31: =IF(OR(B31<D31,D31<E31),"Er","") | K31: =IF(OR(B31<E31,C31<E31,D31<E31),"Er","")
A32: 1. Nghiên cứu sinh | H32: =IF(OR(B32<C32,B32<D32,B32<E32),"Er","") | I32: =IF(OR(B32<C32,C32<E32),"Er","") | J32: =IF(OR(B32<D32,D32<E32),"Er","") | K32: =IF(OR(B32<E32,C32<E32,D32<E32),"Er","")
A33: 2. Cao học | H33: =IF(OR(B33<C33,B33<D33,B33<E33),"Er","") | I33: =IF(OR(B33<C33,C33<E33),"Er","") | J33: =IF(OR(B33<D33,D33<E33),"Er","") | K33: =IF(OR(B33<E33,C33<E33,D33<E33),"Er","")
A34: VI. Bác sĩ chuyên khoa | B34: =SUM(B35:B37) -> 0 | C34: =SUM(C35:C37) -> 0 | D34: =SUM(D35:D37) -> 0 | E34: =SUM(E35:E37) -> 0 | H34: =IF(OR(B34<C34,B34<D34,B34<E34),"Er","") | I34: =IF(OR(B34<C34,C34<E34),"Er","") | J34: =IF(OR(B34<D34,D34<E34),"Er","") | K34: =IF(OR(B34<E34,C34<E34,D34<E34),"Er","")
A35: 1. Bác sĩ chuyên khoa cấp I | H35: =IF(OR(B35<C35,B35<D35,B35<E35),"Er","") | I35: =IF(OR(B35<C35,C35<E35),"Er","") | J35: =IF(OR(B35<D35,D35<E35),"Er","") | K35: =IF(OR(B35<E35,C35<E35,D35<E35),"Er","")
A36: 2. Bác sĩ chuyên khoa cấp II | H36: =IF(OR(B36<C36,B36<D36,B36<E36),"Er","") | I36: =IF(OR(B36<C36,C36<E36),"Er","") | J36: =IF(OR(B36<D36,D36<E36),"Er","") | K36: =IF(OR(B36<E36,C36<E36,D36<E36),"Er","")
A37: 3. Bác sĩ nội trú Bệnh viện | H37: =IF(OR(B37<C37,B37<D37,B37<E37),"Er","") | I37: =IF(OR(B37<C37,C37<E37),"Er","") | J37: =IF(OR(B37<D37,D37<E37),"Er","") | K37: =IF(OR(B37<E37,C37<E37,D37<E37),"Er","")
D38: Ngày 29 tháng 12 năm 2014
A39: Người lập biểu | D39: Hiệu trưởng
F45: Phạm Hữu Lộc

Sheet bieu2 do tuoi
A1: Biểu số: 02A- CĐ | B1: số sinh viên, học sinh đang học | J1: Đơn vị báo cáo
A2: Ban hành theo Quyết định | B2: chia theo tuổi | J2: =Bia!C10 -> Tr.CĐ Kỹ thuật Lý Tự Trọng TP HCM
A3: số 5363/QĐ-BGDĐT | B3: Năm học 2014- 2015
A4: ngày 14/11/2013 của Bộ trưởng
A5: Ngày nhận báo cáo: 31/12
B6: Tổng số SV, HS đang học | C6: Chia theo độ tuổi
C8: 17 | D8: 18 | E8: 19 | F8: 20 | G8: 21 | H8: 22 | I8: 23 | J8: 24 | K8: 25+ | L8: Ghi chú
A11: A | B11: 1 | C11: 2 | D11: 3 | E11: 4 | F11: 5 | G11: 6 | H11: 7 | I11: 8 | J11: 9 | K11: 10 | L11: 11
A12: I- Cao Đẳng | B12: =SUM(B13,B16,B17) -> 2466 | C12: =SUM(C13,C16,C17) -> 0 | D12: =SUM(D13,D16,D17) -> 594 | E12: =SUM(E13,E16,E17) -> 845 | F12: =SUM(F13,F16,F17) -> 657 | G12: =SUM(G13,G16,G17) -> 246 | H12: =SUM(H13,H16,H17) -> 69 | I12: =SUM(I13,I16,I17) -> 36 | ... K12: =SUM(K13,K16,K17) -> 9
A13: 1. Hệ chính quy | B13: =SUM(C13:K13) -> 2466 | C13: =SUM(C14:C15) -> 0 | D13: =SUM(D14:D15) -> 594 | E13: =SUM(E14:E15) -> 845 | F13: =SUM(F14:F15) -> 657 | G13: =SUM(G14:G15) -> 246 | H13: =SUM(H14:H15) -> 69 | I13: =SUM(I14:I15) -> 36 | J13: =SUM(J14:J15) -> 10 | K13: =SUM(K14:K15) -> 9
A14: Chia ra: - Chính quy tập trung | B14: =SUM(C14:K14) -> 2466 | C14: 0 | D14: 594 | E14: 845 | F14: 657 | G14: 246 | H14: 69 | I14: 36 | J14: 10 | K14: 9
A15: - Liên thông chính quy | B15: =SUM(C15:K15) -> 0
A16: 2. Cử tuyển | B16: =SUM(C16:K16) -> 0
A17: 3. Vừa làm vừa học | B17: =SUM(C17:K17) -> 0 | C17: =SUM(C18:C19) -> 0 | D17: =SUM(D18:D19) -> 0 | E17: =SUM(E18:E19) -> 0 | F17: =SUM(F18:F19) -> 0 | G17: =SUM(G18:G19) -> 0 | H17: =SUM(H18:H19) -> 0 | I17: =SUM(I18:I19) -> 0 | J17: =SUM(J18:J19) -> 0 | K17: =SUM(K18:K19) -> 0
A18: Chia ra: - Vừa làm vừa học | B18: =SUM(C18:K18) -> 0
A19: - Liên thông VLVH | B19: =SUM(C19:K19) -> 0
A20: II-Trung cấp chuyên nghiệp | B20: =SUM(B21:B22) -> 584 | C20: =SUM(C21:C22) -> 0 | D20: =SUM(D21:D22) -> 140 | E20: =SUM(E21:E22) -> 164 | F20: =SUM(F21:F22) -> 149 | G20: =SUM(G21:G22) -> 62 | H20: =SUM(H21:H22) -> 32 | I20: =SUM(I21:I22) -> 18 | ... K20: =SUM(K21:K22) -> 12
A21: 1. Hệ chính quy | B21: =SUM(C21:K21) -> 584 | C21: 0 | D21: 140 | E21: 164 | F21: 149 | G21: 62 | H21: 32 | I21: 18 | J21: 7 | K21: 12
A22: 2. Vừa làm vừa học | B22: =SUM(C22:K22) -> 0
H23: Ngày 29 tháng 12 năm 2014
H24: Hiệu trưởng
A25: Người lập biểu
H29: Phạm Hữu Lộc

Sheet bieu2 CĐ
A1: Biểu số: 02.1- CĐ | B1: Sinh viên đang học chia theo ngành đào tạo | K1: Đơn vị báo cáo:
A2: Ban hành theo Quyết định | B2: Năm học 2014 - 2015 | K2: =Bia!$C$10 -> Tr.CĐ Kỹ thuật Lý Tự Trọng TP HCM
A3: số 5363/QĐ-BGDĐT | C3: Cao đẳng
A4: ngày 14/11/2013 của Bộ trưởng | C4: Hệ chính qui
A5: Ngày nhận báo cáo: 31/12
B7: Mã | C7: Tổng số | D7: Trong đó | G7: Tổng số sinh viên chia theo năm đào tạo | K7: Ghi chú
B8: số (1) | C8: sinh viên | D8: Nữ | E8: Dân tộc ít người | G8: Năm | H8: Năm | I8: Năm | J8: Năm
E9: T.số | F9: Tr.đó: Nữ | G9: thứ 1 | H9: thứ 2 | I9: thứ 3 | J9: thứ 4
B10: 1 | C10: 2 | D10: 3 | E10: 4 | F10: 5 | G10: 6 | H10: 7 | I10: 8 | J10: 9 | K10: 10
A11: Tổng số | C11: =SUM(C12:C59) -> 2466 | D11: =SUM(D12:D59) -> 145 | E11: =SUM(E12:E59) -> 87 | F11: =SUM(F12:F59) -> 6 | G11: =SUM(G12:G59) -> 874 | H11: =SUM(H12:H59) -> 943 | I11: =SUM(I12:I59) -> 649 | J11: =SUM(J12:J59) -> 0 | O11: =IF(OR(C11<D11,C11<F11,C11<E11),"Er","") | P11: =IF(OR(C11<D11,D11<F11),"Er","") | Q11: =IF(OR(C11<E11,E11<F11),"Er","") | R11: =IF(OR(C11<F11,D11<F11,E11<F11),"Er","")
A12: =IF(ISNA( VLOOKUP(B12,NGHANH_CD_LIST,2,FALSE)),"",VLOOKUP(B12,NGHANH_CD_LIST,2,FALSE)) | C12: =SUM(G12:J12) -> 0 | K12: (1) Ghi theo tên tuyển sinh và mã số | O12: =IF(OR(C12<D12,C12<F12,C12<E12),"Er","") | P12: =IF(OR(C12<D12,D12<F12),"Er","") | Q12: =IF(OR(C12<E12,E12<F12),"Er","") | R12: =IF(OR(C12<F12,D12<F12,E12<F12),"Er","")
A13: =IF(ISNA( VLOOKUP(B13,NGHANH_CD_LIST,2,FALSE)),"",VLOOKUP(B13,NGHANH_CD_LIST,2,FALSE)) -> Công nghệ kỹ thuật điện, điện tử và viễn thông | B13: 515103 | C13: =SUM(G13:J13) -> 722 | D13: 1 | E13: 19 | F13: 0 | G13: 220 | H13: 273 | I13: 229 | J13: 0 | K13: ngành (theo TT số 34/2011/TT-BGDĐT | O13: =IF(OR(C13<D13,C13<F13,C13<E13),"Er","") | P13: =IF(OR(C13<D13,D13<F13),"Er","") | Q13: =IF(OR(C13<E13,E13<F13),"Er","") | R13: =IF(OR(C13<F13,D13<F13,E13<F13),"Er","")
A14: =IF(ISNA( VLOOKUP(B14,NGHANH_CD_LIST,2,FALSE)),"",VLOOKUP(B14,NGHANH_CD_LIST,2,FALSE)) -> Công nghệ kỹ thuật cơ khí | B14: 515102 | C14: =SUM(G14:J14) -> 1245 | D14: 4 | E14: 36 | F14: 0 | G14: 506 | H14: 462 | I14: 277 | J14: 0 | K14: ngày 11/8/2011) | O14: =IF(OR(C14<D14,C14<F14,C14<E14),"Er","") | P14: =IF(OR(C14<D14,D14<F14),"Er","") | Q14: =IF(OR(C14<E14,E14<F14),"Er","") | R14: =IF(OR(C14<F14,D14<F14,E14<F14),"Er","")
A15: =IF(ISNA( VLOOKUP(B15,NGHANH_CD_LIST,2,FALSE)),"",VLOOKUP(B15,NGHANH_CD_LIST,2,FALSE)) -> Sản xuất, chế biến sợi, vải, giày, da | B15: 515402 | C15: =SUM(G15:J15) -> 122 | D15: 112 | E15: 3 | F15: 3 | G15: 38 | H15: 57 | I15: 27 | J15: 0 | K15: * Tổng số: kể cả đào tạo tại trường, | O15: =IF(OR(C15<D15,C15<F15,C15<E15),"Er","") | P15: =IF(OR(C15<D15,D15<F15),"Er","") | Q15: =IF(OR(C15<E15,E15<F15),"Er","") | R15: =IF(OR(C15<F15,D15<F15,E15<F15),"Er","")
A16: =IF(ISNA( VLOOKUP(B16,NGHANH_CD_LIST,2,FALSE)),"",VLOOKUP(B16,NGHANH_CD_LIST,2,FALSE)) -> Công nghệ thông tin | B16: 514802 | C16: =SUM(G16:J16) -> 377 | D16: 28 | E16: 29 | F16: 3 | G16: 110 | H16: 151 | I16: 116 | J16: 0 | K16: liên kết đào tạo với nơi khác nhưng | O16: =IF(OR(C16<D16,C16<F16,C16<E16),"Er","") | P16: =IF(OR(C16<D16,D16<F16),"Er","") | Q16: =IF(OR(C16<E16,E16<F16),"Er","") | R16: =IF(OR(C16<F16,D16<F16,E16<F16),"Er","")
A17: =IF(ISNA( VLOOKUP(B17,NGHANH_CD_LIST,2,FALSE)),"",VLOOKUP(B17,NGHANH_CD_LIST,2,FALSE)) | C17: =SUM(G17:J17) -> 0 | K17: trường cấp bằng, đào tạo theo địa chỉ | O17: =IF(OR(C17<D17,C17<F17,C17<E17),"Er","") | P17: =IF(OR(C17<D17,D17<F17),"Er","") | Q17: =IF(OR(C17<E17,E17<F17),"Er","") | R17: =IF(OR(C17<F17,D17<F17,E17<F17),"Er","")
A18: =IF(ISNA( VLOOKUP(B18,NGHANH_CD_LIST,2,FALSE)),"",VLOOKUP(B18,NGHANH_CD_LIST,2,FALSE)) | C18: =SUM(G18:J18) -> 0 | K18: *Trường SP có đào tạo giáo viên | O18: =IF(OR(C18<D18,C18<F18,C18<E18),"Er","") | P18: =IF(OR(C18<D18,D18<F18),"Er","") | Q18: =IF(OR(C18<E18,E18<F18),"Er","") | R18: =IF(OR(C18<F18,D18<F18,E18<F18),"Er","")
A19: =IF(ISNA( VLOOKUP(B19,NGHANH_CD_LIST,2,FALSE)),"",VLOOKUP(B19,NGHANH_CD_LIST,2,FALSE)) | C19: =SUM(G19:J19) -> 0 | K19: phòng chống HIV | O19: =IF(OR(C19<D19,C19<F19,C19<E19),"Er","") | P19: =IF(OR(C19<D19,D19<F19),"Er","") | Q19: =IF(OR(C19<E19,E19<F19),"Er","") | R19: =IF(OR(C19<F19,D19<F19,E19<F19),"Er","")
A20: =IF(ISNA( VLOOKUP(B20,NGHANH_CD_LIST,2,FALSE)),"",VLOOKUP(B20,NGHANH_CD_LIST,2,FALSE)) | C20: =SUM(G20:J20) -> 0 | O20: =IF(OR(C20<D20,C20<F20,C20<E20),"Er","") | P20: =IF(OR(C20<D20,D20<F20),"Er","") | Q20: =IF(OR(C20<E20,E20<F20),"Er","") | R20: =IF(OR(C20<F20,D20<F20,E20<F20),"Er","")
A21: =IF(ISNA( VLOOKUP(B21,NGHANH_CD_LIST,2,FALSE)),"",VLOOKUP(B21,NGHANH_CD_LIST,2,FALSE)) | C21: =SUM(G21:J21) -> 0 | O21: =IF(OR(C21<D21,C21<F21,C21<E21),"Er","") | P21: =IF(OR(C21<D21,D21<F21),"Er","") | Q21: =IF(OR(C21<E21,E21<F21),"Er","") | R21: =IF(OR(C21<F21,D21<F21,E21<F21),"Er","")
A22: =IF(ISNA( VLOOKUP(B22,NGHANH_CD_LIST,2,FALSE)),"",VLOOKUP(B22,NGHANH_CD_LIST,2,FALSE)) | C22: =SUM(G22:J22) -> 0 | O22: =IF(OR(C22<D22,C22<F22,C22<E22),"Er","") | P22: =IF(OR(C22<D22,D22<F22),"Er","") | Q22: =IF(OR(C22<E22,E22<F22),"Er","") | R22: =IF(OR(C22<F22,D22<F22,E22<F22),"Er","")
A23: =IF(ISNA( VLOOKUP(B23,NGHANH_CD_LIST,2,FALSE)),"",VLOOKUP(B23,NGHANH_CD_LIST,2,FALSE)) | C23: =SUM(G23:J23) -> 0 | O23: =IF(OR(C23<D23,C23<F23,C23<E23),"Er","") | P23: =IF(OR(C23<D23,D23<F23),"Er","") | Q23: =IF(OR(C23<E23,E23<F23),"Er","") | R23: =IF(OR(C23<F23,D23<F23,E23<F23),"Er","")
A24: =IF(ISNA( VLOOKUP(B24,NGHANH_CD_LIST,2,FALSE)),"",VLOOKUP(B24,NGHANH_CD_LIST,2,FALSE)) | C24: =SUM(G24:J24) -> 0 | O24: =IF(OR(C24<D24,C24<F24,C24<E24),"Er","") | P24: =IF(OR(C24<D24,D24<F24),"Er","") | Q24: =IF(OR(C24<E24,E24<F24),"Er","") | R24: =IF(OR(C24<F24,D24<F24,E24<F24),"Er","")
A25: =IF(ISNA( VLOOKUP(B25,NGHANH_CD_LIST,2,FALSE)),"",VLOOKUP(B25,NGHANH_CD_LIST,2,FALSE)) | C25: =SUM(G25:J25) -> 0 | O25: =IF(OR(C25<D25,C25<F25,C25<E25),"Er","") | P25: =IF(OR(C25<D25,D25<F25),"Er","") | Q25: =IF(OR(C25<E25,E25<F25),"Er","") | R25: =IF(OR(C25<F25,D25<F25,E25<F25),"Er","")
A26: =IF(ISNA( VLOOKUP(B26,NGHANH_CD_LIST,2,FALSE)),"",VLOOKUP(B26,NGHANH_CD_LIST,2,FALSE)) | C26: =SUM(G26:J26) -> 0 | O26: =IF(OR(C26<D26,C26<F26,C26<E26),"Er","") | P26: =IF(OR(C26<D26,D26<F26),"Er","") | Q26: =IF(OR(C26<E26,E26<F26),"Er","") | R26: =IF(OR(C26<F26,D26<F26,E26<F26),"Er","")
A27: =IF(ISNA( VLOOKUP(B27,NGHANH_CD_LIST,2,FALSE)),"",VLOOKUP(B27,NGHANH_CD_LIST,2,FALSE)) | C27: =SUM(G27:J27) -> 0 | O27: =IF(OR(C27<D27,C27<F27,C27<E27),"Er","") | P27: =IF(OR(C27<D27,D27<F27),"Er","") | Q27: =IF(OR(C27<E27,E27<F27),"Er","") | R27: =IF(OR(C27<F27,D27<F27,E27<F27),"Er","")
A28: =IF(ISNA( VLOOKUP(B28,NGHANH_CD_LIST,2,FALSE)),"",VLOOKUP(B28,NGHANH_CD_LIST,2,FALSE)) | C28: =SUM(G28:J28) -> 0 | O28: =IF(OR(C28<D28,C28<F28,C28<E28),"Er","") | P28: =IF(OR(C28<D28,D28<F28),"Er","") | Q28: =IF(OR(C28<E28,E28<F28),"Er","") | R28: =IF(OR(C28<F28,D28<F28,E28<F28),"Er","")
A29: =IF(ISNA( VLOOKUP(B29,NGHANH_CD_LIST,2,FALSE)),"",VLOOKUP(B29,NGHANH_CD_LIST,2,FALSE)) | C29: =SUM(G29:J29) -> 0 | O29: =IF(OR(C29<D29,C29<F29,C29<E29),"Er","") | P29: =IF(OR(C29<D29,D29<F29),"Er","") | Q29: =IF(OR(C29<E29,E29<F29),"Er","") | R29: =IF(OR(C29<F29,D29<F29,E29<F29),"Er","")
A30: =IF(ISNA( VLOOKUP(B30,NGHANH_CD_LIST,2,FALSE)),"",VLOOKUP(B30,NGHANH_CD_LIST,2,FALSE)) | C30: =SUM(G30:J30) -> 0 | O30: =IF(OR(C30<D30,C30<F30,C30<E30),"Er","") | P30: =IF(OR(C30<D30,D30<F30),"Er","") | Q30: =IF(OR(C30<E30,E30<F30),"Er","") | R30: =IF(OR(C30<F30,D30<F30,E30<F30),"Er","")
A31: =IF(ISNA( VLOOKUP(B31,NGHANH_CD_LIST,2,FALSE)),"",VLOOKUP(B31,NGHANH_CD_LIST,2,FALSE)) | C31: =SUM(G31:J31) -> 0 | O31: =IF(OR(C31<D31,C31<F31,C31<E31),"Er","") | P31: =IF(OR(C31<D31,D31<F31),"Er","") | Q31: =IF(OR(C31<E31,E31<F31),"Er","") | R31: =IF(OR(C31<F31,D31<F31,E31<F31),"Er","")
... A59: =IF(ISNA( VLOOKUP(B59,NGHANH_CD_LIST,2,FALSE)),"",VLOOKUP(B59,NGHANH_CD_LIST,2,FALSE)) | C59: =SUM(G59:J59) -> 0 | O59: =IF(OR(C59<D59,C59<F59,C59<E59),"Er","") | P59: =IF(OR(C59<D59,D59<F59),"Er","") | Q59: =IF(OR(C59<E59,E59<F59),"Er","") | R59: =IF(OR(C59<F59,D59<F59,E59<F59),"Er","")
J60: Ngày 29 tháng 12 năm 2014
A61: Người lập biểu | J61: Hiệu trưởng
K67: Phạm Hữu Lộc
A70: Biểu số: 02.2-CĐ | B70: Sinh viên đang học chia theo ngành đào tạo | K70: Đơn vị báo cáo:
A71: Ban hành theo Quyết định | B71: Năm học 201… - 201… | K71: =Bia!$C$10 -> Tr.CĐ Kỹ thuật Lý Tự Trọng TP HCM
A72: số 5363/QĐ-BGDĐT | C72: Cao đẳng
A73: ngày 14/11/2013 của Bộ trưởng | C73: Hệ cử tuyển
A74: Ngày nhận báo cáo: 31/12
B75: Trường không đào tạo hệ này nên không có số liệu báo cáo.
...

Sheet bieu2 TCCN
A1: Biểu số: 02.1- TCCN | B1: HỌC SINH ĐANG HỌC CHIA THEO NGÀNH ĐÀO TẠO | K1: Đơn vị báo cáo
A2: Ban hành theo Quyết định | B2: Năm học 2014 - 2015 | K2: =Bia!$C$10 -> Tr.CĐ Kỹ thuật Lý Tự Trọng TP HCM
A3: số 5363/QĐ-BGDĐT | B3: Trung cấp chuyên nghiệp
A4: ngày 14/11/2013 của Bộ trưởng | C4: Hệ chính quy
A5: Ngày nhận báo cáo: 31/12
B7: Mã | C7: Tổng số | D7: Trong đó | G7: Tổng sổ sinh viên chia theo năm đào tạo | K7: Ghi chú
B8: số (1) | C8: sinh viên | D8: Nữ | E8: Dân tộc ít người | G8: Năm | H8: Năm | I8: Năm | J8: Năm
E9: Tổng số | F9: Tr.đó: Nữ | G9: thứ 1 | H9: thứ 2 | I9: thứ 3 | J9: thứ 4
A10: A | B10: 1 | C10: 2 | D10: 3 | E10: 4 | F10: 5 | G10: 6 | H10: 7 | I10: 8 | J10: 9 | K10: 10
A11: Tổng số | C11: =SUM(C12:C20) -> 584 | D11: =SUM(D12:D20) -> 51 | E11: =SUM(E12:E20) -> 25 | F11: =SUM(F12:F20) -> 2 | G11: =SUM(G12:G20) -> 367 | H11: =SUM(H12:H20) -> 217 | I11: =SUM(I12:I20) -> 0 | J11: =SUM(J12:J20) -> 0 | O11: =IF(OR(C11<D11,C11<F11,C11<E11),"Er","") | P11: =IF(OR(C11<D11,D11<F11),"Er","") | Q11: =IF(OR(C11<E11,E11<F11),"Er","") | R11: =IF(OR(C11<F11,D11<F11,E11<F11),"Er","")
A12: Phân theo ngành đào tạo | B12: x | C12: x | D12: x | E12: x | F12: x | G12: x | H12: x | I12: x | J12: x | K12: (1) Ghi theo tên tuyển sinh và mã số | O12: =IF(OR(C12<D12,C12<F12,C12<E12),"Er","") | P12: =IF(OR(C12<D12,D12<F12),"Er","") | Q12: =IF(OR(C12<E12,E12<F12),"Er","") | R12: =IF(OR(C12<F12,D12<F12,E12<F12),"Er","")
A13: 1.Ngành Điện tử Công Nghiệp | B13: 42510315 | C13: =SUM(G13:J13) -> 27 | D13: 0 | E13: 0 | F13: 0 | G13: 14 | H13: 13 | I13: 0 | J13: 0 | K13: ngành theo | O13: =IF(OR(C13<D13,C13<F13,C13<E13),"Er","") | P13: =IF(OR(C13<D13,D13<F13),"Er","") | Q13: =IF(OR(C13<E13,E13<F13),"Er","") | R13: =IF(OR(C13<F13,D13<F13,E13<F13),"Er","")
A14: 2.Ngành Điện công nghiệp & Dân dụng | B14: 42510317 | C14: =SUM(G14:J14) -> 124 | D14: 0 | E14: 3 | F14: 0 | G14: 70 | H14: 54 | I14: 0 | J14: 0 | K14: (Thông tư số 34/2011/TT-BGDĐT | O14: =IF(OR(C14<D14,C14<F14,C14<E14),"Er","") | P14: =IF(OR(C14<D14,D14<F14),"Er","") | Q14: =IF(OR(C14<E14,E14<F14),"Er","") | R14: =IF(OR(C14<F14,D14<F14,E14<F14),"Er","")
A15: 3.Ngành Công nghệ kỹ thuật nhiệt | B15: 42510219 | C15: =SUM(G15:J15) -> 76 | D15: 0 | E15: 6 | F15: 0 | G15: 50 | H15: 26 | I15: 0 | J15: 0 | K15: ngày 11/8/2011) | O15: =IF(OR(C15<D15,C15<F15,C15<E15),"Er","") | P15: =IF(OR(C15<D15,D15<F15),"Er","") | Q15: =IF(OR(C15<E15,E15<F15),"Er","") | R15: =IF(OR(C15<F15,D15<F15,E15<F15),"Er","")
A16: 4.Ngành Cơ khí chế tạo | B16: 42510204 | C16: =SUM(G16:J16) -> 87 | D16: 0 | E16: 4 | F16: 0 | G16: 60 | H16: 27 | I16: 0 | J16: 0 | K16: * Tổng số: kể cả đào tạo tại trường, | O16: =IF(OR(C16<D16,C16<F16,C16<E16),"Er","") | P16: =IF(OR(C16<D16,D16<F16),"Er","") | Q16: =IF(OR(C16<E16,E16<F16),"Er","") | R16: =IF(OR(C16<F16,D16<F16,E16<F16),"Er","")
A17: 5.Ngành Bảo trì và sửa chữa Ô Tô | B17: 42510225 | C17: =SUM(G17:J17) -> 166 | D17: 0 | E17: 7 | F17: 0 | G17: 115 | H17: 51 | I17: 0 | J17: 0 | K17: liên kết đào tạo với nơi khác nhưng | O17: =IF(OR(C17<D17,C17<F17,C17<E17),"Er","") | P17: =IF(OR(C17<D17,D17<F17),"Er","") | Q17: =IF(OR(C17<E17,E17<F17),"Er","") | R17: =IF(OR(C17<F17,D17<F17,E17<F17),"Er","")
A18: 6.Ngành Công nghệ May và Thời trang | B18: 42540205 | C18: =SUM(G18:J18) -> 54 | D18: 50 | E18: 2 | F18: 2 | G18: 33 | H18: 21 | I18: 0 | J18: 0 | K18: trường cấp bằng, đào tạo theo địa chỉ | O18: =IF(OR(C18<D18,C18<F18,C18<E18),"Er","") | P18: =IF(OR(C18<D18,D18<F18),"Er","") | Q18: =IF(OR(C18<E18,E18<F18),"Er","") | R18: =IF(OR(C18<F18,D18<F18,E18<F18),"Er","")
A19: 7.Ngành Lập trình | B19: 42480203 | C19: =SUM(G19:J19) -> 0 | D19: 0 | E19: 0 | F19: 0 | G19: 0 | H19: 0 | I19: 0 | J19: 0 | O19: =IF(OR(C19<D19,C19<F19,C19<E19),"Er","") | P19: =IF(OR(C19<D19,D19<F19),"Er","") | Q19: =IF(OR(C19<E19,E19<F19),"Er","") | R19: =IF(OR(C19<F19,D19<F19,E19<F19),"Er","")
A20: 8.Ngành Quản trị mạng máy tính | B20: 42480202 | C20: =SUM(G20:J20) -> 50 | D20: 1 | E20: 3 | F20: 0 | G20: 25 | H20: 25 | I20: 0 | J20: 0 | O20: =IF(OR(C20<D20,C20<F20,C20<E20),"Er","") | P20: =IF(OR(C20<D20,D20<F20),"Er","") | Q20: =IF(OR(C20<E20,E20<F20),"Er","") | R20: =IF(OR(C20<F20,D20<F20,E20<F20),"Er","")
J21: Ngày 29 tháng 12 năm 2014
A22: Người lập biểu | J22: Hiệu trưởng
J27: Phạm Hữu Lộc
A30: Biểu số: 02.2-TCCN | B30: HỌC SINH ĐANG HỌC CHIA THEO NGÀNH ĐÀO TẠO | K30: Đơn vị báo cáo
A31: Ban hành theo Quyết định | B31: Năm học 201… - 201… | K31: =Bia!$C$10 -> Tr.CĐ Kỹ thuật Lý Tự Trọng TP HCM
A32: số 5363/QĐ-BGDĐT | B32: Trung cấp chuyên nghiệp
A33: ngày 14/11/2013 của Bộ trưởng | C33: Vừa làm vừa học
A34: Ngày nhận báo cáo: 31/12
B35: Trường không đào tạo hệ này nên không có số liệu báo cáo.
B37: Mã | C37: Tổng số | D37: Trong đó | G37: Tổng sổ sinh viên chia theo năm đào tạo | K37: Ghi chú
B38: số (1) | C38: sinh viên | D38: Nữ | E38: Dân tộc ít người | G38: Năm | H38: Năm | I38: Năm | J38: Năm
E39: Tổng số | F39: Tr.đó: Nữ | G39: thứ 1 | H39: thứ 2 | I39: thứ 3 | J39: thứ 4
A40: A | B40: 1 | C40: 2 | D40: 3 | E40: 4 | F40: 5 | G40: 6 | H40: 7 | I40: 8 | J40: 9 | K40: 10
A41: Tổng số | C41: =SUM(C42,C50) -> 0 | D41: =SUM(D42,D50) -> 0 | E41: =SUM(E42,E50) -> 0 | F41: =SUM(F42,F50) -> 0 | G41: =SUM(G42,G50) -> 0 | H41: =SUM(H42,H50) -> 0 | I41: =SUM(I42,I50) -> 0 | J41: =SUM(J42,J50) -> 0 | O41: =IF(OR(C41<D41,C41<F41,C41<E41),"Er","") | P41: =IF(OR(C41<D41,D41<F41),"Er","") | Q41: =IF(OR(C41<E41,E41<F41),"Er","") | R41: =IF(OR(C41<F41,D41<F41,E41<F41),"Er","")
A42: I-Đào tạo tại trường | C42: =SUM(C43:C49) -> 0 | D42: =SUM(D43:D49) -> 0 | E42: =SUM(E43:E49) -> 0 | F42: =SUM(F43:F49) -> 0 | G42: =SUM(G43:G49) -> 0 | H42: =SUM(H43:H49) -> 0 | I42: =SUM(I43:I49) -> 0 | J42: =SUM(J43:J49) -> 0 | K42: (1) Ghi theo tên tuyển sinh và mã số | O42: =IF(OR(C42<D42,C42<F42,C42<E42),"Er","") | P42: =IF(OR(C42<D42,D42<F42),"Er","") | Q42: =IF(OR(C42<E42,E42<F42),"Er","") | R42: =IF(OR(C42<F42,D42<F42,E42<F42),"Er","")
A43: Phân theo ngành đào tạo | B43: x | C43: x | D43: x | E43: x | F43: x | G43: x | H43: x | I43: x | J43: x | K43: ngành theo (Thông tư số | O43: =IF(OR(C43<D43,C43<F43,C43<E43),"Er","") | P43: =IF(OR(C43<D43,D43<F43),"Er","") | Q43: =IF(OR(C43<E43,E43<F43),"Er","") | R43: =IF(OR(C43<F43,D43<F43,E43<F43),"Er","")
A44: 1.Ngành | C44: =SUM(G44:J44) -> 0 | K44: 34/2011/TT-BGDĐT ngày 11/8/2011) | O44: =IF(OR(C44<D44,C44<F44,C44<E44),"Er","") | P44: =IF(OR(C44<D44,D44<F44),"Er","") | Q44: =IF(OR(C44<E44,E44<F44),"Er","") | R44: =IF(OR(C44<F44,D44<F44,E44<F44),"Er","")
A45: 2.Ngành | C45: =SUM(G45:J45) -> 0 | O45: =IF(OR(C45<D45,C45<F45,C45<E45),"Er","") | P45: =IF(OR(C45<D45,D45<F45),"Er","") | Q45: =IF(OR(C45<E45,E45<F45),"Er","") | R45: =IF(OR(C45<F45,D45<F45,E45<F45),"Er","")
A46: 3.Ngành | C46: =SUM(G46:J46) -> 0 | O46: =IF(OR(C46<D46,C46<F46,C46<E46),"Er","") | P46: =IF(OR(C46<D46,D46<F46),"Er","") | Q46: =IF(OR(C46<E46,E46<F46),"Er","") | R46: =IF(OR(C46<F46,D46<F46,E46<F46),"Er","")
A47: 4.Ngành | C47: =SUM(G47:J47) -> 0 | O47: =IF(OR(C47<D47,C47<F47,C47<E47),"Er","") | P47: =IF(OR(C47<D47,D47<F47),"Er","") | Q47: =IF(OR(C47<E47,E47<F47),"Er","") | R47: =IF(OR(C47<F47,D47<F47,E47<F47),"Er","")
A48: 5.Ngành | C48: =SUM(G48:J48) -> 0 | O48: =IF(OR(C48<D48,C48<F48,C48<E48),"Er","") | P48: =IF(OR(C48<D48,D48<F48),"Er","") | Q48: =IF(OR(C48<E48,E48<F48),"Er","") | R48: =IF(OR(C48<F48,D48<F48,E48<F48),"Er","")
...

Sheet bieu3
A1: Biểu số: 03.3- CĐ | B1: SINH VIÊN NƯỚC NGOÀI ĐANG HỌC | J1: Đơn vị báo cáo:
A2: Ban hành theo Quyết định | B2: Năm học 201… - 201… | J2: =Bia!$C$10 -> Tr.CĐ Kỹ thuật Lý Tự Trọng TP HCM
A3: số 5363/QĐ-BGDĐT | B3: Cao Đẳng
A4: ngày 14/11/2013 của Bộ trưởng
A5: Ngày nhận báo cáo: 31/12
B6: Hiện chưa có sinh viên nước ngoài theo học tại trường nên không có số liệu báo cáo.
E8: Tổng số sinh viên chia theo
B9: Mã | C9: Tổng số | D9: Trong đó | E9: năm đào tạo
B10: số (1) | C10: sinh viên | D10: Nữ | E10: Năm | F10: Năm | G10: Năm | H10: Năm | I10: Năm | J10: Năm | K10: Ghi chú
E11: thứ 1 | F11: thứ 2 | G11: thứ 3 | H11: thứ 4 | I11: thứ 5 | J11: thứ 6
A12: A | B12: 1 | C12: 2 | D12: 3 | E12: 4 | F12: 5 | G12: 6 | H12: 7 | I12: 8 | J12: 9 | K12: 10
A13: Tổng số | B13: =IF(ISNA( VLOOKUP(A13,NGHANH_CD_LIST,2,FALSE)),"",VLOOKUP(A13,NGHANH_CD_LIST,2,FALSE))
A14: I - Sinh viên nước (2) | K14: (1) Ghi theo tên tuyển sinh và mã số
K15: ngành (theo TT số 14/2010/TT-BGDĐT
K16: ngày 27/4/2010)
K17: (2) Ghi rõ tên nước có sinh viên người
K18: nước ngoài đang học
A22: II - Sinh viên nước (2)
J30: Ngày 29 tháng 12 năm 2014
A31: Người lập biểu | J31: Hiệu trưởng
J37: Phạm Hữu Lộc

Sheet bieu4a
A2: Biểu số: 04.2-CĐ | C2: Số sinh viên tốt nghiệp | K2: Đơn vị báo cáo:
A3: Ban hành theo Quyết định | C3: Năm 2014 | K3: =Bia!C10 -> Tr.CĐ Kỹ thuật Lý Tự Trọng TP HCM
A4: số 5363/QĐ-BGDĐT | C4: Cao Đẳng
A5: ngày 14/11/2013 của Bộ trưởng
A6: Ngày nhận báo cáo: 31/12
C7: A. Số lượng sinh viên tốt nghiệp
C8: Số | D8: Sinh viên tốt nghiệp
C9: sinh viên | E9: Trong đó | H9: Phân loại tốt nghiệp | M9: Ghi chú
C10: dự thi | D10: Tổng | F10: Dân tộc it người | H10: Loại | I10: Loại | J10: Loại | K10: Loại | L10: Loại
D11: số | E11: Nữ | F11: Tổng số | G11: Trong đó | H11: xuất | I11: giỏi | J11: khá | K11: trung bình | L11: trung
G12: Nữ | H12: sắc | K12: khá | L12: bình
A13: A | C13: 1 | D13: 2 | E13: 3 | F13: 4 | G13: 5 | H13: 6 | I13: 7 | J13: 8 | K13: 9 | L13: 10 | M13: 11
A14: ` | C14: =SUM(C15:C17) -> 1376 | D14: =SUM(D15:D17) -> 990 | E14: =SUM(E15:E17) -> 75 | F14: =SUM(F15:F17) -> 8 | G14: =SUM(G15:G17) -> 2 | H14: =SUM(H15:H17) -> 0 | I14: =SUM(I15:I17) -> 9 | J14: =SUM(J15:J17) -> 175 | ... L14: =SUM(L15:L17) -> 109 | O14: =IF(OR(D14<E14,D14<F14,D14<G14),"Er","") | P14: =IF(OR(D14<E14,E14<G14),"Er","") | Q14: =IF(OR(D14<F14,F14<G14),"Er","") | R14: =IF(OR(D14<G14,E14<G14,F14<G14),"Er","")
A15: 1. Hệ chính quy | C15: 1292 | D15: 917 | E15: 73 | F15: 8 | G15: 2 | I15: 7 | J15: 158 | K15: 647 | L15: 105 | M15: Số sinh viên dự thi bao gồm cả số SV làm luận văn tốt nghiệp, số SV tốt nghiệp kể cả đào tạo tại trường, liên kết với nơi khác nhưng trường cấp bằng, đào tạo theo địa chỉ | O15: =IF(OR(D15<E15,D15<F15,D15<G15),"Er","") | P15: =IF(OR(D15<E15,E15<G15),"Er","") | Q15: =IF(OR(D15<F15,F15<G15),"Er","") | R15: =IF(OR(D15<G15,E15<G15,F15<G15),"Er","")
A16: 2. Vừa làm vừa học | O16: =IF(OR(D16<E16,D16<F16,D16<G16),"Er","") | P16: =IF(OR(D16<E16,E16<G16),"Er","") | Q16: =IF(OR(D16<F16,F16<G16),"Er","") | R16: =IF(OR(D16<G16,E16<G16,F16<G16),"Er","")
A17: 3. Đào tạo liên thông | C17: 84 | D17: 73 | E17: 2 | I17: 2 | J17: 17 | K17: 50 | L17: 4 | O17: =IF(OR(D17<E17,D17<F17,D17<G17),"Er","") | P17: =IF(OR(D17<E17,E17<G17),"Er","") | Q17: =IF(OR(D17<F17,F17<G17),"Er","") | R17: =IF(OR(D17<G17,E17<G17,F17<G17),"Er","")
A18: Hình thức chinh quy | C18: 84 | D18: 73 | E18: 2 | I18: 2 | J18: 17 | K18: 50 | L18: 4 | O18: =IF(OR(D18<E18,D18<F18,D18<G18),"Er","") | P18: =IF(OR(D18<E18,E18<G18),"Er","") | Q18: =IF(OR(D18<F18,F18<G18),"Er","") | R18: =IF(OR(D18<G18,E18<G18,F18<G18),"Er","")
A19: Hình thức vừa làm vừa học | O19: =IF(OR(D19<E19,D19<F19,D19<G19),"Er","") | P19: =IF(OR(D19<E19,E19<G19),"Er","") | Q19: =IF(OR(D19<F19,F19<G19),"Er","") | R19: =IF(OR(D19<G19,E19<G19,F19<G19),"Er","")
A20: II- SV năm trước về thi lại: T.Số | C20: =SUM(C21:C23) -> 270 | D20: =SUM(D21:D23) -> 185 | E20: =SUM(E21:E23) -> 2 | F20: =SUM(F21:F23) -> 0 | G20: =SUM(G21:G23) -> 0 | H20: =SUM(H21:H23) -> 0 | I20: =SUM(I21:I23) -> 0 | J20: =SUM(J21:J23) -> 2 | ... L20: =SUM(L21:L23) -> 76 | O20: =IF(OR(D20<E20,D20<F20,D20<G20),"Er","") | P20: =IF(OR(D20<E20,E20<G20),"Er","") | Q20: =IF(OR(D20<F20,F20<G20),"Er","") | R20: =IF(OR(D20<G20,E20<G20,F20<G20),"Er","")
A21: 1. Hệ chính quy | C21: 258 | D21: 173 | E21: 2 | J21: 2 | K21: 101 | L21: 70 | O21: =IF(OR(D21<E21,D21<F21,D21<G21),"Er","") | P21: =IF(OR(D21<E21,E21<G21),"Er","") | Q21: =IF(OR(D21<F21,F21<G21),"Er","") | R21: =IF(OR(D21<G21,E21<G21,F21<G21),"Er","")
A22: 2. Vừa làm vừa học | O22: =IF(OR(D22<E22,D22<F22,D22<G22),"Er","") | P22: =IF(OR(D22<E22,E22<G22),"Er","") | Q22: =IF(OR(D22<F22,F22<G22),"Er","") | R22: =IF(OR(D22<G22,E22<G22,F22<G22),"Er","")
A23: 3. Đào tạo liên thông | C23: 12 | D23: 12 | K23: 6 | L23: 6 | O23: =IF(OR(D23<E23,D23<F23,D23<G23),"Er","") | P23: =IF(OR(D23<E23,E23<G23),"Er","") | Q23: =IF(OR(D23<F23,F23<G23),"Er","") | R23: =IF(OR(D23<G23,E23<G23,F23<G23),"Er","")
A24: Hình thức chinh quy | C24: 12 | D24: 12 | K24: 6 | L24: 6 | O24: =IF(OR(D24<E24,D24<F24,D24<G24),"Er","") | P24: =IF(OR(D24<E24,E24<G24),"Er","") | Q24: =IF(OR(D24<F24,F24<G24),"Er","") | R24: =IF(OR(D24<G24,E24<G24,F24<G24),"Er","")
A25: Hình thức vừa làm vừa học | O25: =IF(OR(D25<E25,D25<F25,D25<G25),"Er","") | P25: =IF(OR(D25<E25,E25<G25),"Er","") | Q25: =IF(OR(D25<F25,F25<G25),"Er","") | R25: =IF(OR(D25<G25,E25<G25,F25<G25),"Er","")
O26: =IF(OR(D26<E26,D26<F26,D26<G26),"Er","") | P26: =IF(OR(D26<E26,E26<G26),"Er","") | Q26: =IF(OR(D26<F26,F26<G26),"Er","") | R26: =IF(OR(D26<G26,E26<G26,F26<G26),"Er","")
J27: Ngày …. tháng …..năm …. | L27: Ngày 29 tháng 12 năm 2014
A28: Người lập biểu | J28: Hiệu trưởng | L28: Hiệu trưởng
J29: Ký tên và đóng dấu
A35: Nguyễn Văn Tấn | L35: Phạm Hữu Lộc
A37: Biểu số: 04.2.1-CĐ | C37: Số sinh viên tốt nghiệp | K37: Đơn vị báo cáo:
A38: Ban hành theo Quyết định | C38: Năm 2014 | K38: =Bia!C10 -> Tr.CĐ Kỹ thuật Lý Tự Trọng TP HCM
A39: số 5363/QĐ-BGDĐT | C39: Cao Đẳng
A40: ngày 14/11/2013 của Bộ trưởng
A41: Ngày nhận báo cáo: 31/12
A42: B. Sinh viên tốt nghiệp Hệ chính quy chia theo ngành đào tạo
B43: Mã số (1) | C43: Số | D43: Sinh viên tốt nghiệp hệ chính quy
C44: sinh viên | E44: Trong đó | H44: Phân loại tốt nghiệp | M44: Ghi chú
C45: dự thi | D45: Tổng | F45: Dân tộc ít người | H45: Loại | I45: Loại | J45: Loại | K45: Loại | L45: Loại
D46: số | E46: Nữ | F46: Tổng số | G46: Trong đó | H46: xuất | I46: giỏi | J46: khá | K46: trung bình | L46: trung
G47: Nữ | H47: sắc | K47: khá | L47: bình
...

Sheet bieu5.1
A1: Biểu số: 05.1A- ĐHCĐ | B1: Số cán bộ, giảng viên, nhân viên | N1: Đơn vị báo cáo:
A2: Ban hành theo Quyết định | B2: Năm học 2014 - 2015 | N2: =Bia!C10 -> Tr.CĐ Kỹ thuật Lý Tự Trọng TP HCM
A3: số 5363/QĐ-BGDĐT
A4: ngày 14/11/2013 của Bộ trưởng
A5: Ngày nhận báo cáo: 31/12
C6: Trong đó | J6: Chia theo trình độ đào tạo
B7: Tổng | D7: Dân tộc ít người | F7: Giáo | G7: Tr.đó: Nữ | H7: Phó | I7: Tr.đó: Nữ | J7: TSKH | K7: Tr.đó: Nữ | L7: Thạc | M7: Tr.đó: Nữ | N7: CK Y cấp I,II | O7: Tr.đó: Nữ | P7: Đại | Q7: Tr.đó: Nữ | R7: Cao | S7: Tr.đó: Nữ | U7: Tr.đó: Nữ
B8: số | C8: Nữ | D8: Tổng | E8: Tr.đó: Nữ | F8: sư | H8: giáo | J8: và Tiến | L8: sĩ | P8: học | R8: đẳng | T8: Khác
D9: số | H9: sư | J9: sĩ
A10: A | B10: 1 | C10: 2 | D10: 3 | E10: 4 | F10: 5 | G10: 6 | H10: 7 | I10: 8 | J10: 9 | K10: 10 | L10: 11 | M10: 12 | N10: 13 | O10: 14 | P10: 15 | Q10: 16 | R10: 17 | S10: 18 | T10: 19 | U10: 20
A11: Tổng số: (I+II) | B11: =SUM(B12,B18) -> 327 | C11: =SUM(C12,C18) -> 144 | D11: =SUM(D12,D18) -> 0 | E11: =SUM(E12,E18) -> 0 | F11: =SUM(F12,F18) -> 0 | G11: =SUM(G12,G18) -> 0 | H11: =SUM(H12,H18) -> 0 | I11: =SUM(I12,I18) -> 0 | ... U11: =SUM(U12,U18) -> 26 | W11: =IF(OR(B11<C11,B11<D11,B11<E11,B11<F11,B11<G11,B11<H11,B11<I11),"Er","") | X11: =IF(OR(B11<C11,C11<E11,C11<G11,C11<K11),"Er","") | Y11: =IF(OR(B11<D11,D11<E11),"Er","") | Z11: =IF(OR(B11<E11,C11<E11,D11<E11),"Er","") | AA11: =IF(OR(C11<F11),"Er","") | AB11: =IF(OR(C11<G11,F11<G11),"Er","") | AC11: =IF(OR(C11<H11),"Er","") | AD11: =IF(OR(C11<I11,H11<I11),"Er","")
A12: I- Cán bộ, nhân viên: | B12: =SUM(B13,B15,B17) -> 155 | C12: =SUM(C13,C15,C17) -> 75 | D12: =SUM(D13,D15,D17) -> 0 | E12: =SUM(E13,E15,E17) -> 0 | F12: =SUM(F13,F15,F17) -> 0 | G12: =SUM(G13,G15,G17) -> 0 | H12: =SUM(H13,H15,H17) -> 0 | I12: =SUM(I13,I15,I17) -> 0 | ... U12: =SUM(U13,U15,U17) -> 26 | W12: =IF(OR(B12<C12,B12<D12,B12<E12,B12<F12,B12<G12,B12<H12,B12<I12),"Er","") | X12: =IF(OR(B12<C12,C12<E12,C12<G12,C12<K12),"Er","") | Y12: =IF(OR(B12<D12,D12<E12),"Er","") | Z12: =IF(OR(B12<E12,C12<E12,D12<E12),"Er","") | AA12: =IF(OR(C12<F12),"Er","") | AB12: =IF(OR(C12<G12,F12<G12),"Er","") | AC12: =IF(OR(C12<H12),"Er","") | AD12: =IF(OR(C12<I12,H12<I12),"Er","")
A13: 1- Cán bộ quản lý | B13: =SUM(J13,L13,N13,P13,R13,T13) -> 4 | C13: =SUM(K13,M13,O13,Q13,S13,U13) -> 0 | J13: 1 | L13: 3 | W13: =IF(OR(B13<C13,B13<D13,B13<E13,B13<F13,B13<G13,B13<H13,B13<I13),"Er","") | X13: =IF(OR(B13<C13,C13<E13,C13<G13,C13<K13),"Er","") | Y13: =IF(OR(B13<D13,D13<E13),"Er","") | Z13: =IF(OR(B13<E13,C13<E13,D13<E13),"Er","") | AA13: =IF(OR(C13<F13),"Er","") | AB13: =IF(OR(C13<G13,F13<G13),"Er","") | AC13: =IF(OR(C13<H13),"Er","") | AD13: =IF(OR(C13<I13,H13<I13),"Er","")
A14: Trong đó: Kiêm nhiệm giảng dạy | B14: =SUM(J14,L14,N14,P14,R14,T14) -> 4 | C14: =SUM(K14,M14,O14,Q14,S14,U14) -> 0 | J14: 1 | L14: 3 | W14: =IF(OR(B14<C14,B14<D14,B14<E14,B14<F14,B14<G14,B14<H14,B14<I14),"Er","") | X14: =IF(OR(B14<C14,C14<E14,C14<G14,C14<K14),"Er","") | Y14: =IF(OR(B14<D14,D14<E14),"Er","") | Z14: =IF(OR(B14<E14,C14<E14,D14<E14),"Er","") | AA14: =IF(OR(C14<F14),"Er","") | AB14: =IF(OR(C14<G14,F14<G14),"Er","") | AC14: =IF(OR(C14<H14),"Er","") | AD14: =IF(OR(C14<I14,H14<I14),"Er","")
A15: 2- Cán bộ hành chính, nghiệp vụ, phục vụ (không bao gồm giảng viên ) | B15: =SUM(J15,L15,N15,P15,R15,T15) -> 139 | C15: =SUM(K15,M15,O15,Q15,S15,U15) -> 64 | L15: 16 | M15: 6 | N15: 1 | O15: 1 | P15: =8+54 -> 62 | Q15: 35 | R15: 25 | S15: 7 | T15: 35 | U15: 15 | W15: =IF(OR(B15<C15,B15<D15,B15<E15,B15<F15,B15<G15,B15<H15,B15<I15),"Er","") | X15: =IF(OR(B15<C15,C15<E15,C15<G15,C15<K15),"Er","") | Y15: =IF(OR(B15<D15,D15<E15),"Er","") | Z15: =IF(OR(B15<E15,C15<E15,D15<E15),"Er","") | AA15: =IF(OR(C15<F15),"Er","") | AB15: =IF(OR(C15<G15,F15<G15),"Er","") | AC15: =IF(OR(C15<H15),"Er","") | AD15: =IF(OR(C15<I15,H15<I15),"Er","")
A16: Trong đó: Kiêm nhiệm giảng dạy | B16: =SUM(J16,L16,N16,P16,R16,T16) -> 16 | C16: =SUM(K16,M16,O16,Q16,S16,U16) -> 3 | L16: 8 | M16: 2 | P16: 7 | Q16: 1 | R16: 1 | W16: =IF(OR(B16<C16,B16<D16,B16<E16,B16<F16,B16<G16,B16<H16,B16<I16),"Er","") | X16: =IF(OR(B16<C16,C16<E16,C16<G16,C16<K16),"Er","") | Y16: =IF(OR(B16<D16,D16<E16),"Er","") | Z16: =IF(OR(B16<E16,C16<E16,D16<E16),"Er","") | AA16: =IF(OR(C16<F16),"Er","") | AB16: =IF(OR(C16<G16,F16<G16),"Er","") | AC16: =IF(OR(C16<H16),"Er","") | AD16: =IF(OR(C16<I16,H16<I16),"Er","")
A17: 3- Nhân viên phục vụ | B17: =SUM(J17,L17,N17,P17,R17,T17) -> 12 | C17: =SUM(K17,M17,O17,Q17,S17,U17) -> 11 | T17: 12 | U17: 11 | W17: =IF(OR(B17<C17,B17<D17,B17<E17,B17<F17,B17<G17,B17<H17,B17<I17),"Er","") | X17: =IF(OR(B17<C17,C17<E17,C17<G17,C17<K17),"Er","") | Y17: =IF(OR(B17<D17,D17<E17),"Er","") | Z17: =IF(OR(B17<E17,C17<E17,D17<E17),"Er","") | AA17: =IF(OR(C17<F17),"Er","") | AB17: =IF(OR(C17<G17,F17<G17),"Er","") | AC17: =IF(OR(C17<H17),"Er","") | AD17: =IF(OR(C17<I17,H17<I17),"Er","")
A18: II- Giảng viên | B18: =SUM(J18,L18,N18,P18,R18,T18) -> 172 | C18: =SUM(K18,M18,O18,Q18,S18,U18) -> 69 | D18: =SUM(D19:D21) -> 0 | E18: =SUM(E19:E21) -> 0 | F18: =SUM(F19:F21) -> 0 | G18: =SUM(G19:G21) -> 0 | H18: =SUM(H19:H21) -> 0 | I18: =SUM(I19:I21) -> 0 | J18: =SUM(J19:J21) -> 0 | K18: =SUM(K19:K21) -> 0 | ... U18: =SUM(U19:U21) -> 0 | W18: =IF(OR(B18<C18,B18<D18,B18<E18,B18<F18,B18<G18,B18<H18,B18<I18),"Er","") | X18: =IF(OR(B18<C18,C18<E18,C18<G18,C18<K18),"Er","") | Y18: =IF(OR(B18<D18,D18<E18),"Er","") | Z18: =IF(OR(B18<E18,C18<E18,D18<E18),"Er","") | AA18: =IF(OR(C18<F18),"Er","") | AB18: =IF(OR(C18<G18,F18<G18),"Er","") | AC18: =IF(OR(C18<H18),"Er","") | AD18: =IF(OR(C18<I18,H18<I18),"Er","")
A19: 1. Cơ hữu | B19: =SUM(J19,L19,N19,P19,R19,T19) -> 171 | C19: =SUM(K19,M19,O19,Q19,S19,U19) -> 69 | L19: 78 | M19: 30 | P19: =171-L19 -> 93 | Q19: 39 | W19: =IF(OR(B19<C19,B19<D19,B19<E19,B19<F19,B19<G19,B19<H19,B19<I19),"Er","") | X19: =IF(OR(B19<C19,C19<E19,C19<G19,C19<K19),"Er","") | Y19: =IF(OR(B19<D19,D19<E19),"Er","") | Z19: =IF(OR(B19<E19,C19<E19,D19<E19),"Er","") | AA19: =IF(OR(C19<F19),"Er","") | AB19: =IF(OR(C19<G19,F19<G19),"Er","") | AC19: =IF(OR(C19<H19),"Er","") | AD19: =IF(OR(C19<I19,H19<I19),"Er","")
A20: 2. Hợp đồng có thời hạn | B20: =SUM(J20,L20,N20,P20,R20,T20) -> 1 | C20: =SUM(K20,M20,O20,Q20,S20,U20) -> 0 | L20: 0 | P20: 1 | W20: =IF(OR(B20<C20,B20<D20,B20<E20,B20<F20,B20<G20,B20<H20,B20<I20),"Er","") | X20: =IF(OR(B20<C20,C20<E20,C20<G20,C20<K20),"Er","") | Y20: =IF(OR(B20<D20,D20<E20),"Er","") | Z20: =IF(OR(B20<E20,C20<E20,D20<E20),"Er","") | AA20: =IF(OR(C20<F20),"Er","") | AB20: =IF(OR(C20<G20,F20<G20),"Er","") | AC20: =IF(OR(C20<H20),"Er","") | AD20: =IF(OR(C20<I20,H20<I20),"Er","")
A21: 3. Thử vịệc | B21: =SUM(J21,L21,N21,P21,R21,T21) -> 0 | C21: =SUM(K21,M21,O21,Q21,S21,U21) -> 0 | W21: =IF(OR(B21<C21,B21<D21,B21<E21,B21<F21,B21<G21,B21<H21,B21<I21),"Er","") | X21: =IF(OR(B21<C21,C21<E21,C21<G21,C21<K21),"Er","") | Y21: =IF(OR(B21<D21,D21<E21),"Er","") | Z21: =IF(OR(B21<E21,C21<E21,D21<E21),"Er","") | AA21: =IF(OR(C21<F21),"Er","") | AB21: =IF(OR(C21<G21,F21<G21),"Er","") | AC21: =IF(OR(C21<H21),"Er","") | AD21: =IF(OR(C21<I21,H21<I21),"Er","")
A22: Giảng viên chia theo độ tuổi: | B22: =SUM(J22,L22,N22,P22,R22,T22) -> 142 | C22: =SUM(K22,M22,O22,Q22,S22,U22) -> 56 | D22: =SUM(D24:D30) -> 0 | E22: =SUM(E24:E30) -> 0 | F22: =SUM(F24:F30) -> 0 | G22: =SUM(G24:G30) -> 0 | H22: =SUM(H24:H30) -> 0 | I22: =SUM(I24:I30) -> 0 | J22: =SUM(J24:J30) -> 0 | K22: =SUM(K24:K30) -> 0 | ... U22: =SUM(U24:U30) -> 0 | W22: =IF(OR(B22<C22,B22<D22,B22<E22,B22<F22,B22<G22,B22<H22,B22<I22),"Er","") | X22: =IF(OR(B22<C22,C22<E22,C22<G22,C22<K22),"Er","") | Y22: =IF(OR(B22<D22,D22<E22),"Er","") | Z22: =IF(OR(B22<E22,C22<E22,D22<E22),"Er","") | AA22: =IF(OR(C22<F22),"Er","") | AB22: =IF(OR(C22<G22,F22<G22),"Er","") | AC22: =IF(OR(C22<H22),"Er","") | AD22: =IF(OR(C22<I22,H22<I22),"Er","")
A23: Dưới 30 tuổi | B23: =SUM(J23,L23,N23,P23,R23,T23) -> 30 | C23: =SUM(K23,M23,O23,Q23,S23,U23) -> 13 | L23: 9 | M23: 4 | P23: 21 | Q23: 9 | W23: =IF(OR(B23<C23,B23<D23,B23<E23,B23<F23,B23<G23,B23<H23,B23<I23),"Er","") | X23: =IF(OR(B23<C23,C23<E23,C23<G23,C23<K23),"Er","") | Y23: =IF(OR(B23<D23,D23<E23),"Er","") | Z23: =IF(OR(B23<E23,C23<E23,D23<E23),"Er","") | AA23: =IF(OR(C23<F23),"Er","") | AB23: =IF(OR(C23<G23,F23<G23),"Er","") | AC23: =IF(OR(C23<H23),"Er","") | AD23: =IF(OR(C23<I23,H23<I23),"Er","")
A24: Từ 31 đến 35 | B24: =SUM(J24,L24,N24,P24,R24,T24) -> 46 | C24: =SUM(K24,M24,O24,Q24,S24,U24) -> 19 | L24: 30 | M24: 12 | P24: 16 | Q24: 7 | W24: =IF(OR(B24<C24,B24<D24,B24<E24,B24<F24,B24<G24,B24<H24,B24<I24),"Er","") | X24: =IF(OR(B24<C24,C24<E24,C24<G24,C24<K24),"Er","") | Y24: =IF(OR(B24<D24,D24<E24),"Er","") | Z24: =IF(OR(B24<E24,C24<E24,D24<E24),"Er","") | AA24: =IF(OR(C24<F24),"Er","") | AB24: =IF(OR(C24<G24,F24<G24),"Er","") | AC24: =IF(OR(C24<H24),"Er","") | AD24: =IF(OR(C24<I24,H24<I24),"Er","")
A25: Từ 36 đến 40 | B25: =SUM(J25,L25,N25,P25,R25,T25) -> 36 | C25: =SUM(K25,M25,O25,Q25,S25,U25) -> 16 | L25: 13 | M25: 5 | P25: 23 | Q25: 11 | W25: =IF(OR(B25<C25,B25<D25,B25<E25,B25<F25,B25<G25,B25<H25,B25<I25),"Er","") | X25: =IF(OR(B25<C25,C25<E25,C25<G25,C25<K25),"Er","") | Y25: =IF(OR(B25<D25,D25<E25),"Er","") | Z25: =IF(OR(B25<E25,C25<E25,D25<E25),"Er","") | AA25: =IF(OR(C25<F25),"Er","") | AB25: =IF(OR(C25<G25,F25<G25),"Er","") | AC25: =IF(OR(C25<H25),"Er","") | AD25: =IF(OR(C25<I25,H25<I25),"Er","")
A26: Từ 41 đến 45 | B26: =SUM(J26,L26,N26,P26,R26,T26) -> 23 | C26: =SUM(K26,M26,O26,Q26,S26,U26) -> 6 | L26: 8 | M26: 4 | P26: 15 | Q26: 2 | W26: =IF(OR(B26<C26,B26<D26,B26<E26,B26<F26,B26<G26,B26<H26,B26<I26),"Er","") | X26: =IF(OR(B26<C26,C26<E26,C26<G26,C26<K26),"Er","") | Y26: =IF(OR(B26<D26,D26<E26),"Er","") | Z26: =IF(OR(B26<E26,C26<E26,D26<E26),"Er","") | AA26: =IF(OR(C26<F26),"Er","") | AB26: =IF(OR(C26<G26,F26<G26),"Er","") | AC26: =IF(OR(C26<H26),"Er","") | AD26: =IF(OR(C26<I26,H26<I26),"Er","")
A27: Từ 46 đến 50 | B27: =SUM(J27,L27,N27,P27,R27,T27) -> 16 | C27: =SUM(K27,M27,O27,Q27,S27,U27) -> 4 | L27: 9 | M27: 3 | P27: 7 | Q27: 1 | W27: =IF(OR(B27<C27,B27<D27,B27<E27,B27<F27,B27<G27,B27<H27,B27<I27),"Er","") | X27: =IF(OR(B27<C27,C27<E27,C27<G27,C27<K27),"Er","") | Y27: =IF(OR(B27<D27,D27<E27),"Er","") | Z27: =IF(OR(B27<E27,C27<E27,D27<E27),"Er","") | AA27: =IF(OR(C27<F27),"Er","") | AB27: =IF(OR(C27<G27,F27<G27),"Er","") | AC27: =IF(OR(C27<H27),"Er","") | AD27: =IF(OR(C27<I27,H27<I27),"Er","")
A28: Từ 51 đến 55 | B28: =SUM(J28,L28,N28,P28,R28,T28) -> 18 | C28: =SUM(K28,M28,O28,Q28,S28,U28) -> 11 | L28: 7 | M28: 2 | P28: 11 | Q28: 9 | W28: =IF(OR(B28<C28,B28<D28,B28<E28,B28<F28,B28<G28,B28<H28,B28<I28),"Er","") | X28: =IF(OR(B28<C28,C28<E28,C28<G28,C28<K28),"Er","") | Y28: =IF(OR(B28<D28,D28<E28),"Er","") | Z28: =IF(OR(B28<E28,C28<E28,D28<E28),"Er","") | AA28: =IF(OR(C28<F28),"Er","") | AB28: =IF(OR(C28<G28,F28<G28),"Er","") | AC28: =IF(OR(C28<H28),"Er","") | AD28: =IF(OR(C28<I28,H28<I28),"Er","")
A29: Từ 56 đến 60 | B29: =SUM(J29,L29,N29,P29,R29,T29) -> 3 | C29: =SUM(K29,M29,O29,Q29,S29,U29) -> 0 | L29: 2 | M29: 0 | P29: 1 | Q29: 0 | W29: =IF(OR(B29<C29,B29<D29,B29<E29,B29<F29,B29<G29,B29<H29,B29<I29),"Er","") | X29: =IF(OR(B29<C29,C29<E29,C29<G29,C29<K29),"Er","") | Y29: =IF(OR(B29<D29,D29<E29),"Er","") | Z29: =IF(OR(B29<E29,C29<E29,D29<E29),"Er","") | AA29: =IF(OR(C29<F29),"Er","") | AB29: =IF(OR(C29<G29,F29<G29),"Er","") | AC29: =IF(OR(C29<H29),"Er","") | AD29: =IF(OR(C29<I29,H29<I29),"Er","")
A30: Trên 60 tuổi | B30: =SUM(J30,L30,N30,P30,R30,T30) -> 0 | C30: =SUM(K30,M30,O30,Q30,S30,U30) -> 0 | W30: =IF(OR(B30<C30,B30<D30,B30<E30,B30<F30,B30<G30,B30<H30,B30<I30),"Er","") | X30: =IF(OR(B30<C30,C30<E30,C30<G30,C30<K30),"Er","") | Y30: =IF(OR(B30<D30,D30<E30),"Er","") | Z30: =IF(OR(B30<E30,C30<E30,D30<E30),"Er","") | AA30: =IF(OR(C30<F30),"Er","") | AB30: =IF(OR(C30<G30,F30<G30),"Er","") | AC30: =IF(OR(C30<H30),"Er","") | AD30: =IF(OR(C30<I30,H30<I30),"Er","")
A31: Danh hiệu: - Nhà giáo nhân dân | B31: =SUM(J31,L31,N31,P31,R31,T31) -> 0 | C31: =SUM(K31,M31,O31,Q31,S31,U31) -> 0 | W31: =IF(OR(B31<C31,B31<D31,B31<E31,B31<F31,B31<G31,B31<H31,B31<I31),"Er","") | X31: =IF(OR(B31<C31,C31<E31,C31<G31,C31<K31),"Er","") | Y31: =IF(OR(B31<D31,D31<E31),"Er","") | Z31: =IF(OR(B31<E31,C31<E31,D31<E31),"Er","") | AA31: =IF(OR(C31<F31),"Er","") | AB31: =IF(OR(C31<G31,F31<G31),"Er","") | AC31: =IF(OR(C31<H31),"Er","") | AD31: =IF(OR(C31<I31,H31<I31),"Er","")
A32: - Nhà giáo ưu tú | B32: =SUM(J32,L32,N32,P32,R32,T32) -> 1 | C32: =SUM(K32,M32,O32,Q32,S32,U32) -> 0 | J32: 1 | W32: =IF(OR(B32<C32,B32<D32,B32<E32,B32<F32,B32<G32,B32<H32,B32<I32),"Er","") | X32: =IF(OR(B32<C32,C32<E32,C32<G32,C32<K32),"Er","") | Y32: =IF(OR(B32<D32,D32<E32),"Er","") | Z32: =IF(OR(B32<E32,C32<E32,D32<E32),"Er","") | AA32: =IF(OR(C32<F32),"Er","") | AB32: =IF(OR(C32<G32,F32<G32),"Er","") | AC32: =IF(OR(C32<H32),"Er","") | AD32: =IF(OR(C32<I32,H32<I32),"Er","")
A33: III-Giảng viên thỉnh giảng | B33: =SUM(J33,L33,N33,P33,R33,T33) -> 3 | C33: =SUM(K33,M33,O33,Q33,S33,U33) -> 1 | J33: 1 | K33: 0 | P33: 2 | Q33: 1 | W33: =IF(OR(B33<C33,B33<D33,B33<E33,B33<F33,B33<G33,B33<H33,B33<I33),"Er","") | X33: =IF(OR(B33<C33,C33<E33,C33<G33,C33<K33),"Er","") | Y33: =IF(OR(B33<D33,D33<E33),"Er","") | Z33: =IF(OR(B33<E33,C33<E33,D33<E33),"Er","") | AA33: =IF(OR(C33<F33),"Er","") | AB33: =IF(OR(C33<G33,F33<G33),"Er","") | AC33: =IF(OR(C33<H33),"Er","") | AD33: =IF(OR(C33<I33,H33<I33),"Er","")
P35: Ngày 29 tháng 12 năm 2014
A36: Người lập biểu | P36: Hiệu trưởng
A40: Trần Thị Thu Hà | P40: Phạm Hữu Lộc

Sheet bieu5.2
A1: Biểu số: 05.2- ĐHCĐ | B1: Số giảng viên chia theo khoa, tổ bộ môn | J1: Đơn vị báo cáo:
A2: Ban hành theo Quyết định | B2: Năm học 2014 - 2015 | J2: =Bia!C10 -> Tr.CĐ Kỹ thuật Lý Tự Trọng TP HCM
A3: số 5363/QĐ-BGDĐT
A4: ngày 14/11/2013 của Bộ trưởng
A5: Ngày nhận báo cáo: 31/12
C6: Trong đó | F6: Chia theo trình độ đào tạo
B7: Tổng | C7: Dân tộc ít người | F7: Giáo | G7: Phó | H7: TSKH | I7: Thạc | J7: Chuyên | K7: Đại | L7: Cao
B8: số | C8: Nữ | D8: Tổng | E8: Trong đó: | F8: sư | G8: giáo | H8: và Tiến | I8: sĩ | J8: khoa Y | K8: học | L8: đẳng | M8: Khác
D9: số | E9: Nữ | G9: sư | H9: sĩ | J9: cấp I và II
A10: A | B10: 1 | C10: 2 | D10: 3 | E10: 4 | F10: 5 | G10: 6 | H10: 7 | I10: 8 | J10: 9 | K10: 10 | L10: 11 | M10: 12
A11: Tổng số | B11: =SUM(B13:B19) -> 172 | C11: =SUM(C13:C19) -> 0 | D11: =SUM(D13:D19) -> 0 | E11: =SUM(E13:E19) -> 0 | F11: =SUM(F13:F19) -> 0 | G11: =SUM(G13:G19) -> 0 | H11: =SUM(H13:H19) -> 0 | I11: =SUM(I13:I19) -> 78 | ... M11: =SUM(M13:M19) -> 0
A12: Chia ra:
