Workbook
Name B1_BS_CI: bieu1!$B$34:$E$35
Name B1_BS_CII: bieu1!$B$35:$E$36
Name B1_BS_NT: bieu1!$B$36:$E$37
Name B1_CQTT: bieu1!$B$13:$E$14
Name B1_CU_TUYEN: bieu1!$B$15:$E$16
Name B1_DN_CDN: bieu1!$B$23:$E$24
Name B1_DN_NH: bieu1!$B$25:$E$26
Name B1_DN_TCN: bieu1!$B$24:$E$25
Name B1_HeCQ: bieu1!$B$20:$E$21
Name B1_LienThong_VLVH: bieu1!$B$18:$E$19
Name B1_LienThongCQ: bieu1!$B$14:$E$15
Name B1_PT_CHUYEN: bieu1!$B$28:$E$29
Name B1_PT_DBDH: bieu1!$B$27:$E$28
Name B1_PT_DTNT: bieu1!$B$29:$E$30
Name B1_SDH_CH: bieu1!$B$32:$E$33
Name B1_SDH_NCS: bieu1!$B$31:$E$32
Name B1_TCCN_VLVH: bieu1!$B$21:$E$22
Name B1_VHVL: bieu1!$B$17:$E$18
Name B2_BS_CI: 'bieu2 CD cac he'!$B$34:$E$35
Name B2_BS_CII: 'bieu2 CD cac he'!$B$35:$E$36
Name B2_BS_NT: 'bieu2 CD cac he'!$B$36:$E$37
Name B2_CD_CQTT: 'bieu2 CD cac he'!$B$13:$E$14
Name B2_CD_CT: 'bieu2 CD cac he'!$B$15:$E$16
Name B2_CD_LT: 'bieu2 CD cac he'!$B$18:$E$19
Name B2_CD_LTCQ: 'bieu2 CD cac he'!$B$14:$E$15
Name B2_CD_VLVH: 'bieu2 CD cac he'!$B$17:$E$18
Name B2_DN_CD: 'bieu2 CD cac he'!$B$23:$E$24
Name B2_DN_NH: 'bieu2 CD cac he'!$B$25:$E$26
Name B2_DN_TC: 'bieu2 CD cac he'!$B$24:$E$25
Name B2_DT_CD_CQ: 'bieu2 do tuoi'!$B$13:$K$14
Name B2_DT_CD_CT: 'bieu2 do tuoi'!$B$15:$K$16
Name B2_DT_CD_LT: 'bieu2 do tuoi'!$B$14:$K$15
Name B2_DT_CD_LTVHVL: 'bieu2 do tuoi'!$B$18:$K$19
Name B2_DT_CD_VLVH: 'bieu2 do tuoi'!$B$17:$K$18
Name B2_DT_TC_CQ: 'bieu2 do tuoi'!$B$20:$K$21
Name B2_DT_TC_VLVH: 'bieu2 do tuoi'!$B$21:$K$22
Name B2_PT_CHUYEN: 'bieu2 CD cac he'!$B$28:$E$29
Name B2_PT_DBDH: 'bieu2 CD cac he'!$B$27:$E$28
Name B2_PT_DTNT: 'bieu2 CD cac he'!$B$29:$E$30
Name B2_SDH_CH: 'bieu2 CD cac he'!$B$32:$E$33
Name B2_SDH_NCS: 'bieu2 CD cac he'!$B$31:$E$32
Name B2_TCCCN_VLVH: 'bieu2 CD cac he'!$B$21:$E$22
Name B2_TCCN_CQ: 'bieu2 CD cac he'!$B$20:$E$21
Name B24_CHUYEN: 'bieu2 TCCN'!$B$109:$H$110
Name B24_DTNT: 'bieu2 TCCN'!$B$112:$H$113
Name B24_HSDB: 'bieu2 TCCN'!$B$106:$H$107
Name B42_TL_CQ: bieu4a!$C$20:$L$21
Name B42_TL_LT_CQ: bieu4a!$C$23:$L$24
Name B42_TL_LT_VLVH: bieu4a!$C$24:$L$25
Name B42_TL_VLVH: bieu4a!$C$21:$L$22
Name B42_TN_CQ: bieu4a!$C$14:$L$15
Name B42_TN_LT_CQ: bieu4a!$C$17:$L$18
Name B42_TN_LT_VHVL: bieu4a!$C$18:$L$19
Name B42_TN_VLVH: bieu4a!$C$15:$L$16
Name B43_DN_CDN: bieu4a!$C$217:$L$218
Name B43_DNNH: bieu4a!$D$219:$G$220
Name B43_TC_CQ: bieu4a!$C$214:$L$215
Name B43_TC_VHVL: bieu4a!$C$215:$L$216
Name B43_TCN: bieu4a!$C$218:$L$219
Name B51_31: bieu5.1!$B$23:$U$24

Sheet CODE
F1: Cấu hình | J1: 51 | K1: TRÌNH ĐỘ CAO ĐẲNG
A2: Đồng bằng Sông Hồng | F2: ma_truong | G2: =VLOOKUP(Bia!C10,TRUONG_LIST,2,FALSE) -> CHCM11 | J2: 5114 | K2: Khoa học giáo dục và đào tạo giáo viên
A3: 1. Hà Nội | F3: CL | G3: =IF(Bia!O16,"1","2") -> 1 | J3: 511402 | K3: Đào tạo giáo viên
A4: Đại học Quốc gia Hà Nội | B4: DHNI01 | F4: CapHoc | G4: ="2" -> 2 | J4: 51140201 | K4: Giáo dục Mầm non
A5: Tr.ĐH Công nghệ | B5: DHNI02 | J5: 51140202 | K5: Giáo dục Tiểu học
A6: Tr.ĐH Khoa học tự nhiên | B6: DHNI03 | J6: 51140203 | K6: Giáo dục Đặc biệt
A7: Tr.ĐH Khoa học XH & Nhân văn | B7: DHNI04 | J7: 51140204 | K7: Giáo dục Công dân
A8: Tr.ĐH Ngoại ngữ | B8: DHNI05 | J8: 51140206 | K8: Giáo dục Thể chất
A9: Tr.ĐH Kinh tế | B9: DHNI06 | J9: 51140207 | K9: Huấn luyện thể thao*
A10: Tr.ĐH Giáo dục | B10: DHNI07 | J10: 51140208 | K10: Giáo dục Quốc phòng - An ninh
A11: Khoa Luật | B11: DHNI08 | J11: 51140209 | K11: Sư phạm Toán học
A12: Khoa Quốc tế | B12: DHNI09 | J12: 51140210 | K12: Sư phạm Tin học
A13: Tr.ĐH Khoa học và công nghệ Hà Nội | B13: DHNI10 | J13: 51140211 | K13: Sư phạm Vật lý
A14: Tr.ĐH Bách khoa Hà Nội | B14: DHNI11 | J14: 51140212 | K14: Sư phạm Hoá học
A15: Tr.ĐH Công đoàn | B15: DHNI12 | J15: 51140213 | K15: Sư phạm Sinh học
A16: Tr.ĐH Công nghiệp Hà Nội | B16: DHNI13 | J16: 51140214 | K16: Sư phạm Kỹ thuật công nghiệp
... A44: Học viện Ngân hàng | B44: DHNI41 | J44: 51210226 | K44: Diễn viên sân khấu kịch hát
A45: Học viện Ngoại giao | B45: DHNI42 | D45: a1b2c3d4e5f6g7 | J45: 51210227 | K45: Đạo diễn sân khấu
A46: Học viện Quản lý giáo dục | B46: DHNI43 | J46: 51210234 | K46: Diễn viên kịch - điện ảnh
A47: Học viện Tài chính | B47: DHNI44 | J47: 51210236 | K47: Quay phim
A48: Học viện Y dược học cổ truyền VN | B48: DHNI45 | J48: 51210242 | K48: Diễn viên múa
A49: Học viện Thanh thiếu niên Việt Nam | B49: DHNI46 | J49: 51210243 | K49: Biên đạo múa
A50: Học viện Khoa học Xã hội | B50: DHNI47 | J50: 51210244 | K50: Huấn luyện múa
A51: Học viện Phụ nữ Việt Nam | B51: DHNI48 | J51: 512103 | K51: Nghệ thuật nghe nhìn
A52: Viện đại học Mở Hà Nội | B52: DHNI49 | J52: 51210301 | K52: Nhiếp ảnh
A53: Tr.ĐH Công nghiệp Việt - Hung | B53: DHNI50 | J53: 51210302 | K53: Công nghệ điện ảnh - truyền hình
A54: Tr.ĐH Lâm nghiệp | B54: DHNI51 | J54: 51210303 | K54: Thiết kế âm thanh - ánh sáng
A55: Tr.ĐH Sư phạm thể dục thể thao Hà Nội | B55: DHNI52 | J55: 512104 | K55: Mỹ thuật ứng dụng
A56: Tr.ĐH Tài nguyên và môi trường HN | B56: DHNI53 | J56: 51210402 | K56: Thiết kế công nghiệp
A57: Tr.ĐH Công nghệ giao thông vận tải | B57: DHNI54 | J57: 51210403 | K57: Thiết kế đồ họa
... A97: Tr.CĐ Kỹ thuật công nghệ Bách Khoa (NCL) | B97: CHNI26 | J97: 51340121 | K97: Kinh doanh thương mại
A98: 2. Vĩnh Phúc | J98: 513402 | K98: Tài chính – Ngân hàng – Bảo hiểm
A99: Tr.ĐH Dầu khí Việt Nam | B99: DVPC01 | J99: 51340201 | K99: Tài chính – Ngân hàng
A100: Tr.ĐH Sư phạm Hà Nội II | B100: DVPC02 | J100: 51340202 | K100: Bảo hiểm
A101: Tr.ĐH Trưng Vương (NCL) | B101: DVPC03 | J101: 513403 | K101: Kế toán – Kiểm toán
A102: Tr.CĐ Công nghiệp Phúc Yên | B102: CVPC01 | J102: 51340301 | K102: Kế toán
A103: Tr.CĐ Kinh tế kỹ thuật Vĩnh Phúc | B103: CVPC02 | J103: 51340302 | K103: Kiểm toán
A104: Tr. CĐ Vĩnh Phúc | B104: CVPC03 | J104: 513404 | K104: Quản trị – Quản lý
A105: 3. Bắc Ninh | J105: 51340404 | K105: Quản trị nhân lực
A106: Học viện Chính sách và Phát triển | B106: DBNH01 | J106: 51340405 | K106: Hệ thống thông tin quản lý
A107: Tr.ĐH Thể dục thể thao Bắc Ninh | B107: DBNH02 | J107: 51340406 | K107: Quản trị văn phòng
A108: Tr.ĐH Công nghệ Đông Á (NCL) | B108: DBNH03 | J108: 51340407 | K108: Thư ký văn phòng
A109: Tr.ĐH Quốc tế Bắc Hà (NCL) | B109: DBNH04 | J109: 5138 | K109: Pháp luật
A110: Tr.ĐH Kinh Bắc (NCL) | B110: DBNH05 | J110: 513802 | K110: Dịch vụ pháp lý
A111: Tr.CĐ Sư phạm Bắc Ninh | B111: CBNH01 | J111: 51380201 | K111: Dịch vụ pháp lý
A112: Tr.CĐ Thủy Sản | B112: CBNH02 | J112: 5142 | K112: Khoa học sự sống
A113: Tr.CĐ Thống kê | B113: CBNH03 | J113: 514202 | K113: Sinh học ứng dụng
A114: Tr.CĐ Công nghệ Bắc Hà (NCL) | B114: CBNH04 | J114: 51420201 | K114: Công nghệ sinh học
A115: Tr.CĐ Đại Việt (NCL) | B115: CBNH05 | J115: 51420203 | K115: Sinh học ứng dụng
A116: Tr.CĐ Ngoại ngữ công nghệ Việt Nhật (NCL) | B116: CBNH06 | J116: 5144 | K116: Khoa học tự nhiên
A117: 4. Quảng Ninh | J117: 514402 | K117: Khoa học trái đất
A118: Tr.ĐH Công nghiệp Quảng Ninh | B118: DQNH01 | J118: 51440221 | K118: Khí tượng học
A119: Tr.CĐ Công nghiệp và Xây dựng | B119: CQNH01 | J119: 51440224 | K119: Thuỷ văn
A120: Tr.CĐ Công nghiệp Cẩm Phả | B120: CQNH02 | J120: 5146 | K120: Toán và thống kê
A121: Tr.CĐ Nông lâm Đông Bắc | B121: CQNH03 | J121: 514602 | K121: Thống kê
A122: Tr.CĐ Văn hóa nghệ thuật và du lịch Hạ Long | B122: CQNH04 | J122: 51460201 | K122: Thống kê
A123: Tr.CĐ Sư phạm Quảng Ninh | B123: CQNH05 | J123: 5148 | K123: Máy tính và công nghệ thông tin
A124: Tr.CĐ Y tế Quảng Ninh | B124: CQNH06 | J124: 514801 | K124: Máy tính
A125: 5. Hải Dương | J125: 51480101 | K125: Khoa học máy tính
A126: Tr.ĐH Kỹ thuật y tế Hải Dương | B126: DHDG01 | J126: 51480102 | K126: Truyền thông và mạng máy tính
A127: Tr.ĐH Sao Đỏ | B127: DHDG02 | J127: 51480104 | K127: Hệ thống thông tin
A128: Tr.ĐH Hải Dương | B128: DHDG03 | J128: 514802 | K128: Công nghệ thông tin
A129: Tr.ĐH Thành Đông (NCL) | B129: DHDG04 | J129: 51480201 | K129: Công nghệ thông tin
A130: Tr. CĐ Dược - TW Hải Dương | B130: CHDG01 | J130: 51480202 | K130: Tin học ứng dụng
A131: Tr.CĐ Hải Dương | B131: CHDG02 | J131: 5151 | K131: Công nghệ kỹ thuật
A132: Tr.CĐ Du lịch và Thương mại | B132: CHDG03 | J132: 515101 | K132: Công nghệ kỹ thuật kiến trúc và công trình xây dựng
A133: 6. Hải Phòng | J133: 51510101 | K133: Công nghệ kỹ thuật kiến trúc
A134: Tr.ĐH Hàng Hải | B134: DHPG01 | J134: 51510102 | K134: Công nghệ kỹ thuật công trình xây dựng
A135: Tr.ĐH Hải Phòng | B135: DHPG02 | J135: 51510103 | K135: Công nghệ kỹ thuật xây dựng
A136: Tr.ĐH Y Hải Phòng | B136: DHPG03 | J136: 51510104 | K136: Công nghệ kỹ thuật giao thông
A137: Tr.ĐH Dân lập Hải Phòng (NCL) | B137: DHPG04 | J137: 51510105 | K137: Công nghệ kỹ thuật vật liệu xây dựng
A138: Tr.CĐ Công nghệ Viettronics | B138: CHPG01 | J138: 515102 | K138: Công nghệ kỹ thuật cơ khí
A139: Tr.CĐ Cộng đồng Hải Phòng | B139: CHPG02 | J139: 51510201 | K139: Công nghệ kỹ thuật cơ khí
A140: Tr.CĐ Hàng Hải I | B140: CHPG03 | J140: 51510202 | K140: Công nghệ chế tạo máy
A141: Tr.CĐ Kinh tế và công nghệ thực phẩm | B141: CHPG05 | J141: 51510203 | K141: Công nghệ kỹ thuật cơ điện tử
A142: Tr.CĐ Y tế Hải Phòng | B142: CHPG04 | J142: 51510205 | K142: Công nghệ kỹ thuật ô tô
A143: 7. Hưng Yên | J143: 51510206 | K143: Công nghệ kỹ thuật nhiệt
A144: Tr.ĐH Sư phạm kỹ thuật Hưng Yên | B144: DHYN01 | J144: 515103 | K144: Công nghệ kỹ thuật điện, điện tử và viễn thông
A145: Tr. ĐH Tài chính - Quản trị kinh doanh | B145: DHYN02 | J145: 51510301 | K145: Công nghệ kỹ thuật điện, điện tử
A146: Tr.ĐH Chu Văn An (NCL) | B146: DHYN03 | J146: 51510302 | K146: Công nghệ kỹ thuật điện tử, truyền thông
A147: Tr.CĐ Công nghiệp Hưng Yên | B147: CHYN01 | J147: 51510303 | K147: Công nghệ kỹ thuật điều khiển và tự động hóa
A148: Tr.CĐ Sư phạm Hưng Yên | B148: CHYN02 | J148: 51510304 | K148: Công nghệ kỹ thuật máy tính
A149: Tr.CĐ Y tế Hưng Yên | B149: CHYN03 | J149: 515104 | K149: Công nghệ hoá học, vật liệu, luyện kim và môi trường
A150: Tr.CĐ ASEAN (NCL) | B150: CHYN04 | J150: 51510401 | K150: Công nghệ kỹ thuật hoá học
A151: Tr.CĐ Bách khoa Hưng Yên (NCL) | B151: CHYN05 | J151: 51510402 | K151: Công nghệ vật liệu
A152: 8. Thái Bình | J152: 51510405 | K152: Công nghệ kỹ thuật tài nguyên nước
A153: Tr.ĐH Y Thái Bình | B153: DTBH01 | J153: 51510406 | K153: Công nghệ kỹ thuật môi trường
A154: Tr.ĐH Thái Bình | B154: DTBH02 | J154: 515105 | K154: Công nghệ sản xuất
A155: Tr.CĐ Sư phạm Thái Bình | B155: CTBH01 | J155: 51510501 | K155: Công nghệ in
A156: Tr.CĐ Văn hóa nghệ thuật Thái Bình | B156: CTBH02 | J156: 51510505 | K156: Bảo dưỡng công nghiệp
A157: Tr.CĐ Y tế Thái Bình | B157: CTBH03 | J157: 515106 | K157: Quản lý công nghiệp
A158: 9. Hà Nam | J158: 51510601 | K158: Quản lý công nghiệp
A159: Tr.ĐH Hà Hoa Tiên (NCL) | B159: DHNM01 | J159: 515109 | K159: Công nghệ kỹ thuật địa chất, địa vật lý và trắc địa
A160: Tr.CĐ Phát thanh- truyền hình I | B160: CHNM01 | J160: 51515901 | K160: Công nghệ kỹ thuật địa chất
A161: Tr.CĐ Sư phạm Hà Nam | B161: CHNM02 | J161: 51515902 | K161: Công nghệ kỹ thuật trắc địa
A162: Tr.CĐ Thủy lợi Bắc Bộ | B162: CHNM03 | J162: 515110 | K162: Công nghệ kỹ thuật mỏ
A163: Tr.CĐ Y tế Hà Nam | B163: CHNM04 | J163: 51511001 | K163: Công nghệ kỹ thuật mỏ
A164: 10. Nam Định | J164: 51511002 | K164: Công nghệ tuyển khoáng
A165: Tr.ĐH Điều dưỡng Nam Định | B165: DNĐH01 | J165: 5154 | K165: Sản xuất và chế biến
A166: Tr.ĐH Kinh tế - Kỹ thuật công nghiệp | B166: DNĐH02 | J166: 515401 | K166: Chế biến lương thực, thực phẩm và đồ uống
...

Sheet Bia
B1: Bộ Giáo Dục Và Đào Tạo
B7: Biểu báo cáo thống kê năm học 2014-2015
B10: Đơn vị báo cáo:. | C10: Tr.CĐ Kỹ thuật Lý Tự Trọng TP HCM
B11: Địa chỉ: Số 390 đường Hoàng Văn Thụ, Phường 4, Quận Tân Bình, TP. Hồ Chí Minh.
B12: Cơ quan chủ quản : Sở Giáo dục và Đào tạo TP. Hồ Chí Minh
B13: Họ và tên hiệu trưởng: Phạm Hữu Lộc giới tính: Nam nữ | O13: FALSE | Q13: TRUE
B14: Họ và tên cán bộ thống kê tổng hợp: Trần Thị Thu Hà
B15: Điện thoại liên hệ công tác thống kê: 08 38440 567 Fax: 08 38118 676 Email: phanhchinh@lytc.edu.vn Website: www.lytc.edu.vn
B16: Loại hình trường: công lập Dân lập Tư thục | O16: TRUE | P16: FALSE | Q16: FALSE
B17: Đơn vị nhận: VỤ KẾ HOẠCH-TÀI CHÍNH, BỘ GIÁO DỤC VÀ ĐÀO TẠO
B18: Ủy ban Nhân dân Thành phố Hồ Chí Minh
B19: Sở Giáo dục và Đào tạo Thành phố Hồ Chí Minh
B21: Thời gian nhận báo cáo: ngày 31 tháng 12 hàng năm
B25: Vụ Kế hoạch - Tài chính, số 49 Đại Cồ Việt, Hà Nội
B26: Phiên bản: 2014.01/ ngày 18/11/2014

Sheet bieu1
A1: Biểu số : 01 - CĐ | B1: Thống kê tuyển mới | F1: Đơn vị báo cáo
A2: Ban hành theo Quyết định | B2: năm 2014 | F2: =Bia!C10 -> Tr.CĐ Kỹ thuật Lý Tự Trọng TP HCM
A3: số 5363/QĐ-BGDĐT
A4: ngày 14/11/2013 của Bộ trưởng
A5: Ngày nhận báo cáo: 31/12
B6: Tổng số HS,SV đã tuyển vào trường | C6: Trong đó
D7: Dân tộc ít người
C8: Nữ | F8: Ghi chú
D9: Tổng số | E9: Trong đó
E10: Nữ
A11: A | B11: 1 | C11: 2 | D11: 3 | E11: 4 | F11: 5
A12: I- Cao Đẳng | B12: =SUM(B13,B16,B17) -> 906 | C12: =SUM(C13,C16,C17) -> 41 | D12: =SUM(D13,D16,D17) -> 19 | E12: =SUM(E13,E16,E17) -> 0 | H12: =IF(OR(B12<C12,B12<D12,B12<E12),"Er","") | I12: =IF(OR(B12<C12,C12<E12),"Er","") | J12: =IF(OR(B12<D12,D12<E12),"Er","") | K12: =IF(OR(B12<E12,C12<E12,D12<E12),"Er","")
A13: 1. Hệ chính quy | B13: =SUM(B14:B15) -> 906 | C13: =SUM(C14:C15) -> 41 | D13: =SUM(D14:D15) -> 19 | E13: =SUM(E14:E15) -> 0 | H13: =IF(OR(B13<C13,B13<D13,B13<E13),"Er","") | I13: =IF(OR(B13<C13,C13<E13),"Er","") | J13: =IF(OR(B13<D13,D13<E13),"Er","") | K13: =IF(OR(B13<E13,C13<E13,D13<E13),"Er","")
A14: Chia ra: - Chính quy tập trung | B14: 906 | C14: 41 | D14: 19 | E14: 0 | H14: =IF(OR(B14<C14,B14<D14,B14<E14),"Er","") | I14: =IF(OR(B14<C14,C14<E14),"Er","") | J14: =IF(OR(B14<D14,D14<E14),"Er","") | K14: =IF(OR(B14<E14,C14<E14,D14<E14),"Er","")
A15: - Liên thông chính quy | H15: =IF(OR(B15<C15,B15<D15,B15<E15),"Er","") | I15: =IF(OR(B15<C15,C15<E15),"Er","") | J15: =IF(OR(B15<D15,D15<E15),"Er","") | K15: =IF(OR(B15<E15,C15<E15,D15<E15),"Er","")
A16: 2. Cử tuyển | H16: =IF(OR(B16<C16,B16<D16,B16<E16),"Er","") | I16: =IF(OR(B16<C16,C16<E16),"Er","") | J16: =IF(OR(B16<D16,D16<E16),"Er","") | K16: =IF(OR(B16<E16,C16<E16,D16<E16),"Er","")
A17: 3. Vừa làm vừa học | B17: =SUM(B18:B19) -> 0 | C17: =SUM(C18:C19) -> 0 | D17: =SUM(D18:D19) -> 0 | E17: =SUM(E18:E19) -> 0 | H17: =IF(OR(B17<C17,B17<D17,B17<E17),"Er","") | I17: =IF(OR(B17<C17,C17<E17),"Er","") | J17: =IF(OR(B17<D17,D17<E17),"Er","") | K17: =IF(OR(B17<E17,C17<E17,D17<E17),"Er","")
A18: Chia ra: - Vừa làm vừa học | H18: =IF(OR(B18<C18,B18<D18,B18<E18),"Er","") | I18: =IF(OR(B18<C18,C18<E18),"Er","") | J18: =IF(OR(B18<D18,D18<E18),"Er","") | K18: =IF(OR(B18<E18,C18<E18,D18<E18),"Er","")
A19: - Liên thông VLVH | H19: =IF(OR(B19<C19,B19<D19,B19<E19),"Er","") | I19: =IF(OR(B19<C19,C19<E19),"Er","") | J19: =IF(OR(B19<D19,D19<E19),"Er","") | K19: =IF(OR(B19<E19,C19<E19,D19<E19),"Er","")
A20: II-Trung cấp chuyên nghiệp | B20: =SUM(B21:B22) -> 406 | C20: =SUM(C21:C22) -> 31 | D20: =SUM(D21:D22) -> 3 | E20: =SUM(E21:E22) -> 0 | H20: =IF(OR(B20<C20,B20<D20,B20<E20),"Er","") | I20: =IF(OR(B20<C20,C20<E20),"Er","") | J20: =IF(OR(B20<D20,D20<E20),"Er","") | K20: =IF(OR(B20<E20,C20<E20,D20<E20),"Er","")
A21: 1. Hệ chính quy | B21: 406 | C21: 31 | D21: 3 | E21: 0 | H21: =IF(OR(B21<C21,B21<D21,B21<E21),"Er","") | I21: =IF(OR(B21<C21,C21<E21),"Er","") | J21: =IF(OR(B21<D21,D21<E21),"Er","") | K21: =IF(OR(B21<E21,C21<E21,D21<E21),"Er","")
A22: 2. Vừa làm vừa học | H22: =IF(OR(B22<C22,B22<D22,B22<E22),"Er","") | I22: =IF(OR(B22<C22,C22<E22),"Er","") | J22: =IF(OR(B22<D22,D22<E22),"Er","") | K22: =IF(OR(B22<E22,C22<E22,D22<E22),"Er","")
A23: III- Dạy nghề | B23: =SUM(B24:B26) -> 1382 | C23: =SUM(C24:C26) -> 17 | D23: =SUM(D24:D26) -> 1 | E23: =SUM(E24:E26) -> 0 | H23: =IF(OR(B23<C23,B23<D23,B23<E23),"Er","") | I23: =IF(OR(B23<C23,C23<E23),"Er","") | J23: =IF(OR(B23<D23,D23<E23),"Er","") | K23: =IF(OR(B23<E23,C23<E23,D23<E23),"Er","")
A24: 1. Cao đẳng nghề | H24: =IF(OR(B24<C24,B24<D24,B24<E24),"Er","") | I24: =IF(OR(B24<C24,C24<E24),"Er","") | J24: =IF(OR(B24<D24,D24<E24),"Er","") | K24: =IF(OR(B24<E24,C24<E24,D24<E24),"Er","")
A25: 2. Trung cấp nghề | H25: =IF(OR(B25<C25,B25<D25,B25<E25),"Er","") | I25: =IF(OR(B25<C25,C25<E25),"Er","") | J25: =IF(OR(B25<D25,D25<E25),"Er","") | K25: =IF(OR(B25<E25,C25<E25,D25<E25),"Er","")
A26: 3. Ngắn hạn (dưới 12 tháng) | B26: 1382 | C26: 17 | D26: 1 | E26: 0 | H26: =IF(OR(B26<C26,B26<D26,B26<E26),"Er","") | I26: =IF(OR(B26<C26,C26<E26),"Er","") | J26: =IF(OR(B26<D26,D26<E26),"Er","") | K26: =IF(OR(B26<E26,C26<E26,D26<E26),"Er","")
A27: IV - Học sinh phổ thông | B27: =SUM(B28:B30) -> 0 | C27: =SUM(C28:C30) -> 0 | D27: =SUM(D28:D30) -> 0 | E27: =SUM(E28:E30) -> 0 | H27: =IF(OR(B27<C27,B27<D27,B27<E27),"Er","") | I27: =IF(OR(B27<C27,C27<E27),"Er","") | J27: =IF(OR(B27<D27,D27<E27),"Er","") | K27: =IF(OR(B27<E27,C27<E27,D27<E27),"Er","")
A28: 1. Học sinh dự bị đại học | H28: =IF(OR(B28<C28,B28<D28,B28<E28),"Er","") | I28: =IF(OR(B28<C28,C28<E28),"Er","") | J28: =IF(OR(B28<D28,D28<E28),"Er","") | K28: =IF(OR(B28<E28,C28<E28,D28<E28),"Er","")
A29: 2. Học sinh phổ thông chuyên, năng khiếu | H29: =IF(OR(B29<C29,B29<D29,B29<E29),"Er","") | I29: =IF(OR(B29<C29,C29<E29),"Er","") | J29: =IF(OR(B29<D29,D29<E29),"Er","") | K29: =IF(OR(B29<E29,C29<E29,D29<E29),"Er","")
A30: 3. Học sinh phổ thông dân tộc nội trú | H30: =IF(OR(B30<C30,B30<D30,B30<E30),"Er","") | I30: =IF(OR(B30<C30,C30<E30),"Er","") | J30: =IF(OR(B30<D30,D30<E30),"Er","") | K30: =IF(OR(B30<E30,C30<E30,D30<E30),"Er","")
A31: V -Sau đại học | B31: =SUM(B32:B33) -> 0 | C31: =SUM(C32:C33) -> 0 | D31: =SUM(D32:D33) -> 0 | E31: =SUM(E32:E33) -> 0 | H31: =IF(OR(B31<C31,B31<D31,B31<E31),"Er","") | I31: =IF(OR(B31<C31,C31<E31),"Er","") | J31: =IF(OR(B31<D31,D31<E31),"Er","") | K31: =IF(OR(B31<E31,C31<E31,D31<E31),"Er","")
A32: 1. Nghiên cứu sinh | H32: =IF(OR(B32<C32,B32<D32,B32<E32),"Er","") | I32: =IF(OR(B32<C32,C32<E32),"Er","") | J32: =IF(OR(B32<D32,D32<E32),"Er","") | K32: =IF(OR(B32<E32,C32<E32,D32<E32),"Er","")
A33: 2. Cao học | H33: =IF(OR(B33<C33,B33<D33,B33<E33),"Er","") | I33: =IF(OR(B33<C33,C33<E33),"Er","") | J33: =IF(OR(B33<D33,D33<E33),"Er","") | K33: =IF(OR(B33<E33,C33<E33,D33<E33),"Er","")
A34: VI. Bác sĩ chuyên khoa | B34: =SUM(B35:B37) -> 0 | C34: =SUM(C35:C37) -> 0 | D34: =SUM(D35:D37) -> 0 | E34: =SUM(E35:E37) -> 0 | H34: =IF(OR(B34<C34,B34<D34,B34<E34),"Er","") | I34: =IF(OR(B34<C34,C34<E34),"Er","") | J34: =IF(OR(B34<D34,D34<E34),"Er","") | K34: =IF(OR(B34<E34,C34<E34,D34<E34),"Er","")
A35: 1. Bác sĩ chuyên khoa cấp I | H35: =IF(OR(B35<C35,B35<D35,B35<E35),"Er","") | I35: =IF(OR(B35<C35,C35<E35),"Er","") | J35: =IF(OR(B35<D35,D35<E35),"Er","") | K35: =IF(OR(B35<E35,C35<E35,D35<E35),"Er","")
A36: 2. Bác sĩ chuyên khoa cấp II | H36: =IF(OR(B36<C36,B36<D36,B36<E36),"Er","") | I36: =IF(OR(B36<C36,C36<E36),"Er","") | J36: =IF(OR(B36<D36,D36<E36),"Er","") | K36: =IF(OR(B36<E36,C36<E36,D36<E36),"Er","")
A37: 3. Bác sĩ nội trú Bệnh viện | H37: =IF(OR(B37<C37,B37<D37,B37<E37),"Er","") | I37: =IF(OR(B37<C37,C37<E37),"Er","") | J37: =IF(OR(B37<D37,D37<E37),"Er","") | K37: =IF(OR(B37<E37,C37<E37,D37<E37),"Er","")
D38: Ngày 29 tháng 12 năm 2014
A39: Người lập biểu | D39: Hiệu trưởng
A45: Nguyễn Văn Tấn | F45: Phạm Hữu Lộc

Sheet bieu2 CD cac he
A1: Biểu số: 02- CĐ | B1: Số sinh viên, học sinh đang học | F1: Đơn vị báo cáo
A2: Ban hành theo Quyết định | B2: tất cả các hệ | F2: =Bia!C10 -> Tr.CĐ Kỹ thuật Lý Tự Trọng TP HCM
A3: số 5363/QĐ-BGDĐT | B3: Năm học 2014 - 2015
A4: ngày 14/11/2013 của Bộ trưởng
A5: Ngày nhận báo cáo: 31/12
B6: Tổng số SV, HS đang học | C6: Trong đó
D7: Dân tộc ít người
C8: Nữ | F8: Ghi chú
D9: Tổng sổ | E9: Trong đó
E10: Nữ
A11: A | B11: 1 | C11: 2 | D11: 3 | E11: 4 | F11: 5
A12: I- Cao Đẳng | B12: =SUM(B13,B16,B17) -> 2466 | C12: =SUM(C13,C16,C17) -> 145 | D12: =SUM(D13,D16,D17) -> 87 | E12: =SUM(E13,E16,E17) -> 6 | H12: =IF(OR(B12<C12,B12<D12,B12<E12),"Er","") | I12: =IF(OR(B12<C12,C12<E12),"Er","") | J12: =IF(OR(B12<D12,D12<E12),"Er","") | K12: =IF(OR(B12<E12,C12<E12,D12<E12),"Er","")
A13: 1. Hệ chính quy | B13: 2466 | C13: 145 | D13: 87 | E13: 6 | H13: =IF(OR(B13<C13,B13<D13,B13<E13),"Er","") | I13: =IF(OR(B13<C13,C13<E13),"Er","") | J13: =IF(OR(B13<D13,D13<E13),"Er","") | K13: =IF(OR(B13<E13,C13<E13,D13<E13),"Er","")
A14: Chia ra: - Chính quy tập trung | B14: =SUM(B15:B16) -> 0 | C14: =SUM(C15:C16) -> 0 | D14: =SUM(D15:D16) -> 0 | E14: =SUM(E15:E16) -> 0 | H14: =IF(OR(B14<C14,B14<D14,B14<E14),"Er","") | I14: =IF(OR(B14<C14,C14<E14),"Er","") | J14: =IF(OR(B14<D14,D14<E14),"Er","") | K14: =IF(OR(B14<E14,C14<E14,D14<E14),"Er","")
A15: - Liên thông chính quy | H15: =IF(OR(B15<C15,B15<D15,B15<E15),"Er","") | I15: =IF(OR(B15<C15,C15<E15),"Er","") | J15: =IF(OR(B15<D15,D15<E15),"Er","") | K15: =IF(OR(B15<E15,C15<E15,D15<E15),"Er","")
A16: 2. Cử tuyển | H16: =IF(OR(B16<C16,B16<D16,B16<E16),"Er","") | I16: =IF(OR(B16<C16,C16<E16),"Er","") | J16: =IF(OR(B16<D16,D16<E16),"Er","") | K16: =IF(OR(B16<E16,C16<E16,D16<E16),"Er","")
A17: 3. Vừa làm vừa học | B17: =SUM(B18:B19) -> 0 | C17: =SUM(C18:C19) -> 0 | D17: =SUM(D18:D19) -> 0 | E17: =SUM(E18:E19) -> 0 | H17: =IF(OR(B17<C17,B17<D17,B17<E17),"Er","") | I17: =IF(OR(B17<C17,C17<E17),"Er","") | J17: =IF(OR(B17<D17,D17<E17),"Er","") | K17: =IF(OR(B17<E17,C17<E17,D17<E17),"Er","")
A18: Chia ra: - Vừa làm vừa học | H18: =IF(OR(B18<C18,B18<D18,B18<E18),"Er","") | I18: =IF(OR(B18<C18,C18<E18),"Er","") | J18: =IF(OR(B18<D18,D18<E18),"Er","") | K18: =IF(OR(B18<E18,C18<E18,D18<E18),"Er","")
A19: - Liên thông VLVH | H19: =IF(OR(B19<C19,B19<D19,B19<E19),"Er","") | I19: =IF(OR(B19<C19,C19<E19),"Er","") | J19: =IF(OR(B19<D19,D19<E19),"Er","") | K19: =IF(OR(B19<E19,C19<E19,D19<E19),"Er","")
A20: II-Trung cấp chuyên nghiệp | B20: =SUM(B21:B22) -> 584 | C20: =SUM(C21:C22) -> 51 | D20: =SUM(D21:D22) -> 25 | E20: =SUM(E21:E22) -> 2 | H20: =IF(OR(B20<C20,B20<D20,B20<E20),"Er","") | I20: =IF(OR(B20<C20,C20<E20),"Er","") | J20: =IF(OR(B20<D20,D20<E20),"Er","") | K20: =IF(OR(B20<E20,C20<E20,D20<E20),"Er","")
A21: 1. Hệ chính quy | B21: 584 | C21: 51 | D21: 25 | E21: 2 | H21: =IF(OR(B21<C21,B21<D21,B21<E21),"Er","") | I21: =IF(OR(B21<C21,C21<E21),"Er","") | J21: =IF(OR(B21<D21,D21<E21),"Er","") | K21: =IF(OR(B21<E21,C21<E21,D21<E21),"Er","")
A22: 2. Vừa làm vừa học | H22: =IF(OR(B22<C22,B22<D22,B22<E22),"Er","") | I22: =IF(OR(B22<C22,C22<E22),"Er","") | J22: =IF(OR(B22<D22,D22<E22),"Er","") | K22: =IF(OR(B22<E22,C22<E22,D22<E22),"Er","")
A23: III- Dạy nghề | B23: =SUM(B24:B26) -> 49 | C23: =SUM(C24:C26) -> 0 | D23: =SUM(D24:D26) -> 0 | E23: =SUM(E24:E26) -> 0 | H23: =IF(OR(B23<C23,B23<D23,B23<E23),"Er","") | I23: =IF(OR(B23<C23,C23<E23),"Er","") | J23: =IF(OR(B23<D23,D23<E23),"Er","") | K23: =IF(OR(B23<E23,C23<E23,D23<E23),"Er","")
A24: 1. Cao đẳng nghề | H24: =IF(OR(B24<C24,B24<D24,B24<E24),"Er","") | I24: =IF(OR(B24<C24,C24<E24),"Er","") | J24: =IF(OR(B24<D24,D24<E24),"Er","") | K24: =IF(OR(B24<E24,C24<E24,D24<E24),"Er","")
A25: 2. Trung cấp nghề | H25: =IF(OR(B25<C25,B25<D25,B25<E25),"Er","") | I25: =IF(OR(B25<C25,C25<E25),"Er","") | J25: =IF(OR(B25<D25,D25<E25),"Er","") | K25: =IF(OR(B25<E25,C25<E25,D25<E25),"Er","")
A26: 3. Ngắn hạn (dưới 12 tháng) | B26: 49 | C26: 0 | D26: 0 | E26: 0 | H26: =IF(OR(B26<C26,B26<D26,B26<E26),"Er","") | I26: =IF(OR(B26<C26,C26<E26),"Er","") | J26: =IF(OR(B26<D26,D26<E26),"Er","") | K26: =IF(OR(B26<E26,C26<E26,D26<E26),"Er","")
A27: IV - Học sinh phổ thông | B27: =SUM(B28:B30) -> 0 | C27: =SUM(C28:C30) -> 0 | D27: =SUM(D28:D30) -> 0 | E27: =SUM(E28:E30) -> 0 | H27: =IF(OR(B27<C27,B27<D27,B27<E27),"Er","") | I27: =IF(OR(B27<C27,C27<E27),"Er","") | J27: =IF(OR(B27<D27,D27<E27),"Er","") | K27: =IF(OR(B27<E27,C27<E27,D27<E27),"Er","")
A28: 1. Học sinh dự bị đại học | H28: =IF(OR(B28<C28,B28<D28,B28<E28),"Er","") | I28: =IF(OR(B28<C28,C28<E28),"Er","") | J28: =IF(OR(B28<D28,D28<E28),"Er","") | K28: =IF(OR(B28<E28,C28<E28,D28<E28),"Er","")
A29: 2. Học sinh phổ thông chuyên, năng khiếu | H29: =IF(OR(B29<C29,B29<D29,B29<E29),"Er","") | I29: =IF(OR(B29<C29,C29<E29),"Er","") | J29: =IF(OR(B29<D29,D29<E29),"Er","") | K29: =IF(OR(B29<E29,C29<E29,D29<E29),"Er","")
A30: 3. Học sinh phổ thông dân tộc nội trú | H30: =IF(OR(B30<C30,B30<D30,B30<E30),"Er","") | I30: =IF(OR(B30<C30,C30<E30),"Er","") | J30: =IF(OR(B30<D30,D30<E30),"Er","") | K30: =IF(OR(B30<E30,C30<E30,D30<E30),"Er","")
A31: V -Sau đại học | B31: =SUM(B32:B33) -> 0 | C31: =SUM(C32:C33) -> 0 | D31: =SUM(D32:D33) -> 0 | E31: =SUM(E32:E33) -> 0 | H31: =IF(OR(B31<C31,B31<D31,B31<E31),"Er","") | I31: =IF(OR(B31<C31,C31<E31),"Er","") | J31: =IF(OR(B31<D31,D31<E31),"Er","") | K31: =IF(OR(B31<E31,C31<E31,D31<E31),"Er","")
A32: 1. Nghiên cứu sinh | H32: =IF(OR(B32<C32,B32<D32,B32<E32),"Er","") | I32: =IF(OR(B32<C32,C32<E32),"Er","") | J32: =IF(OR(B32<D32,D32<E32),"Er","") | K32: =IF(OR(B32<E32,C32<E32,D32<E32),"Er","")
A33: 2. Cao học | H33: =IF(OR(B33<C33,B33<D33,B33<E33),"Er","") | I33: =IF(OR(B33<C33,C33<E33),"Er","") | J33: =IF(OR(B33<D33,D33<E33),"Er","") | K33: =IF(OR(B33<E33,C33<E33,D33<E33),"Er","")
A34: VI. Bác sĩ chuyên khoa | B34: =SUM(B35:B37) -> 0 | C34: =SUM(C35:C37) -> 0 | D34: =SUM(D35:D37) -> 0 | E34: =SUM(E35:E37) -> 0 | H34: =IF(OR(B34<C34,B34<D34,B34<E34),"Er","") | I34: =IF(OR(B34<C34,C34<E34),"Er","") | J34: =IF(OR(B34<D34,D34<E34),"Er","") | K34: =IF(OR(B34<E34,C34<E34,D34<E34),"Er","")
A35: 1. Bác sĩ chuyên khoa cấp I | H35: =IF(OR(B35<C35,B35<D35,B35<E35),"Er","") | I35: =IF(OR(B35<C35,C35<E35),"Er","") | J35: =IF(OR(B35<D35,D35<E35),"Er","") | K35: =IF(OR(B35<E35,C35<E35,D35<E35),"Er","")
A36: 2. Bác sĩ chuyên khoa cấp II | H36: =IF(OR(B36<C36,B36<D36,B36<E36),"Er","") | I36: =IF(OR(B36<C36,C36<E36),"Er","") | J36: =IF(OR(B36<D36,D36<E36),"Er","") | K36: =IF(OR(B36<E36,C36<E36,D36<E36),"Er","")
A37: 3. Bác sĩ nội trú Bệnh viện | H37: =IF(OR(B37<C37,B37<D37,B37<E37),"Er","") | I37: =IF(OR(B37<C37,C37<E37),"Er","") | J37: =IF(OR(B37<D37,D37<E37),"Er","") | K37: =IF(OR(B37<E37,C37<E37,D37<E37),"Er","")
D38: Ngày 29 tháng 12 năm 2014
A39: Người lập biểu | D39: Hiệu trưởng
F45: Phạm Hữu Lộc

Sheet bieu2 do tuoi
A1: Biểu số: 02A- CĐ | B1: số sinh viên, học sinh đang học | J1: Đơn vị báo cáo
A2: Ban hành theo Quyết định | B2: chia theo tuổi | J2: =Bia!C10 -> Tr.CĐ Kỹ thuật Lý Tự Trọng TP HCM
A3: số 5363/QĐ-BGDĐT | B3: Năm học 2014- 2015
A4: ngày 14/11/2013 của Bộ trưởng
A5: Ngày nhận báo cáo: 31/12
B6: Tổng số SV, HS đang học | C6: Chia theo độ tuổi
C8: 17 | D8: 18 | E8: 19 | F8: 20 | G8: 21 | H8: 22 | I8: 23 | J8: 24 | K8: 25+ | L8: Ghi chú
A11: A | B11: 1 | C11: 2 | D11: 3 | E11: 4 | F11: 5 | G11: 6 | H11: 7 | I11: 8 | J11: 9 | K11: 10 | L11: 11
A12: I- Cao Đẳng | B12: =SUM(B13,B16,B17) -> 2466 | C12: =SUM(C13,C16,C17) -> 0 | D12: =SUM(D13,D16,D17) -> 594 | E12: =SUM(E13,E16,E17) -> 845 | F12: =SUM(F13,F16,F17) -> 657 | G12: =SUM(G13,G16,G17) -> 246 | H12: =SUM(H13,H16,H17) -> 69 | I12: =SUM(I13,I16,I17) -> 36 | ... K12: =SUM(K13,K16,K17) -> 9
A13: 1. Hệ chính quy | B13: =SUM(C13:K13) -> 2466 | C13: =SUM(C14:C15) -> 0 | D13: =SUM(D14:D15) -> 594 | E13: =SUM(E14:E15) -> 845 | F13: =SUM(F14:F15) -> 657 | G13: =SUM(G14:G15) -> 246 | H13: =SUM(H14:H15) -> 69 | I13: =SUM(I14:I15) -> 36 | J13: =SUM(J14:J15) -> 10 | K13: =SUM(K14:K15) -> 9
A14: Chia ra: - Chính quy tập trung | B14: =SUM(C14:K14) -> 2466 | C14: 0 | D14: 594 | E14: 845 | F14: 657 | G14: 246 | H14: 69 | I14: 36 | J14: 10 | K14: 9
A15: - Liên thông chính quy | B15: =SUM(C15:K15) -> 0
A16: 2. Cử tuyển | B16: =SUM(C16:K16) -> 0
A17: 3. Vừa làm vừa học | B17: =SUM(C17:K17) -> 0 | C17: =SUM(C18:C19) -> 0 | D17: =SUM(D18:D19) -> 0 | E17: =SUM(E18:E19) -> 0 | F17: =SUM(F18:F19) -> 0 | G17: =SUM(G18:G19) -> 0 | H17: =SUM(H18:H19) -> 0 | I17: =SUM(I18:I19) -> 0 | J17: =SUM(J18:J19) -> 0 | K17: =SUM(K18:K19) -> 0
A18: Chia ra: - Vừa làm vừa học | B18: =SUM(C18:K18) -> 0
A19: - Liên thông VLVH | B19: =SUM(C19:K19) -> 0
A20: II-Trung cấp chuyên nghiệp | B20: =SUM(B21:B22) -> 584 | C20: =SUM(C21:C22) -> 0 | D20: =SUM(D21:D22) -> 140 | E20: =SUM(E21:E22) -> 164 | F20: =SUM(F21:F22) -> 149 | G20: =SUM(G21:G22) -> 62 | H20: =SUM(H21:H22) -> 32 | I20: =SUM(I21:I22) -> 18 | ... K20: =SUM(K21:K22) -> 12
A21: 1. Hệ chính quy | B21: =SUM(C21:K21) -> 584 | C21: 0 | D21: 140 | E21: 164 | F21: 149 | G21: 62 | H21: 32 | I21: 18 | J21: 7 | K21: 12
A22: 2. Vừa làm vừa học | B22: =SUM(C22:K22) -> 0
H23: Ngày 29 tháng 12 năm 2014
H24: Hiệu trưởng
A25: Người lập biểu
H29: Phạm Hữu Lộc

Sheet bieu2 CĐ
A1: Biểu số: 02.1- CĐ | B1: Sinh viên đang học chia theo ngành đào tạo | K1: Đơn vị báo cáo:
A2: Ban hành theo Quyết định | B2: Năm học 2014 - 2015 | K2: =Bia!$C$10 -> Tr.CĐ Kỹ thuật Lý Tự Trọng TP HCM
A3: số 5363/QĐ-BGDĐT | C3: Cao đẳng
A4: ngày 14/11/2013 của Bộ trưởng | C4: Hệ chính qui
A5: Ngày nhận báo cáo: 31/12
B7: Mã | C7: Tổng số | D7: Trong đó | G7: Tổng số sinh viên chia theo năm đào tạo | K7: Ghi chú
B8: số (1) | C8: sinh viên | D8: Nữ | E8: Dân tộc ít người | G8: Năm | H8: Năm | I8: Năm | J8: Năm
E9: T.số | F9: Tr.đó: Nữ | G9: thứ 1 | H9: thứ 2 | I9: thứ 3 | J9: thứ 4
B10: 1 | C10: 2 | D10: 3 | E10: 4 | F10: 5 | G10: 6 | H10: 7 | I10: 8 | J10: 9 | K10: 10
A11: Tổng số | C11: =SUM(C12:C59) -> 2466 | D11: =SUM(D12:D59) -> 145 | E11: =SUM(E12:E59) -> 87 | F11: =SUM(F12:F59) -> 6 | G11: =SUM(G12:G59) -> 874 | H11: =SUM(H12:H59) -> 943 | I11: =SUM(I12:I59) -> 649 | J11: =SUM(J12:J59) -> 0 | O11: =IF(OR(C11<D11,C11<F11,C11<E11),"Er","") | P11: =IF(OR(C11<D11,D11<F11),"Er","") | Q11: =IF(OR(C11<E11,E11<F11),"Er","") | R11: =IF(OR(C11<F11,D11<F11,E11<F11),"Er","")
A12: =IF(ISNA( VLOOKUP(B12,NGHANH_CD_LIST,2,FALSE)),"",VLOOKUP(B12,NGHANH_CD_LIST,2,FALSE)) | C12: =SUM(G12:J12) -> 0 | K12: (1) Ghi theo tên tuyển sinh và mã số | O12: =IF(OR(C12<D12,C12<F12,C12<E12),"Er","") | P12: =IF(OR(C12<D12,D12<F12),"Er","") | Q12: =IF(OR(C12<E12,E12<F12),"Er","") | R12: =IF(OR(C12<F12,D12<F12,E12<F12),"Er","")
A13: =IF(ISNA( VLOOKUP(B13,NGHANH_CD_LIST,2,FALSE)),"",VLOOKUP(B13,NGHANH_CD_LIST,2,FALSE)) -> Công nghệ kỹ thuật điện, điện tử và viễn thông | B13: 515103 | C13: =SUM(G13:J13) -> 722 | D13: 1 | E13: 19 | F13: 0 | G13: 220 | H13: 273 | I13: 229 | J13: 0 | K13: ngành (theo TT số 34/2011/TT-BGDĐT | O13: =IF(OR(C13<D13,C13<F13,C13<E13),"Er","") | P13: =IF(OR(C13<D13,D13<F13),"Er","") | Q13: =IF(OR(C13<E13,E13<F13),"Er","") | R13: =IF(OR(C13<F13,D13<F13,E13<F13),"Er","")
A14: =IF(ISNA( VLOOKUP(B14,NGHANH_CD_LIST,2,FALSE)),"",VLOOKUP(B14,NGHANH_CD_LIST,2,FALSE)) -> Công nghệ kỹ thuật cơ khí | B14: 515102 | C14: =SUM(G14:J14) -> 1245 | D14: 4 | E14: 36 | F14: 0 | G14: 506 | H14: 462 | I14: 277 | J14: 0 | K14: ngày 11/8/2011) | O14: =IF(OR(C14<D14,C14<F14,C14<E14),"Er","") | P14: =IF(OR(C14<D14,D14<F14),"Er","") | Q14: =IF(OR(C14<E14,E14<F14),"Er","") | R14: =IF(OR(C14<F14,D14<F14,E14<F14),"Er","")
A15: =IF(ISNA( VLOOKUP(B15,NGHANH_CD_LIST,2,FALSE)),"",VLOOKUP(B15,NGHANH_CD_LIST,2,FALSE)) -> Sản xuất, chế biến sợi, vải, giày, da | B15: 515402 | C15: =SUM(G15:J15) -> 122 | D15: 112 | E15: 3 | F15: 3 | G15: 38 | H15: 57 | I15: 27 | J15: 0 | K15: * Tổng số: kể cả đào tạo tại trường, | O15: =IF(OR(C15<D15,C15<F15,C15<E15),"Er","") | P15: =IF(OR(C15<D15,D15<F15),"Er","") | Q15: =IF(OR(C15<E15,E15<F15),"Er","") | R15: =IF(OR(C15<F15,D15<F15,E15<F15),"Er","")
A16: =IF(ISNA( VLOOKUP(B16,NGHANH_CD_LIST,2,FALSE)),"",VLOOKUP(B16,NGHANH_CD_LIST,2,FALSE)) -> Công nghệ thông tin | B16: 514802 | C16: =SUM(G16:J16) -> 377 | D16: 28 | E16: 29 | F16: 3 | G16: 110 | H16: 151 | I16: 116 | J16: 0 | K16: liên kết đào tạo với nơi khác nhưng | O16: =IF(OR(C16<D16,C16<F16,C16<E16),"Er","") | P16: =IF(OR(C16<D16,D16<F16),"Er","") | Q16: =IF(OR(C16<E16,E16<F16),"Er","") | R16: =IF(OR(C16<F16,D16<F16,E16<F16),"Er","")
A17: =IF(ISNA( VLOOKUP(B17,NGHANH_CD_LIST,2,FALSE)),"",VLOOKUP(B17,NGHANH_CD_LIST,2,FALSE)) | C17: =SUM(G17:J17) -> 0 | K17: trường cấp bằng, đào tạo theo địa chỉ | O17: =IF(OR(C17<D17,C17<F17,C17<E17),"Er","") | P17: =IF(OR(C17<D17,D17<F17),"Er","") | Q17: =IF(OR(C17<E17,E17<F17),"Er","") | R17: =IF(OR(C17<F17,D17<F17,E17<F17),"Er","")
A18: =IF(ISNA( VLOOKUP(B18,NGHANH_CD_LIST,2,FALSE)),"",VLOOKUP(B18,NGHANH_CD_LIST,2,FALSE)) | C18: =SUM(G18:J18) -> 0 | K18: *Trường SP có đào tạo giáo viên | O18: =IF(OR(C18<D18,C18<F18,C18<E18),"Er","") | P18: =IF(OR(C18<D18,D18<F18),"Er","") | Q18: =IF(OR(C18<E18,E18<F18),"Er","") | R18: =IF(OR(C18<F18,D18<F18,E18<F18),"Er","")
A19: =IF(ISNA( VLOOKUP(B19,NGHANH_CD_LIST,2,FALSE)),"",VLOOKUP(B19,NGHANH_CD_LIST,2,FALSE)) | C19: =SUM(G19:J19) -> 0 | K19: phòng chống HIV | O19: =IF(OR(C19<D19,C19<F19,C19<E19),"Er","") | P19: =IF(OR(C19<D19,D19<F19),"Er","") | Q19: =IF(OR(C19<E19,E19<F19),"Er","") | R19: =IF(OR(C19<F19,D19<F19,E19<F19),"Er","")
A20: =IF(ISNA( VLOOKUP(B20,NGHANH_CD_LIST,2,FALSE)),"",VLOOKUP(B20,NGHANH_CD_LIST,2,FALSE)) | C20: =SUM(G20:J20) -> 0 | O20: =IF(OR(C20<D20,C20<F20,C20<E20),"Er","") | P20: =IF(OR(C20<D20,D20<F20),"Er","") | Q20: =IF(OR(C20<E20,E20<F20),"Er","") | R20: =IF(OR(C20<F20,D20<F20,E20<F20),"Er","")
A21: =IF(ISNA( VLOOKUP(B21,NGHANH_CD_LIST,2,FALSE)),"",VLOOKUP(B21,NGHANH_CD_LIST,2,FALSE)) | C21: =SUM(G21:J21) -> 0 | O21: =IF(OR(C21<D21,C21<F21,C21<E21),"Er","") | P21: =IF(OR(C21<D21,D21<F21),"Er","") | Q21: =IF(OR(C21<E21,E21<F21),"Er","") | R21: =IF(OR(C21<F21,D21<F21,E21<F21),"Er","")
A22: =IF(ISNA( VLOOKUP(B22,NGHANH_CD_LIST,2,FALSE)),"",VLOOKUP(B22,NGHANH_CD_LIST,2,FALSE)) | C22: =SUM(G22:J22) -> 0 | O22: =IF(OR(C22<D22,C22<F22,C22<E22),"Er","") | P22: =IF(OR(C22<D22,D22<F22),"Er","") | Q22: =IF(OR(C22<E22,E22<F22),"Er","") | R22: =IF(OR(C22<F22,D22<F22,E22<F22),"Er","")
A23: =IF(ISNA( VLOOKUP(B23,NGHANH_CD_LIST,2,FALSE)),"",VLOOKUP(B23,NGHANH_CD_LIST,2,FALSE)) | C23: =SUM(G23:J23) -> 0 | O23: =IF(OR(C23<D23,C23<F23,C23<E23),"Er","") | P23: =IF(OR(C23<D23,D23<F23),"Er","") | Q23: =IF(OR(C23<E23,E23<F23),"Er","") | R23: =IF(OR(C23<F23,D23<F23,E23<F23),"Er","")
A24: =IF(ISNA( VLOOKUP(B24,NGHANH_CD_LIST,2,FALSE)),"",VLOOKUP(B24,NGHANH_CD_LIST,2,FALSE)) | C24: =SUM(G24:J24) -> 0 | O24: =IF(OR(C24<D24,C24<F24,C24<E24),"Er","") | P24: =IF(OR(C24<D24,D24<F24),"Er","") | Q24: =IF(OR(C24<E24,E24<F24),"Er","") | R24: =IF(OR(C24<F24,D24<F24,E24<F24),"Er","")
A25: =IF(ISNA( VLOOKUP(B25,NGHANH_CD_LIST,2,FALSE)),"",VLOOKUP(B25,NGHANH_CD_LIST,2,FALSE)) | C25: =SUM(G25:J25) -> 0 | O25: =IF(OR(C25<D25,C25<F25,C25<E25),"Er","") | P25: =IF(OR(C25<D25,D25<F25),"Er","") | Q25: =IF(OR(C25<E25,E25<F25),"Er","") | R25: =IF(OR(C25<F25,D25<F25,E25<F25),"Er","")
A26: =IF(ISNA( VLOOKUP(B26,NGHANH_CD_LIST,2,FALSE)),"",VLOOKUP(B26,NGHANH_CD_LIST,2,FALSE)) | C26: =SUM(G26:J26) -> 0 | O26: =IF(OR(C26<D26,C26<F26,C26<E26),"Er","") | P26: =IF(OR(C26<D26,D26<F26),"Er","") | Q26: =IF(OR(C26<E26,E26<F26),"Er","") | R26: =IF(OR(C26<F26,D26<F26,E26<F26),"Er","")
A27: =IF(ISNA( VLOOKUP(B27,NGHANH_CD_LIST,2,FALSE)),"",VLOOKUP(B27,NGHANH_CD_LIST,2,FALSE)) | C27: =SUM(G27:J27) -> 0 | O27: =IF(OR(C27<D27,C27<F27,C27<E27),"Er","") | P27: =IF(OR(C27<D27,D27<F27),"Er","") | Q27: =IF(OR(C27<E27,E27<F27),"Er","") | R27: =IF(OR(C27<F27,D27<F27,E27<F27),"Er","")
A28: =IF(ISNA( VLOOKUP(B28,NGHANH_CD_LIST,2,FALSE)),"",VLOOKUP(B28,NGHANH_CD_LIST,2,FALSE)) | C28: =SUM(G28:J28) -> 0 | O28: =IF(OR(C28<D28,C28<F28,C28<E28),"Er","") | P28: =IF(OR(C28<D28,D28<F28),"Er","") | Q28: =IF(OR(C28<E28,E28<F28),"Er","") | R28: =IF(OR(C28<F28,D28<F28,E28<F28),"Er","")
A29: =IF(ISNA( VLOOKUP(B29,NGHANH_CD_LIST,2,FALSE)),"",VLOOKUP(B29,NGHANH_CD_LIST,2,FALSE)) | C29: =SUM(G29:J29) -> 0 | O29: =IF(OR(C29<D29,C29<F29,C29<E29),"Er","") | P29: =IF(OR(C29<D29,D29<F29),"Er","") | Q29: =IF(OR(C29<E29,E29<F29),"Er","") | R29: =IF(OR(C29<F29,D29<F29,E29<F29),"Er","")
A30: =IF(ISNA( VLOOKUP(B30,NGHANH_CD_LIST,2,FALSE)),"",VLOOKUP(B30,NGHANH_CD_LIST,2,FALSE)) | C30: =SUM(G30:J30) -> 0 | O30: =IF(OR(C30<D30,C30<F30,C30<E30),"Er","") | P30: =IF(OR(C30<D30,D30<F30),"Er","") | Q30: =IF(OR(C30<E30,E30<F30),"Er","") | R30: =IF(OR(C30<F30,D30<F30,E30<F30),"Er","")
A31: =IF(ISNA( VLOOKUP(B31,NGHANH_CD_LIST,2,FALSE)),"",VLOOKUP(B31,NGHANH_CD_LIST,2,FALSE)) | C31: =SUM(G31:J31) -> 0 | O31: =IF(OR(C31<D31,C31<F31,C31<E31),"Er","") | P31: =IF(OR(C31<D31,D31<F31),"Er","") | Q31: =IF(OR(C31<E31,E31<F31),"Er","") | R31: =IF(OR(C31<F31,D31<F31,E31<F31),"Er","")
... A59: =IF(ISNA( VLOOKUP(B59,NGHANH_CD_LIST,2,FALSE)),"",VLOOKUP(B59,NGHANH_CD_LIST,2,FALSE)) | C59: =SUM(G59:J59) -> 0 | O59: =IF(OR(C59<D59,C59<F59,C59<E59),"Er","") | P59: =IF(OR(C59<D59,D59<F59),"Er","") | Q59: =IF(OR(C59<E59,E59<F59),"Er","") | R59: =IF(OR(C59<F59,D59<F59,E59<F59),"Er","")
J60: Ngày 29 tháng 12 năm 2014
A61: Người lập biểu | J61: Hiệu trưởng
K67: Phạm Hữu Lộc
A70: Biểu số: 02.2-CĐ | B70: Sinh viên đang học chia theo ngành đào tạo | K70: Đơn vị báo cáo:
A71: Ban hành theo Quyết định | B71: Năm học 201… - 201… | K71: =Bia!$C$10 -> Tr.CĐ Kỹ thuật Lý Tự Trọng TP HCM
A72: số 5363/QĐ-BGDĐT | C72: Cao đẳng
A73: ngày 14/11/2013 của Bộ trưởng | C73: Hệ cử tuyển
A74: Ngày nhận báo cáo: 31/12
B75: Trường không đào tạo hệ này nên không có số liệu báo cáo.
B76: Mã | C76: Tổng số | D76: Trong đó | G76: Tổng số sinh viên chia theo năm đào tạo | K76: Ghi chú
B77: số (1) | C77: sinh viên | D77: Nữ | E77: Dân tộc ít người | G77: Năm | H77: Năm | I77: Năm | J77: Năm
E78: T.số | F78: Tr.đó: Nữ | G78: thứ 1 | H78: thứ 2 | I78: thứ 3 | J78: thứ 4
A79: A | B79: 1 | C79: 2 | D79: 3 | E79: 4 | F79: 5 | G79: 6 | H79: 7 | I79: 8 | J79: 9 | K79: 10
A80: Tổng số | C80: =SUM(C81:C128) -> 0 | D80: =SUM(D81:D128) -> 0 | E80: =SUM(E81:E128) -> 0 | F80: =SUM(F81:F128) -> 0 | G80: =SUM(G81:G128) -> 0 | H80: =SUM(H81:H128) -> 0 | I80: =SUM(I81:I128) -> 0 | J80: =SUM(J81:J128) -> 0 | O80: =IF(OR(C80<D80,C80<F80,C80<E80),"Er","") | P80: =IF(OR(C80<D80,D80<F80),"Er","") | Q80: =IF(OR(C80<E80,E80<F80),"Er","") | R80: =IF(OR(C80<F80,D80<F80,E80<F80),"Er","")
A81: =IF(ISNA( VLOOKUP(B81,NGHANH_CD_LIST,2,FALSE)),"",VLOOKUP(B81,NGHANH_CD_LIST,2,FALSE)) | C81: =SUM(G81:J81) -> 0 | K81: (1) Ghi theo tên tuyển sinh và mã số | O81: =IF(OR(C81<D81,C81<F81,C81<E81),"Er","") | P81: =IF(OR(C81<D81,D81<F81),"Er","") | Q81: =IF(OR(C81<E81,E81<F81),"Er","") | R81: =IF(OR(C81<F81,D81<F81,E81<F81),"Er","")
A82: =IF(ISNA( VLOOKUP(B82,NGHANH_CD_LIST,2,FALSE)),"",VLOOKUP(B82,NGHANH_CD_LIST,2,FALSE)) | C82: =SUM(G82:J82) -> 0 | K82: ngành (theo TT số 34/2011/TT-BGDĐT | O82: =IF(OR(C82<D82,C82<F82,C82<E82),"Er","") | P82: =IF(OR(C82<D82,D82<F82),"Er","") | Q82: =IF(OR(C82<E82,E82<F82),"Er","") | R82: =IF(OR(C82<F82,D82<F82,E82<F82),"Er","")
A83: =IF(ISNA( VLOOKUP(B83,NGHANH_CD_LIST,2,FALSE)),"",VLOOKUP(B83,NGHANH_CD_LIST,2,FALSE)) | C83: =SUM(G83:J83) -> 0 | K83: ngày 11/8/2011) | O83: =IF(OR(C83<D83,C83<F83,C83<E83),"Er","") | P83: =IF(OR(C83<D83,D83<F83),"Er","") | Q83: =IF(OR(C83<E83,E83<F83),"Er","") | R83: =IF(OR(C83<F83,D83<F83,E83<F83),"Er","")
A84: =IF(ISNA( VLOOKUP(B84,NGHANH_CD_LIST,2,FALSE)),"",VLOOKUP(B84,NGHANH_CD_LIST,2,FALSE)) | C84: =SUM(G84:J84) -> 0 | O84: =IF(OR(C84<D84,C84<F84,C84<E84),"Er","") | P84: =IF(OR(C84<D84,D84<F84),"Er","") | Q84: =IF(OR(C84<E84,E84<F84),"Er","") | R84: =IF(OR(C84<F84,D84<F84,E84<F84),"Er","")
A85: =IF(ISNA( VLOOKUP(B85,NGHANH_CD_LIST,2,FALSE)),"",VLOOKUP(B85,NGHANH_CD_LIST,2,FALSE)) | C85: =SUM(G85:J85) -> 0 | O85: =IF(OR(C85<D85,C85<F85,C85<E85),"Er","") | P85: =IF(OR(C85<D85,D85<F85),"Er","") | Q85: =IF(OR(C85<E85,E85<F85),"Er","") | R85: =IF(OR(C85<F85,D85<F85,E85<F85),"Er","")
A86: =IF(ISNA( VLOOKUP(B86,NGHANH_CD_LIST,2,FALSE)),"",VLOOKUP(B86,NGHANH_CD_LIST,2,FALSE)) | C86: =SUM(G86:J86) -> 0 | O86: =IF(OR(C86<D86,C86<F86,C86<E86),"Er","") | P86: =IF(OR(C86<D86,D86<F86),"Er","") | Q86: =IF(OR(C86<E86,E86<F86),"Er","") | R86: =IF(OR(C86<F86,D86<F86,E86<F86),"Er","")
A87: =IF(ISNA( VLOOKUP(B87,NGHANH_CD_LIST,2,FALSE)),"",VLOOKUP(B87,NGHANH_CD_LIST,2,FALSE)) | C87: =SUM(G87:J87) -> 0 | O87: =IF(OR(C87<D87,C87<F87,C87<E87),"Er","") | P87: =IF(OR(C87<D87,D87<F87),"Er","") | Q87: =IF(OR(C87<E87,E87<F87),"Er","") | R87: =IF(OR(C87<F87,D87<F87,E87<F87),"Er","")
A88: =IF(ISNA( VLOOKUP(B88,NGHANH_CD_LIST,2,FALSE)),"",VLOOKUP(B88,NGHANH_CD_LIST,2,FALSE)) | C88: =SUM(G88:J88) -> 0 | O88: =IF(OR(C88<D88,C88<F88,C88<E88),"Er","") | P88: =IF(OR(C88<D88,D88<F88),"Er","") | Q88: =IF(OR(C88<E88,E88<F88),"Er","") | R88: =IF(OR(C88<F88,D88<F88,E88<F88),"Er","")
A89: =IF(ISNA( VLOOKUP(B89,NGHANH_CD_LIST,2,FALSE)),"",VLOOKUP(B89,NGHANH_CD_LIST,2,FALSE)) | C89: =SUM(G89:J89) -> 0 | O89: =IF(OR(C89<D89,C89<F89,C89<E89),"Er","") | P89: =IF(OR(C89<D89,D89<F89),"Er","") | Q89: =IF(OR(C89<E89,E89<F89),"Er","") | R89: =IF(OR(C89<F89,D89<F89,E89<F89),"Er","")
A90: =IF(ISNA( VLOOKUP(B90,NGHANH_CD_LIST,2,FALSE)),"",VLOOKUP(B90,NGHANH_CD_LIST,2,FALSE)) | C90: =SUM(G90:J90) -> 0 | O90: =IF(OR(C90<D90,C90<F90,C90<E90),"Er","") | P90: =IF(OR(C90<D90,D90<F90),"Er","") | Q90: =IF(OR(C90<E90,E90<F90),"Er","") | R90: =IF(OR(C90<F90,D90<F90,E90<F90),"Er","")
A91: =IF(ISNA( VLOOKUP(B91,NGHANH_CD_LIST,2,FALSE)),"",VLOOKUP(B91,NGHANH_CD_LIST,2,FALSE)) | C91: =SUM(G91:J91) -> 0 | O91: =IF(OR(C91<D91,C91<F91,C91<E91),"Er","") | P91: =IF(OR(C91<D91,D91<F91),"Er","") | Q91: =IF(OR(C91<E91,E91<F91),"Er","") | R91: =IF(OR(C91<F91,D91<F91,E91<F91),"Er","")
A92: =IF(ISNA( VLOOKUP(B92,NGHANH_CD_LIST,2,FALSE)),"",VLOOKUP(B92,NGHANH_CD_LIST,2,FALSE)) | C92: =SUM(G92:J92) -> 0 | O92: =IF(OR(C92<D92,C92<F92,C92<E92),"Er","") | P92: =IF(OR(C92<D92,D92<F92),"Er","") | Q92: =IF(OR(C92<E92,E92<F92),"Er","") | R92: =IF(OR(C92<F92,D92<F92,E92<F92),"Er","")
A93: =IF(ISNA( VLOOKUP(B93,NGHANH_CD_LIST,2,FALSE)),"",VLOOKUP(B93,NGHANH_CD_LIST,2,FALSE)) | C93: =SUM(G93:J93) -> 0 | O93: =IF(OR(C93<D93,C93<F93,C93<E93),"Er","") | P93: =IF(OR(C93<D93,D93<F93),"Er","") | Q93: =IF(OR(C93<E93,E93<F93),"Er","") | R93: =IF(OR(C93<F93,D93<F93,E93<F93),"Er","")
A94: =IF(ISNA( VLOOKUP(B94,NGHANH_CD_LIST,2,FALSE)),"",VLOOKUP(B94,NGHANH_CD_LIST,2,FALSE)) | C94: =SUM(G94:J94) -> 0 | O94: =IF(OR(C94<D94,C94<F94,C94<E94),"Er","") | P94: =IF(OR(C94<D94,D94<F94),"Er","") | Q94: =IF(OR(C94<E94,E94<F94),"Er","") | R94: =IF(OR(C94<F94,D94<F94,E94<F94),"Er","")
A95: =IF(ISNA( VLOOKUP(B95,NGHANH_CD_LIST,2,FALSE)),"",VLOOKUP(B95,NGHANH_CD_LIST,2,FALSE)) | C95: =SUM(G95:J95) -> 0 | O95: =IF(OR(C95<D95,C95<F95,C95<E95),"Er","") | P95: =IF(OR(C95<D95,D95<F95),"Er","") | Q95: =IF(OR(C95<E95,E95<F95),"Er","") | R95: =IF(OR(C95<F95,D95<F95,E95<F95),"Er","")
... A128: =IF(ISNA( VLOOKUP(B128,NGHANH_CD_LIST,2,FALSE)),"",VLOOKUP(B128,NGHANH_CD_LIST,2,FALSE)) | C128: =SUM(G128:J128) -> 0 | O128: =IF(OR(C128<D128,C128<F128,C128<E128),"Er","") | P128: =IF(OR(C128<D128,D128<F128),"Er","") | Q128: =IF(OR(C128<E128,E128<F128),"Er","") | R128: =IF(OR(C128<F128,D128<F128,E128<F128),"Er","")
J129: Ngày 29 tháng 12 năm 2014 | O129: =IF(OR(C129<D129,C129<F129,C129<E129),"Er","") | P129: =IF(OR(C129<D129,D129<F129),"Er","") | Q129: =IF(OR(C129<E129,E129<F129),"Er","") | R129: =IF(OR(C129<F129,D129<F129,E129<F129),"Er","")
A130: Người lập biểu | J130: Hiệu trưởng | O130: =IF(OR(C130<D130,C130<F130,C130<E130),"Er","") | P130: =IF(OR(C130<D130,D130<F130),"Er","") | Q130: =IF(OR(C130<E130,E130<F130),"Er","") | R130: =IF(OR(C130<F130,D130<F130,E130<F130),"Er","")
O131: =IF(OR(C131<D131,C131<F131,C131<E131),"Er","") | P131: =IF(OR(C131<D131,D131<F131),"Er","") | Q131: =IF(OR(C131<E131,E131<F131),"Er","") | R131: =IF(OR(C131<F131,D131<F131,E131<F131),"Er","")
O132: =IF(OR(C132<D132,C132<F132,C132<E132),"Er","") | P132: =IF(OR(C132<D132,D132<F132),"Er","") | Q132: =IF(OR(C132<E132,E132<F132),"Er","") | R132: =IF(OR(C132<F132,D132<F132,E132<F132),"Er","")
O133: =IF(OR(C133<D133,C133<F133,C133<E133),"Er","") | P133: =IF(OR(C133<D133,D133<F133),"Er","") | Q133: =IF(OR(C133<E133,E133<F133),"Er","") | R133: =IF(OR(C133<F133,D133<F133,E133<F133),"Er","")
O134: =IF(OR(C134<D134,C134<F134,C134<E134),"Er","") | P134: =IF(OR(C134<D134,D134<F134),"Er","") | Q134: =IF(OR(C134<E134,E134<F134),"Er","") | R134: =IF(OR(C134<F134,D134<F134,E134<F134),"Er","")
O135: =IF(OR(C135<D135,C135<F135,C135<E135),"Er","") | P135: =IF(OR(C135<D135,D135<F135),"Er","") | Q135: =IF(OR(C135<E135,E135<F135),"Er","") | R135: =IF(OR(C135<F135,D135<F135,E135<F135),"Er","")
K136: Phạm Hữu Lộc
A139: Biểu số: 02.3-CĐ | B139: Sinh viên đang học chia theo ngành đào tạo | K139: Đơn vị báo cáo:
A140: Ban hành theo Quyết định | B140: Năm học 201… - 201… | K140: =Bia!$C$10 -> Tr.CĐ Kỹ thuật Lý Tự Trọng TP HCM
A141: số 5363/QĐ-BGDĐT | C141: Cao Đẳng
A142: ngày 14/11/2013 của Bộ trưởng | C142: Vừa làm vừa học
A143: Ngày nhận báo cáo: 31/12 | B143: Trường không đào tạo hệ này nên không có số liệu báo cáo.
B145: Mã | C145: Tổng số | D145: Trong đó | G145: Tổng số sinh viên chia theo năm đào tạo | K145: Ghi chú
B146: số (1) | C146: sinh viên | D146: Nữ | E146: Dân tộc ít người | G146: Năm | H146: Năm | I146: Năm | J146: Năm
E147: T.số | F147: Tr.đó: Nữ | G147: thứ 1 | H147: thứ 2 | I147: thứ 3 | J147: thứ 4
A148: A | B148: 1 | C148: 2 | D148: 3 | E148: 4 | F148: 5 | G148: 6 | H148: 7 | I148: 8 | J148: 9 | K148: 10
A149: Tổng số | C149: =SUM(C150:C205) -> 0 | D149: =SUM(D150:D205) -> 0 | E149: =SUM(E150:E205) -> 0 | F149: =SUM(F150:F205) -> 0 | G149: =SUM(G150:G205) -> 0 | H149: =SUM(H150:H205) -> 0 | I149: =SUM(I150:I205) -> 0 | J149: =SUM(J150:J205) -> 0 | O149: =IF(OR(C149<D149,C149<F149,C149<E149),"Er","") | P149: =IF(OR(C149<D149,D149<F149),"Er","") | Q149: =IF(OR(C149<E149,E149<F149),"Er","") | R149: =IF(OR(C149<F149,D149<F149,E149<F149),"Er","")
A150: =IF(ISNA( VLOOKUP(B150,NGHANH_CD_LIST,2,FALSE)),"",VLOOKUP(B150,NGHANH_CD_LIST,2,FALSE)) | C150: =SUM(G150:J150) -> 0 | O150: =IF(OR(C150<D150,C150<F150,C150<E150),"Er","") | P150: =IF(OR(C150<D150,D150<F150),"Er","") | Q150: =IF(OR(C150<E150,E150<F150),"Er","") | R150: =IF(OR(C150<F150,D150<F150,E150<F150),"Er","")
A151: =IF(ISNA( VLOOKUP(B151,NGHANH_CD_LIST,2,FALSE)),"",VLOOKUP(B151,NGHANH_CD_LIST,2,FALSE)) | C151: =SUM(G151:J151) -> 0 | K151: (1) Ghi theo tên tuyển sinh và mã số | O151: =IF(OR(C151<D151,C151<F151,C151<E151),"Er","") | P151: =IF(OR(C151<D151,D151<F151),"Er","") | Q151: =IF(OR(C151<E151,E151<F151),"Er","") | R151: =IF(OR(C151<F151,D151<F151,E151<F151),"Er","")
A152: =IF(ISNA( VLOOKUP(B152,NGHANH_CD_LIST,2,FALSE)),"",VLOOKUP(B152,NGHANH_CD_LIST,2,FALSE)) | C152: =SUM(G152:J152) -> 0 | K152: ngành (theo TT số 34/2011/TT-BGDĐT | O152: =IF(OR(C152<D152,C152<F152,C152<E152),"Er","") | P152: =IF(OR(C152<D152,D152<F152),"Er","") | Q152: =IF(OR(C152<E152,E152<F152),"Er","") | R152: =IF(OR(C152<F152,D152<F152,E152<F152),"Er","")
A153: =IF(ISNA( VLOOKUP(B153,NGHANH_CD_LIST,2,FALSE)),"",VLOOKUP(B153,NGHANH_CD_LIST,2,FALSE)) | C153: =SUM(G153:J153) -> 0 | K153: ngày 11/8/2011) | O153: =IF(OR(C153<D153,C153<F153,C153<E153),"Er","") | P153: =IF(OR(C153<D153,D153<F153),"Er","") | Q153: =IF(OR(C153<E153,E153<F153),"Er","") | R153: =IF(OR(C153<F153,D153<F153,E153<F153),"Er","")
A154: =IF(ISNA( VLOOKUP(B154,NGHANH_CD_LIST,2,FALSE)),"",VLOOKUP(B154,NGHANH_CD_LIST,2,FALSE)) | C154: =SUM(G154:J154) -> 0 | O154: =IF(OR(C154<D154,C154<F154,C154<E154),"Er","") | P154: =IF(OR(C154<D154,D154<F154),"Er","") | Q154: =IF(OR(C154<E154,E154<F154),"Er","") | R154: =IF(OR(C154<F154,D154<F154,E154<F154),"Er","")
A155: =IF(ISNA( VLOOKUP(B155,NGHANH_CD_LIST,2,FALSE)),"",VLOOKUP(B155,NGHANH_CD_LIST,2,FALSE)) | C155: =SUM(G155:J155) -> 0 | K155: * Tổng số: kể cả đào tạo tại trường, | O155: =IF(OR(C155<D155,C155<F155,C155<E155),"Er","") | P155: =IF(OR(C155<D155,D155<F155),"Er","") | Q155: =IF(OR(C155<E155,E155<F155),"Er","") | R155: =IF(OR(C155<F155,D155<F155,E155<F155),"Er","")
A156: =IF(ISNA( VLOOKUP(B156,NGHANH_CD_LIST,2,FALSE)),"",VLOOKUP(B156,NGHANH_CD_LIST,2,FALSE)) | C156: =SUM(G156:J156) -> 0 | K156: liên kết đào tạo với nơi khác nhưng | O156: =IF(OR(C156<D156,C156<F156,C156<E156),"Er","") | P156: =IF(OR(C156<D156,D156<F156),"Er","") | Q156: =IF(OR(C156<E156,E156<F156),"Er","") | R156: =IF(OR(C156<F156,D156<F156,E156<F156),"Er","")
A157: =IF(ISNA( VLOOKUP(B157,NGHANH_CD_LIST,2,FALSE)),"",VLOOKUP(B157,NGHANH_CD_LIST,2,FALSE)) | C157: =SUM(G157:J157) -> 0 | K157: trường cấp bằng ghi số liệu | O157: =IF(OR(C157<D157,C157<F157,C157<E157),"Er","") | P157: =IF(OR(C157<D157,D157<F157),"Er","") | Q157: =IF(OR(C157<E157,E157<F157),"Er","") | R157: =IF(OR(C157<F157,D157<F157,E157<F157),"Er","")
A158: =IF(ISNA( VLOOKUP(B158,NGHANH_CD_LIST,2,FALSE)),"",VLOOKUP(B158,NGHANH_CD_LIST,2,FALSE)) | C158: =SUM(G158:J158) -> 0 | O158: =IF(OR(C158<D158,C158<F158,C158<E158),"Er","") | P158: =IF(OR(C158<D158,D158<F158),"Er","") | Q158: =IF(OR(C158<E158,E158<F158),"Er","") | R158: =IF(OR(C158<F158,D158<F158,E158<F158),"Er","")
A159: =IF(ISNA( VLOOKUP(B159,NGHANH_CD_LIST,2,FALSE)),"",VLOOKUP(B159,NGHANH_CD_LIST,2,FALSE)) | C159: =SUM(G159:J159) -> 0 | O159: =IF(OR(C159<D159,C159<F159,C159<E159),"Er","") | P159: =IF(OR(C159<D159,D159<F159),"Er","") | Q159: =IF(OR(C159<E159,E159<F159),"Er","") | R159: =IF(OR(C159<F159,D159<F159,E159<F159),"Er","")
A160: =IF(ISNA( VLOOKUP(B160,NGHANH_CD_LIST,2,FALSE)),"",VLOOKUP(B160,NGHANH_CD_LIST,2,FALSE)) | C160: =SUM(G160:J160) -> 0 | O160: =IF(OR(C160<D160,C160<F160,C160<E160),"Er","") | P160: =IF(OR(C160<D160,D160<F160),"Er","") | Q160: =IF(OR(C160<E160,E160<F160),"Er","") | R160: =IF(OR(C160<F160,D160<F160,E160<F160),"Er","")
A161: =IF(ISNA( VLOOKUP(B161,NGHANH_CD_LIST,2,FALSE)),"",VLOOKUP(B161,NGHANH_CD_LIST,2,FALSE)) | C161: =SUM(G161:J161) -> 0 | O161: =IF(OR(C161<D161,C161<F161,C161<E161),"Er","") | P161: =IF(OR(C161<D161,D161<F161),"Er","") | Q161: =IF(OR(C161<E161,E161<F161),"Er","") | R161: =IF(OR(C161<F161,D161<F161,E161<F161),"Er","")
A162: =IF(ISNA( VLOOKUP(B162,NGHANH_CD_LIST,2,FALSE)),"",VLOOKUP(B162,NGHANH_CD_LIST,2,FALSE)) | C162: =SUM(G162:J162) -> 0 | O162: =IF(OR(C162<D162,C162<F162,C162<E162),"Er","") | P162: =IF(OR(C162<D162,D162<F162),"Er","") | Q162: =IF(OR(C162<E162,E162<F162),"Er","") | R162: =IF(OR(C162<F162,D162<F162,E162<F162),"Er","")
A163: =IF(ISNA( VLOOKUP(B163,NGHANH_CD_LIST,2,FALSE)),"",VLOOKUP(B163,NGHANH_CD_LIST,2,FALSE)) | C163: =SUM(G163:J163) -> 0 | O163: =IF(OR(C163<D163,C163<F163,C163<E163),"Er","") | P163: =IF(OR(C163<D163,D163<F163),"Er","") | Q163: =IF(OR(C163<E163,E163<F163),"Er","") | R163: =IF(OR(C163<F163,D163<F163,E163<F163),"Er","")
A164: =IF(ISNA( VLOOKUP(B164,NGHANH_CD_LIST,2,FALSE)),"",VLOOKUP(B164,NGHANH_CD_LIST,2,FALSE)) | C164: =SUM(G164:J164) -> 0 | O164: =IF(OR(C164<D164,C164<F164,C164<E164),"Er","") | P164: =IF(OR(C164<D164,D164<F164),"Er","") | Q164: =IF(OR(C164<E164,E164<F164),"Er","") | R164: =IF(OR(C164<F164,D164<F164,E164<F164),"Er","")
A165: =IF(ISNA( VLOOKUP(B165,NGHANH_CD_LIST,2,FALSE)),"",VLOOKUP(B165,NGHANH_CD_LIST,2,FALSE)) | C165: =SUM(G165:J165) -> 0 | O165: =IF(OR(C165<D165,C165<F165,C165<E165),"Er","") | P165: =IF(OR(C165<D165,D165<F165),"Er","") | Q165: =IF(OR(C165<E165,E165<F165),"Er","") | R165: =IF(OR(C165<F165,D165<F165,E165<F165),"Er","")
A166: =IF(ISNA( VLOOKUP(B166,NGHANH_CD_LIST,2,FALSE)),"",VLOOKUP(B166,NGHANH_CD_LIST,2,FALSE)) | C166: =SUM(G166:J166) -> 0 | O166: =IF(OR(C166<D166,C166<F166,C166<E166),"Er","") | P166: =IF(OR(C166<D166,D166<F166),"Er","") | Q166: =IF(OR(C166<E166,E166<F166),"Er","") | R166: =IF(OR(C166<F166,D166<F166,E166<F166),"Er","")
A167: =IF(ISNA( VLOOKUP(B167,NGHANH_CD_LIST,2,FALSE)),"",VLOOKUP(B167,NGHANH_CD_LIST,2,FALSE)) | C167: =SUM(G167:J167) -> 0 | O167: =IF(OR(C167<D167,C167<F167,C167<E167),"Er","") | P167: =IF(OR(C167<D167,D167<F167),"Er","") | Q167: =IF(OR(C167<E167,E167<F167),"Er","") | R167: =IF(OR(C167<F167,D167<F167,E167<F167),"Er","")
A168: =IF(ISNA( VLOOKUP(B168,NGHANH_CD_LIST,2,FALSE)),"",VLOOKUP(B168,NGHANH_CD_LIST,2,FALSE)) | C168: =SUM(G168:J168) -> 0 | O168: =IF(OR(C168<D168,C168<F168,C168<E168),"Er","") | P168: =IF(OR(C168<D168,D168<F168),"Er","") | Q168: =IF(OR(C168<E168,E168<F168),"Er","") | R168: =IF(OR(C168<F168,D168<F168,E168<F168),"Er","")
A169: =IF(ISNA( VLOOKUP(B169,NGHANH_CD_LIST,2,FALSE)),"",VLOOKUP(B169,NGHANH_CD_LIST,2,FALSE)) | C169: =SUM(G169:J169) -> 0 | O169: =IF(OR(C169<D169,C169<F169,C169<E169),"Er","") | P169: =IF(OR(C169<D169,D169<F169),"Er","") | Q169: =IF(OR(C169<E169,E169<F169),"Er","") | R169: =IF(OR(C169<F169,D169<F169,E169<F169),"Er","")
... A205: =IF(ISNA( VLOOKUP(B205,NGHANH_CD_LIST,2,FALSE)),"",VLOOKUP(B205,NGHANH_CD_LIST,2,FALSE)) | C205: =SUM(G205:J205) -> 0 | O205: =IF(OR(C205<D205,C205<F205,C205<E205),"Er","") | P205: =IF(OR(C205<D205,D205<F205),"Er","") | Q205: =IF(OR(C205<E205,E205<F205),"Er","") | R205: =IF(OR(C205<F205,D205<F205,E205<F205),"Er","")
...

Sheet bieu2 TCCN
A1: Biểu số: 02.1- TCCN | B1: HỌC SINH ĐANG HỌC CHIA THEO NGÀNH ĐÀO TẠO | K1: Đơn vị báo cáo
A2: Ban hành theo Quyết định | B2: Năm học 2014 - 2015 | K2: =Bia!$C$10 -> Tr.CĐ Kỹ thuật Lý Tự Trọng TP HCM
A3: số 5363/QĐ-BGDĐT | B3: Trung cấp chuyên nghiệp
A4: ngày 14/11/2013 của Bộ trưởng | C4: Hệ chính quy
A5: Ngày nhận báo cáo: 31/12
B7: Mã | C7: Tổng số | D7: Trong đó | G7: Tổng sổ sinh viên chia theo năm đào tạo | K7: Ghi chú
B8: số (1) | C8: sinh viên | D8: Nữ | E8: Dân tộc ít người | G8: Năm | H8: Năm | I8: Năm | J8: Năm
E9: Tổng số | F9: Tr.đó: Nữ | G9: thứ 1 | H9: thứ 2 | I9: thứ 3 | J9: thứ 4
A10: A | B10: 1 | C10: 2 | D10: 3 | E10: 4 | F10: 5 | G10: 6 | H10: 7 | I10: 8 | J10: 9 | K10: 10
A11: Tổng số | C11: =SUM(C12:C20) -> 584 | D11: =SUM(D12:D20) -> 51 | E11: =SUM(E12:E20) -> 25 | F11: =SUM(F12:F20) -> 2 | G11: =SUM(G12:G20) -> 367 | H11: =SUM(H12:H20) -> 217 | I11: =SUM(I12:I20) -> 0 | J11: =SUM(J12:J20) -> 0 | O11: =IF(OR(C11<D11,C11<F11,C11<E11),"Er","") | P11: =IF(OR(C11<D11,D11<F11),"Er","") | Q11: =IF(OR(C11<E11,E11<F11),"Er","") | R11: =IF(OR(C11<F11,D11<F11,E11<F11),"Er","")
A12: Phân theo ngành đào tạo | B12: x | C12: x | D12: x | E12: x | F12: x | G12: x | H12: x | I12: x | J12: x | K12: (1) Ghi theo tên tuyển sinh và mã số | O12: =IF(OR(C12<D12,C12<F12,C12<E12),"Er","") | P12: =IF(OR(C12<D12,D12<F12),"Er","") | Q12: =IF(OR(C12<E12,E12<F12),"Er","") | R12: =IF(OR(C12<F12,D12<F12,E12<F12),"Er","")
A13: 1.Ngành Điện tử Công Nghiệp | B13: 42510315 | C13: =SUM(G13:J13) -> 27 | D13: 0 | E13: 0 | F13: 0 | G13: 14 | H13: 13 | I13: 0 | J13: 0 | K13: ngành theo | O13: =IF(OR(C13<D13,C13<F13,C13<E13),"Er","") | P13: =IF(OR(C13<D13,D13<F13),"Er","") | Q13: =IF(OR(C13<E13,E13<F13),"Er","") | R13: =IF(OR(C13<F13,D13<F13,E13<F13),"Er","")
A14: 2.Ngành Điện công nghiệp & Dân dụng | B14: 42510317 | C14: =SUM(G14:J14) -> 124 | D14: 0 | E14: 3 | F14: 0 | G14: 70 | H14: 54 | I14: 0 | J14: 0 | K14: (Thông tư số 34/2011/TT-BGDĐT | O14: =IF(OR(C14<D14,C14<F14,C14<E14),"Er","") | P14: =IF(OR(C14<D14,D14<F14),"Er","") | Q14: =IF(OR(C14<E14,E14<F14),"Er","") | R14: =IF(OR(C14<F14,D14<F14,E14<F14),"Er","")
A15: 3.Ngành Công nghệ kỹ thuật nhiệt | B15: 42510219 | C15: =SUM(G15:J15) -> 76 | D15: 0 | E15: 6 | F15: 0 | G15: 50 | H15: 26 | I15: 0 | J15: 0 | K15: ngày 11/8/2011) | O15: =IF(OR(C15<D15,C15<F15,C15<E15),"Er","") | P15: =IF(OR(C15<D15,D15<F15),"Er","") | Q15: =IF(OR(C15<E15,E15<F15),"Er","") | R15: =IF(OR(C15<F15,D15<F15,E15<F15),"Er","")
A16: 4.Ngành Cơ khí chế tạo | B16: 42510204 | C16: =SUM(G16:J16) -> 87 | D16: 0 | E16: 4 | F16: 0 | G16: 60 | H16: 27 | I16: 0 | J16: 0 | K16: * Tổng số: kể cả đào tạo tại trường, | O16: =IF(OR(C16<D16,C16<F16,C16<E16),"Er","") | P16: =IF(OR(C16<D16,D16<F16),"Er","") | Q16: =IF(OR(C16<E16,E16<F16),"Er","") | R16: =IF(OR(C16<F16,D16<F16,E16<F16),"Er","")
A17: 5.Ngành Bảo trì và sửa chữa Ô Tô | B17: 42510225 | C17: =SUM(G17:J17) -> 166 | D17: 0 | E17: 7 | F17: 0 | G17: 115 | H17: 51 | I17: 0 | J17: 0 | K17: liên kết đào tạo với nơi khác nhưng | O17: =IF(OR(C17<D17,C17<F17,C17<E17),"Er","") | P17: =IF(OR(C17<D17,D17<F17),"Er","") | Q17: =IF(OR(C17<E17,E17<F17),"Er","") | R17: =IF(OR(C17<F17,D17<F17,E17<F17),"Er","")
A18: 6.Ngành Công nghệ May và Thời trang | B18: 42540205 | C18: =SUM(G18:J18) -> 54 | D18: 50 | E18: 2 | F18: 2 | G18: 33 | H18: 21 | I18: 0 | J18: 0 | K18: trường cấp bằng, đào tạo theo địa chỉ | O18: =IF(OR(C18<D18,C18<F18,C18<E18),"Er","") | P18: =IF(OR(C18<D18,D18<F18),"Er","") | Q18: =IF(OR(C18<E18,E18<F18),"Er","") | R18: =IF(OR(C18<F18,D18<F18,E18<F18),"Er","")
A19: 7.Ngành Lập trình | B19: 42480203 | C19: =SUM(G19:J19) -> 0 | D19: 0 | E19: 0 | F19: 0 | G19: 0 | H19: 0 | I19: 0 | J19: 0 | O19: =IF(OR(C19<D19,C19<F19,C19<E19),"Er","") | P19: =IF(OR(C19<D19,D19<F19),"Er","") | Q19: =IF(OR(C19<E19,E19<F19),"Er","") | R19: =IF(OR(C19<F19,D19<F19,E19<F19),"Er","")
A20: 8.Ngành Quản trị mạng máy tính | B20: 42480202 | C20: =SUM(G20:J20) -> 50 | D20: 1 | E20: 3 | F20: 0 | G20: 25 | H20: 25 | I20: 0 | J20: 0 | O20: =IF(OR(C20<D20,C20<F20,C20<E20),"Er","") | P20: =IF(OR(C20<D20,D20<F20),"Er","") | Q20: =IF(OR(C20<E20,E20<F20),"Er","") | R20: =IF(OR(C20<F20,D20<F20,E20<F20),"Er","")
J21: Ngày 29 tháng 12 năm 2014
A22: Người lập biểu | J22: Hiệu trưởng
J27: Phạm Hữu Lộc
A30: Biểu số: 02.2-TCCN | B30: HỌC SINH ĐANG HỌC CHIA THEO NGÀNH ĐÀO TẠO | K30: Đơn vị báo cáo
A31: Ban hành theo Quyết định | B31: Năm học 201… - 201… | K31: =Bia!$C$10 -> Tr.CĐ Kỹ thuật Lý Tự Trọng TP HCM
A32: số 5363/QĐ-BGDĐT | B32: Trung cấp chuyên nghiệp
A33: ngày 14/11/2013 của Bộ trưởng | C33: Vừa làm vừa học
A34: Ngày nhận báo cáo: 31/12
B35: Trường không đào tạo hệ này nên không có số liệu báo cáo.
B37: Mã | C37: Tổng số | D37: Trong đó | G37: Tổng sổ sinh viên chia theo năm đào tạo | K37: Ghi chú
B38: số (1) | C38: sinh viên | D38: Nữ | E38: Dân tộc ít người | G38: Năm | H38: Năm | I38: Năm | J38: Năm
E39: Tổng số | F39: Tr.đó: Nữ | G39: thứ 1 | H39: thứ 2 | I39: thứ 3 | J39: thứ 4
A40: A | B40: 1 | C40: 2 | D40: 3 | E40: 4 | F40: 5 | G40: 6 | H40: 7 | I40: 8 | J40: 9 | K40: 10
A41: Tổng số | C41: =SUM(C42,C50) -> 0 | D41: =SUM(D42,D50) -> 0 | E41: =SUM(E42,E50) -> 0 | F41: =SUM(F42,F50) -> 0 | G41: =SUM(G42,G50) -> 0 | H41: =SUM(H42,H50) -> 0 | I41: =SUM(I42,I50) -> 0 | J41: =SUM(J42,J50) -> 0 | O41: =IF(OR(C41<D41,C41<F41,C41<E41),"Er","") | P41: =IF(OR(C41<D41,D41<F41),"Er","") | Q41: =IF(OR(C41<E41,E41<F41),"Er","") | R41: =IF(OR(C41<F41,D41<F41,E41<F41),"Er","")
A42: I-Đào tạo tại trường | C42: =SUM(C43:C49) -> 0 | D42: =SUM(D43:D49) -> 0 | E42: =SUM(E43:E49) -> 0 | F42: =SUM(F43:F49) -> 0 | G42: =SUM(G43:G49) -> 0 | H42: =SUM(H43:H49) -> 0 | I42: =SUM(I43:I49) -> 0 | J42: =SUM(J43:J49) -> 0 | K42: (1) Ghi theo tên tuyển sinh và mã số | O42: =IF(OR(C42<D42,C42<F42,C42<E42),"Er","") | P42: =IF(OR(C42<D42,D42<F42),"Er","") | Q42: =IF(OR(C42<E42,E42<F42),"Er","") | R42: =IF(OR(C42<F42,D42<F42,E42<F42),"Er","")
A43: Phân theo ngành đào tạo | B43: x | C43: x | D43: x | E43: x | F43: x | G43: x | H43: x | I43: x | J43: x | K43: ngành theo (Thông tư số | O43: =IF(OR(C43<D43,C43<F43,C43<E43),"Er","") | P43: =IF(OR(C43<D43,D43<F43),"Er","") | Q43: =IF(OR(C43<E43,E43<F43),"Er","") | R43: =IF(OR(C43<F43,D43<F43,E43<F43),"Er","")
A44: 1.Ngành | C44: =SUM(G44:J44) -> 0 | K44: 34/2011/TT-BGDĐT ngày 11/8/2011) | O44: =IF(OR(C44<D44,C44<F44,C44<E44),"Er","") | P44: =IF(OR(C44<D44,D44<F44),"Er","") | Q44: =IF(OR(C44<E44,E44<F44),"Er","") | R44: =IF(OR(C44<F44,D44<F44,E44<F44),"Er","")
A45: 2.Ngành | C45: =SUM(G45:J45) -> 0 | O45: =IF(OR(C45<D45,C45<F45,C45<E45),"Er","") | P45: =IF(OR(C45<D45,D45<F45),"Er","") | Q45: =IF(OR(C45<E45,E45<F45),"Er","") | R45: =IF(OR(C45<F45,D45<F45,E45<F45),"Er","")
A46: 3.Ngành | C46: =SUM(G46:J46) -> 0 | O46: =IF(OR(C46<D46,C46<F46,C46<E46),"Er","") | P46: =IF(OR(C46<D46,D46<F46),"Er","") | Q46: =IF(OR(C46<E46,E46<F46),"Er","") | R46: =IF(OR(C46<F46,D46<F46,E46<F46),"Er","")
A47: 4.Ngành | C47: =SUM(G47:J47) -> 0 | O47: =IF(OR(C47<D47,C47<F47,C47<E47),"Er","") | P47: =IF(OR(C47<D47,D47<F47),"Er","") | Q47: =IF(OR(C47<E47,E47<F47),"Er","") | R47: =IF(OR(C47<F47,D47<F47,E47<F47),"Er","")
A48: 5.Ngành | C48: =SUM(G48:J48) -> 0 | O48: =IF(OR(C48<D48,C48<F48,C48<E48),"Er","") | P48: =IF(OR(C48<D48,D48<F48),"Er","") | Q48: =IF(OR(C48<E48,E48<F48),"Er","") | R48: =IF(OR(C48<F48,D48<F48,E48<F48),"Er","")
A49: 6.Ngành | C49: =SUM(G49:J49) -> 0 | O49: =IF(OR(C49<D49,C49<F49,C49<E49),"Er","") | P49: =IF(OR(C49<D49,D49<F49),"Er","") | Q49: =IF(OR(C49<E49,E49<F49),"Er","") | R49: =IF(OR(C49<F49,D49<F49,E49<F49),"Er","")
A50: II-Liên kết đào tạo | C50: =SUM(C51:C56) -> 0 | D50: =SUM(D51:D56) -> 0 | E50: =SUM(E51:E56) -> 0 | F50: =SUM(F51:F56) -> 0 | G50: =SUM(G51:G56) -> 0 | H50: =SUM(H51:H56) -> 0 | I50: =SUM(I51:I56) -> 0 | J50: =SUM(J51:J56) -> 0 | O50: =IF(OR(C50<D50,C50<F50,C50<E50),"Er","") | P50: =IF(OR(C50<D50,D50<F50),"Er","") | Q50: =IF(OR(C50<E50,E50<F50),"Er","") | R50: =IF(OR(C50<F50,D50<F50,E50<F50),"Er","")
A51: 1.Ngành | C51: =SUM(G51:J51) -> 0 | K51: * Tổng số: kể cả đào tạo tại trường, | O51: =IF(OR(C51<D51,C51<F51,C51<E51),"Er","") | P51: =IF(OR(C51<D51,D51<F51),"Er","") | Q51: =IF(OR(C51<E51,E51<F51),"Er","") | R51: =IF(OR(C51<F51,D51<F51,E51<F51),"Er","")
A52: 2.Ngành | C52: =SUM(G52:J52) -> 0 | K52: liên kết với nơi khác nhưng | O52: =IF(OR(C52<D52,C52<F52,C52<E52),"Er","") | P52: =IF(OR(C52<D52,D52<F52),"Er","") | Q52: =IF(OR(C52<E52,E52<F52),"Er","") | R52: =IF(OR(C52<F52,D52<F52,E52<F52),"Er","")
A53: 3.Ngành | C53: =SUM(G53:J53) -> 0 | K53: trường cấp bằng | O53: =IF(OR(C53<D53,C53<F53,C53<E53),"Er","") | P53: =IF(OR(C53<D53,D53<F53),"Er","") | Q53: =IF(OR(C53<E53,E53<F53),"Er","") | R53: =IF(OR(C53<F53,D53<F53,E53<F53),"Er","")
A54: 4.Ngành | C54: =SUM(G54:J54) -> 0 | O54: =IF(OR(C54<D54,C54<F54,C54<E54),"Er","") | P54: =IF(OR(C54<D54,D54<F54),"Er","") | Q54: =IF(OR(C54<E54,E54<F54),"Er","") | R54: =IF(OR(C54<F54,D54<F54,E54<F54),"Er","")
A55: 5.Ngành | C55: =SUM(G55:J55) -> 0 | O55: =IF(OR(C55<D55,C55<F55,C55<E55),"Er","") | P55: =IF(OR(C55<D55,D55<F55),"Er","") | Q55: =IF(OR(C55<E55,E55<F55),"Er","") | R55: =IF(OR(C55<F55,D55<F55,E55<F55),"Er","")
A56: 6.Ngành | C56: =SUM(G56:J56) -> 0 | O56: =IF(OR(C56<D56,C56<F56,C56<E56),"Er","") | P56: =IF(OR(C56<D56,D56<F56),"Er","") | Q56: =IF(OR(C56<E56,E56<F56),"Er","") | R56: =IF(OR(C56<F56,D56<F56,E56<F56),"Er","")
J58: Ngày 29 tháng 12 năm 2014
A59: Người lập biểu | J59: Hiệu trưởng
J64: Phạm Hữu Lộc
A67: Biểu số: 02.3- DN | B67: HỌC SINH ĐANG HỌC CHIA THEO NGÀNH ĐÀO TẠO | K67: Đơn vị báo cáo
A68: Ban hành theo Quyết định | B68: Năm học 2014 - 2015 | K68: =Bia!$C$10 -> Tr.CĐ Kỹ thuật Lý Tự Trọng TP HCM
A69: số 5363/QĐ-BGDĐT
A70: ngày 14/11/2013 của Bộ trưởng | C70: Dạy nghề
A71: Ngày nhận báo cáo: 31/12
B73: Mã | C73: Tổng số | D73: Trong đó | G73: Tổng sổ sinh viên chia theo năm đào tạo | K73: Ghi chú
B74: số (1) | C74: sinh viên | D74: Nữ | E74: Dân tộc ít người | G74: Năm | H74: Năm | I74: Năm | J74: Năm
E75: Tổng số | F75: Tr.đó: Nữ | G75: thứ 1 | H75: thứ 2 | I75: thứ 3 | J75: thứ 4
A76: A | B76: 1 | C76: 2 | D76: 3 | E76: 4 | F76: 5 | G76: 6 | H76: 7 | I76: 8 | J76: 9 | K76: 10
A77: Tổng số | C77: =SUM(C78,C80) -> 1382 | D77: =SUM(D78,D80) -> 1 | E77: =SUM(E78,E80) -> 1 | F77: =SUM(F78,F80) -> 0 | G77: =SUM(G78,G80) -> 1239 | H77: =SUM(H78,H80) -> 0 | I77: =SUM(I78,I80) -> 0 | J77: =SUM(J78,J80) -> 0 | O77: =IF(OR(C77<D77,C77<F77,C77<E77),"Er","") | P77: =IF(OR(C77<D77,D77<F77),"Er","") | Q77: =IF(OR(C77<E77,E77<F77),"Er","") | R77: =IF(OR(C77<F77,D77<F77,E77<F77),"Er","")
A78: I- Trung cấp nghề | C78: =SUM(C79:C79) -> 0 | D78: =SUM(D79:D79) -> 0 | E78: =SUM(E79:E79) -> 0 | F78: =SUM(F79:F79) -> 0 | G78: =SUM(G79:G79) -> 0 | H78: =SUM(H79:H79) -> 0 | I78: =SUM(I79:I79) -> 0 | J78: =SUM(J79:J79) -> 0 | O78: =IF(OR(C78<D78,C78<F78,C78<E78),"Er","") | P78: =IF(OR(C78<D78,D78<F78),"Er","") | Q78: =IF(OR(C78<E78,E78<F78),"Er","") | R78: =IF(OR(C78<F78,D78<F78,E78<F78),"Er","")
A79: Phân theo ngành đào tạo | B79: x | C79: x | D79: x | E79: x | F79: x | G79: x | H79: x | I79: x | J79: x | O79: =IF(OR(C79<D79,C79<F79,C79<E79),"Er","") | P79: =IF(OR(C79<D79,D79<F79),"Er","") | Q79: =IF(OR(C79<E79,E79<F79),"Er","") | R79: =IF(OR(C79<F79,D79<F79,E79<F79),"Er","")
A80: II- Dạy nghề ngắn hạn ( dưới 12 tháng) | C80: =SUM(C81:C85) -> 1382 | D80: =SUM(D81:D85) -> 1 | E80: =SUM(E81:E85) -> 1 | F80: =SUM(F81:F85) -> 0 | G80: =SUM(G81:G85) -> 1239 | H80: =SUM(H81:H85) -> 0 | I80: =SUM(I81:I85) -> 0 | J80: =SUM(J81:J85) -> 0 | K80: Không ghi số liệu vào ô đánh dấu (x) | O80: =IF(OR(C80<D80,C80<F80,C80<E80),"Er","") | P80: =IF(OR(C80<D80,D80<F80),"Er","") | Q80: =IF(OR(C80<E80,E80<F80),"Er","") | R80: =IF(OR(C80<F80,D80<F80,E80<F80),"Er","")
A81: Phân theo ngành đào tạo | O81: =IF(OR(C81<D81,C81<F81,C81<E81),"Er","") | P81: =IF(OR(C81<D81,D81<F81),"Er","") | Q81: =IF(OR(C81<E81,E81<F81),"Er","") | R81: =IF(OR(C81<F81,D81<F81,E81<F81),"Er","")
A82: 1.Ngành Điện - Điện tử | C82: 143 | D82: 1 | E82: 1 | F82: 0 | K82: 93 học viên của cả 5 khóa ESF | O82: =IF(OR(C82<D82,C82<F82,C82<E82),"Er","") | P82: =IF(OR(C82<D82,D82<F82),"Er","") | Q82: =IF(OR(C82<E82,E82<F82),"Er","") | R82: =IF(OR(C82<F82,D82<F82,E82<F82),"Er","")
A83: 2.Ngành Cơ khí | C83: 129 | G83: 129 | O83: =IF(OR(C83<D83,C83<F83,C83<E83),"Er","") | P83: =IF(OR(C83<D83,D83<F83),"Er","") | Q83: =IF(OR(C83<E83,E83<F83),"Er","") | R83: =IF(OR(C83<F83,D83<F83,E83<F83),"Er","")
A84: 3.Ngành Sửa chữa ô tô | C84: 11 | G84: 11 | O84: =IF(OR(C84<D84,C84<F84,C84<E84),"Er","") | P84: =IF(OR(C84<D84,D84<F84),"Er","") | Q84: =IF(OR(C84<E84,E84<F84),"Er","") | R84: =IF(OR(C84<F84,D84<F84,E84<F84),"Er","")
A85: 4.Ngành CNTT | C85: 1099 | G85: 1099 | O85: =IF(OR(C85<D85,C85<F85,C85<E85),"Er","") | P85: =IF(OR(C85<D85,D85<F85),"Er","") | Q85: =IF(OR(C85<E85,E85<F85),"Er","") | R85: =IF(OR(C85<F85,D85<F85,E85<F85),"Er","")
J87: Ngày 29 tháng 12 năm 2014
A88: Người lập biểu | J88: Hiệu trưởng
J93: Phạm Hữu Lộc
A96: Biểu số: 02.4- HSPT | B96: HỌC SINH ĐANG HỌC CHIA THEO NĂM | K96: Đơn vị báo cáo
A97: Ban hành theo Quyết định | B97: Năm học 201… - 201… | K97: =Bia!C10 -> Tr.CĐ Kỹ thuật Lý Tự Trọng TP HCM
A98: số 5363/QĐ-BGDĐT | B98: Học sinh phổ thông chuyên, năng khiếu
A99: ngày 14/11/2013 của Bộ trưởng | C99: Học sinh phổ thông dân tộc nội trú
A100: Ngày nhận báo cáo: 31/12
B101: Trường không đào tạo hệ này nên không có số liệu báo cáo.
B103: Tổng số | C103: Trong đó | F103: Tổng số học sinh chia theo năm học | I103: Ghi chú
B104: học sinh | C104: Nữ | D104: Dân tộc ít người
D105: Tổng số | E105: Tr.đó:Nữ | F105: Lớp 10 | G105: Lớp 11 | H105: Lớp 12
A106: A | B106: 1 | C106: 2 | D106: 3 | E106: 4 | F106: 5 | G106: 6 | H106: 7 | J106: 8
A107: I- Học sinh dự bị | B107: =B108 -> 0 | C107: =C108 -> 0 | D107: =D108 -> 0 | E107: =E108 -> 0 | O107: =IF(OR(B107<C107,B107<D107,B107<E107),"Er","") | P107: =IF(OR(B107<C107,C107<E107),"Er","") | Q107: =IF(OR(B107<D107,D107<E107),"Er","") | R107: =IF(OR(B107<E107,C107<E107,D107<D107),"Er","")
A108: Tổng số | F108: x | G108: x | H108: x | I108: Không ghi số liệu vào ô đánh dấu (x) | O108: =IF(OR(B108<C108,B108<D108,B108<E108),"Er","") | P108: =IF(OR(B108<C108,C108<E108),"Er","") | Q108: =IF(OR(B108<D108,D108<E108),"Er","") | R108: =IF(OR(B108<E108,C108<E108,D108<D108),"Er","")
O109: =IF(OR(B109<C109,B109<D109,B109<E109),"Er","") | P109: =IF(OR(B109<C109,C109<E109),"Er","") | Q109: =IF(OR(B109<D109,D109<E109),"Er","") | R109: =IF(OR(B109<E109,C109<E109,D109<D109),"Er","")
A110: II- Học sinh PT chuyên, năng khiếu | B110: =B111 -> 0 | C110: =C111 -> 0 | D110: =D111 -> 0 | E110: =E111 -> 0 | F110: =F111 -> 0 | G110: =G111 -> 0 | H110: =H111 -> 0 | O110: =IF(OR(B110<C110,B110<D110,B110<E110),"Er","") | P110: =IF(OR(B110<C110,C110<E110),"Er","") | Q110: =IF(OR(B110<D110,D110<E110),"Er","") | R110: =IF(OR(B110<E110,C110<E110,D110<D110),"Er","")
A111: Tổng số | O111: =IF(OR(B111<C111,B111<D111,B111<E111),"Er","") | P111: =IF(OR(B111<C111,C111<E111),"Er","") | Q111: =IF(OR(B111<D111,D111<E111),"Er","") | R111: =IF(OR(B111<E111,C111<E111,D111<D111),"Er","")
O112: =IF(OR(B112<C112,B112<D112,B112<E112),"Er","") | P112: =IF(OR(B112<C112,C112<E112),"Er","") | Q112: =IF(OR(B112<D112,D112<E112),"Er","") | R112: =IF(OR(B112<E112,C112<E112,D112<D112),"Er","")
A113: III- Học sinh PT dân tộc nội trú | B113: =B114 -> 0 | C113: =C114 -> 0 | D113: =D114 -> 0 | E113: =E114 -> 0 | F113: =F114 -> 0 | G113: =G114 -> 0 | H113: =H114 -> 0 | O113: =IF(OR(B113<C113,B113<D113,B113<E113),"Er","") | P113: =IF(OR(B113<C113,C113<E113),"Er","") | Q113: =IF(OR(B113<D113,D113<E113),"Er","") | R113: =IF(OR(B113<E113,C113<E113,D113<D113),"Er","")
A114: Tổng số | O114: =IF(OR(B114<C114,B114<D114,B114<E114),"Er","") | P114: =IF(OR(B114<C114,C114<E114),"Er","") | Q114: =IF(OR(B114<D114,D114<E114),"Er","") | R114: =IF(OR(B114<E114,C114<E114,D114<D114),"Er","")
J117: Ngày 29 tháng 12 năm 2014
A118: Người lập biểu | J118: Hiệu trưởng
J123: Phạm Hữu Lộc

Sheet bieu3
A1: Biểu số: 03.3- CĐ | B1: SINH VIÊN NƯỚC NGOÀI ĐANG HỌC | J1: Đơn vị báo cáo:
A2: Ban hành theo Quyết định | B2: Năm học 201… - 201… | J2: =Bia!$C$10 -> Tr.CĐ Kỹ thuật Lý Tự Trọng TP HCM
A3: số 5363/QĐ-BGDĐT | B3: Cao Đẳng
A4: ngày 14/11/2013 của Bộ trưởng
A5: Ngày nhận báo cáo: 31/12
B6: Hiện chưa có sinh viên nước ngoài theo học tại trường nên không có số liệu báo cáo.
E8: Tổng số sinh viên chia theo
B9: Mã | C9: Tổng số | D9: Trong đó | E9: năm đào tạo
B10: số (1) | C10: sinh viên | D10: Nữ | E10: Năm | F10: Năm | G10: Năm | H10: Năm | I10: Năm | J10: Năm | K10: Ghi chú
E11: thứ 1 | F11: thứ 2 | G11: thứ 3 | H11: thứ 4 | I11: thứ 5 | J11: thứ 6
A12: A | B12: 1 | C12: 2 | D12: 3 | E12: 4 | F12: 5 | G12: 6 | H12: 7 | I12: 8 | J12: 9 | K12: 10
A13: Tổng số | B13: =IF(ISNA( VLOOKUP(A13,NGHANH_CD_LIST,2,FALSE)),"",VLOOKUP(A13,NGHANH_CD_LIST,2,FALSE))
A14: I - Sinh viên nước (2) | K14: (1) Ghi theo tên tuyển sinh và mã số
K15: ngành (theo TT số 14/2010/TT-BGDĐT
K16: ngày 27/4/2010)
K17: (2) Ghi rõ tên nước có sinh viên người
K18: nước ngoài đang học
A22: II - Sinh viên nước (2)
J30: Ngày 29 tháng 12 năm 2014
A31: Người lập biểu | J31: Hiệu trưởng
J37: Phạm Hữu Lộc

Sheet bieu4a
A2: Biểu số: 04.2-CĐ | C2: Số sinh viên tốt nghiệp | K2: Đơn vị báo cáo:
A3: Ban hành theo Quyết định | C3: Năm 2014 | K3: =Bia!C10 -> Tr.CĐ Kỹ thuật Lý Tự Trọng TP HCM
A4: số 5363/QĐ-BGDĐT | C4: Cao Đẳng
A5: ngày 14/11/2013 của Bộ trưởng
A6: Ngày nhận báo cáo: 31/12
C7: A. Số lượng sinh viên tốt nghiệp
C8: Số | D8: Sinh viên tốt nghiệp
C9: sinh viên | E9: Trong đó | H9: Phân loại tốt nghiệp | M9: Ghi chú
C10: dự thi | D10: Tổng | F10: Dân tộc it người | H10: Loại | I10: Loại | J10: Loại | K10: Loại | L10: Loại
D11: số | E11: Nữ | F11: Tổng số | G11: Trong đó | H11: xuất | I11: giỏi | J11: khá | K11: trung bình | L11: trung
G12: Nữ | H12: sắc | K12: khá | L12: bình
A13: A | C13: 1 | D13: 2 | E13: 3 | F13: 4 | G13: 5 | H13: 6 | I13: 7 | J13: 8 | K13: 9 | L13: 10 | M13: 11
A14: ` | C14: =SUM(C15:C17) -> 1376 | D14: =SUM(D15:D17) -> 990 | E14: =SUM(E15:E17) -> 75 | F14: =SUM(F15:F17) -> 8 | G14: =SUM(G15:G17) -> 2 | H14: =SUM(H15:H17) -> 0 | I14: =SUM(I15:I17) -> 9 | J14: =SUM(J15:J17) -> 175 | ... L14: =SUM(L15:L17) -> 109 | O14: =IF(OR(D14<E14,D14<F14,D14<G14),"Er","") | P14: =IF(OR(D14<E14,E14<G14),"Er","") | Q14: =IF(OR(D14<F14,F14<G14),"Er","") | R14: =IF(OR(D14<G14,E14<G14,F14<G14),"Er","")
A15: 1. Hệ chính quy | C15: 1292 | D15: 917 | E15: 73 | F15: 8 | G15: 2 | I15: 7 | J15: 158 | K15: 647 | L15: 105 | M15: Số sinh viên dự thi bao gồm cả số SV làm luận văn tốt nghiệp, số SV tốt nghiệp kể cả đào tạo tại trường, liên kết với nơi khác nhưng trường cấp bằng, đào tạo theo địa chỉ | O15: =IF(OR(D15<E15,D15<F15,D15<G15),"Er","") | P15: =IF(OR(D15<E15,E15<G15),"Er","") | Q15: =IF(OR(D15<F15,F15<G15),"Er","") | R15: =IF(OR(D15<G15,E15<G15,F15<G15),"Er","")
A16: 2. Vừa làm vừa học | O16: =IF(OR(D16<E16,D16<F16,D16<G16),"Er","") | P16: =IF(OR(D16<E16,E16<G16),"Er","") | Q16: =IF(OR(D16<F16,F16<G16),"Er","") | R16: =IF(OR(D16<G16,E16<G16,F16<G16),"Er","")
A17: 3. Đào tạo liên thông | C17: 84 | D17: 73 | E17: 2 | I17: 2 | J17: 17 | K17: 50 | L17: 4 | O17: =IF(OR(D17<E17,D17<F17,D17<G17),"Er","") | P17: =IF(OR(D17<E17,E17<G17),"Er","") | Q17: =IF(OR(D17<F17,F17<G17),"Er","") | R17: =IF(OR(D17<G17,E17<G17,F17<G17),"Er","")
A18: Hình thức chinh quy | C18: 84 | D18: 73 | E18: 2 | I18: 2 | J18: 17 | K18: 50 | L18: 4 | O18: =IF(OR(D18<E18,D18<F18,D18<G18),"Er","") | P18: =IF(OR(D18<E18,E18<G18),"Er","") | Q18: =IF(OR(D18<F18,F18<G18),"Er","") | R18: =IF(OR(D18<G18,E18<G18,F18<G18),"Er","")
A19: Hình thức vừa làm vừa học | O19: =IF(OR(D19<E19,D19<F19,D19<G19),"Er","") | P19: =IF(OR(D19<E19,E19<G19),"Er","") | Q19: =IF(OR(D19<F19,F19<G19),"Er","") | R19: =IF(OR(D19<G19,E19<G19,F19<G19),"Er","")
A20: II- SV năm trước về thi lại: T.Số | C20: =SUM(C21:C23) -> 270 | D20: =SUM(D21:D23) -> 185 | E20: =SUM(E21:E23) -> 2 | F20: =SUM(F21:F23) -> 0 | G20: =SUM(G21:G23) -> 0 | H20: =SUM(H21:H23) -> 0 | I20: =SUM(I21:I23) -> 0 | J20: =SUM(J21:J23) -> 2 | ... L20: =SUM(L21:L23) -> 76 | O20: =IF(OR(D20<E20,D20<F20,D20<G20),"Er","") | P20: =IF(OR(D20<E20,E20<G20),"Er","") | Q20: =IF(OR(D20<F20,F20<G20),"Er","") | R20: =IF(OR(D20<G20,E20<G20,F20<G20),"Er","")
A21: 1. Hệ chính quy | C21: 258 | D21: 173 | E21: 2 | J21: 2 | K21: 101 | L21: 70 | O21: =IF(OR(D21<E21,D21<F21,D21<G21),"Er","") | P21: =IF(OR(D21<E21,E21<G21),"Er","") | Q21: =IF(OR(D21<F21,F21<G21),"Er","") | R21: =IF(OR(D21<G21,E21<G21,F21<G21),"Er","")
A22: 2. Vừa làm vừa học | O22: =IF(OR(D22<E22,D22<F22,D22<G22),"Er","") | P22: =IF(OR(D22<E22,E22<G22),"Er","") | Q22: =IF(OR(D22<F22,F22<G22),"Er","") | R22: =IF(OR(D22<G22,E22<G22,F22<G22),"Er","")
A23: 3. Đào tạo liên thông | C23: 12 | D23: 12 | K23: 6 | L23: 6 | O23: =IF(OR(D23<E23,D23<F23,D23<G23),"Er","") | P23: =IF(OR(D23<E23,E23<G23),"Er","") | Q23: =IF(OR(D23<F23,F23<G23),"Er","") | R23: =IF(OR(D23<G23,E23<G23,F23<G23),"Er","")
A24: Hình thức chinh quy | C24: 12 | D24: 12 | K24: 6 | L24: 6 | O24: =IF(OR(D24<E24,D24<F24,D24<G24),"Er","") | P24: =IF(OR(D24<E24,E24<G24),"Er","") | Q24: =IF(OR(D24<F24,F24<G24),"Er","") | R24: =IF(OR(D24<G24,E24<G24,F24<G24),"Er","")
A25: Hình thức vừa làm vừa học | O25: =IF(OR(D25<E25,D25<F25,D25<G25),"Er","") | P25: =IF(OR(D25<E25,E25<G25),"Er","") | Q25: =IF(OR(D25<F25,F25<G25),"Er","") | R25: =IF(OR(D25<G25,E25<G25,F25<G25),"Er","")
O26: =IF(OR(D26<E26,D26<F26,D26<G26),"Er","") | P26: =IF(OR(D26<E26,E26<G26),"Er","") | Q26: =IF(OR(D26<F26,F26<G26),"Er","") | R26: =IF(OR(D26<G26,E26<G26,F26<G26),"Er","")
J27: Ngày …. tháng …..năm …. | L27: Ngày 29 tháng 12 năm 2014
A28: Người lập biểu | J28: Hiệu trưởng | L28: Hiệu trưởng
J29: Ký tên và đóng dấu
A35: Nguyễn Văn Tấn | L35: Phạm Hữu Lộc
A37: Biểu số: 04.2.1-CĐ | C37: Số sinh viên tốt nghiệp | K37: Đơn vị báo cáo:
A38: Ban hành theo Quyết định | C38: Năm 2014 | K38: =Bia!C10 -> Tr.CĐ Kỹ thuật Lý Tự Trọng TP HCM
A39: số 5363/QĐ-BGDĐT | C39: Cao Đẳng
A40: ngày 14/11/2013 của Bộ trưởng
A41: Ngày nhận báo cáo: 31/12
A42: B. Sinh viên tốt nghiệp Hệ chính quy chia theo ngành đào tạo
B43: Mã số (1) | C43: Số | D43: Sinh viên tốt nghiệp hệ chính quy
C44: sinh viên | E44: Trong đó | H44: Phân loại tốt nghiệp | M44: Ghi chú
C45: dự thi | D45: Tổng | F45: Dân tộc ít người | H45: Loại | I45: Loại | J45: Loại | K45: Loại | L45: Loại
D46: số | E46: Nữ | F46: Tổng số | G46: Trong đó | H46: xuất | I46: giỏi | J46: khá | K46: trung bình | L46: trung
G47: Nữ | H47: sắc | K47: khá | L47: bình
A48: A | B48: B | C48: 1 | D48: 2 | E48: 3 | F48: 4 | G48: 5 | H48: 6 | I48: 7 | J48: 8 | K48: 9 | L48: 10 | M48: 11
A49: I-Tốt nghiệp năm báo cáo: T.Số | C49: =SUM(C51:C118) -> 1376 | D49: =SUM(D51:D118) -> 990 | E49: =SUM(E51:E118) -> 75 | F49: =SUM(F51:F118) -> 8 | G49: =SUM(G51:G118) -> 2 | H49: =SUM(H51:H118) -> 0 | I49: =SUM(I51:I118) -> 9 | J49: =SUM(J51:J118) -> 175 | ... L49: =SUM(L51:L118) -> 109 | O49: =IF(OR(D49<E49,D49<F49,D49<G49),"Er","") | P49: =IF(OR(D49<E49,E49<G49),"Er","") | Q49: =IF(OR(D49<F49,F49<G49),"Er","") | R49: =IF(OR(D49<G49,E49<G49,F49<G49),"Er","")
A50: Phân theo ngành đào tạo: | B50: x | C50: x | D50: x | E50: x | F50: x | G50: x | H50: x | I50: x | J50: x | K50: x | L50: x | M50: (1) Ghi theo tên tuyển sinh và mã số ngành (theo TT số 34/2011/TT-BGDĐT ngày 11/8/2011)
A51: =IF(ISNA( VLOOKUP(B51,NGHANH_CD_LIST,2,FALSE)),"",VLOOKUP(B51,NGHANH_CD_LIST,2,FALSE)) -> Công nghệ kỹ thuật điện, điện tử và viễn thông | B51: 515103 | C51: 392 | D51: =SUM(H51:L51) -> 269 | E51: 1 | F51: 3 | I51: 4 | J51: 39 | K51: 192 | L51: 34 | O51: =IF(OR(D51<E51,D51<F51,D51<G51),"Er","") | P51: =IF(OR(D51<E51,E51<G51),"Er","") | Q51: =IF(OR(D51<F51,F51<G51),"Er","") | R51: =IF(OR(D51<G51,E51<G51,F51<G51),"Er","")
A52: =IF(ISNA( VLOOKUP(B52,NGHANH_CD_LIST,2,FALSE)),"",VLOOKUP(B52,NGHANH_CD_LIST,2,FALSE)) -> Công nghệ kỹ thuật cơ khí | B52: 515102 | C52: 645 | D52: =SUM(H52:L52) -> 484 | J52: 59 | K52: 366 | L52: 59 | O52: =IF(OR(D52<E52,D52<F52,D52<G52),"Er","") | P52: =IF(OR(D52<E52,E52<G52),"Er","") | Q52: =IF(OR(D52<F52,F52<G52),"Er","") | R52: =IF(OR(D52<G52,E52<G52,F52<G52),"Er","")
A53: =IF(ISNA( VLOOKUP(B53,NGHANH_CD_LIST,2,FALSE)),"",VLOOKUP(B53,NGHANH_CD_LIST,2,FALSE)) -> Sản xuất, chế biến sợi, vải, giày, da | B53: 515402 | C53: 64 | D53: =SUM(H53:L53) -> 57 | E53: 55 | F53: 2 | G53: 2 | I53: 2 | J53: 41 | K53: 14 | O53: =IF(OR(D53<E53,D53<F53,D53<G53),"Er","") | P53: =IF(OR(D53<E53,E53<G53),"Er","") | Q53: =IF(OR(D53<F53,F53<G53),"Er","") | R53: =IF(OR(D53<G53,E53<G53,F53<G53),"Er","")
A54: =IF(ISNA( VLOOKUP(B54,NGHANH_CD_LIST,2,FALSE)),"",VLOOKUP(B54,NGHANH_CD_LIST,2,FALSE)) -> Công nghệ thông tin | B54: 514802 | C54: 275 | D54: =SUM(H54:L54) -> 180 | E54: 19 | F54: 3 | I54: 3 | J54: 36 | K54: 125 | L54: 16 | O54: =IF(OR(D54<E54,D54<F54,D54<G54),"Er","") | P54: =IF(OR(D54<E54,E54<G54),"Er","") | Q54: =IF(OR(D54<F54,F54<G54),"Er","") | R54: =IF(OR(D54<G54,E54<G54,F54<G54),"Er","")
A55: =IF(ISNA( VLOOKUP(B55,NGHANH_CD_LIST,2,FALSE)),"",VLOOKUP(B55,NGHANH_CD_LIST,2,FALSE)) | D55: =SUM(H55:L55) -> 0 | O55: =IF(OR(D55<E55,D55<F55,D55<G55),"Er","") | P55: =IF(OR(D55<E55,E55<G55),"Er","") | Q55: =IF(OR(D55<F55,F55<G55),"Er","") | R55: =IF(OR(D55<G55,E55<G55,F55<G55),"Er","")
A56: =IF(ISNA( VLOOKUP(B56,NGHANH_CD_LIST,2,FALSE)),"",VLOOKUP(B56,NGHANH_CD_LIST,2,FALSE)) | D56: =SUM(H56:L56) -> 0 | O56: =IF(OR(D56<E56,D56<F56,D56<G56),"Er","") | P56: =IF(OR(D56<E56,E56<G56),"Er","") | Q56: =IF(OR(D56<F56,F56<G56),"Er","") | R56: =IF(OR(D56<G56,E56<G56,F56<G56),"Er","")
A57: =IF(ISNA( VLOOKUP(B57,NGHANH_CD_LIST,2,FALSE)),"",VLOOKUP(B57,NGHANH_CD_LIST,2,FALSE)) | D57: =SUM(H57:L57) -> 0 | O57: =IF(OR(D57<E57,D57<F57,D57<G57),"Er","") | P57: =IF(OR(D57<E57,E57<G57),"Er","") | Q57: =IF(OR(D57<F57,F57<G57),"Er","") | R57: =IF(OR(D57<G57,E57<G57,F57<G57),"Er","")
A58: =IF(ISNA( VLOOKUP(B58,NGHANH_CD_LIST,2,FALSE)),"",VLOOKUP(B58,NGHANH_CD_LIST,2,FALSE)) | D58: =SUM(H58:L58) -> 0 | O58: =IF(OR(D58<E58,D58<F58,D58<G58),"Er","") | P58: =IF(OR(D58<E58,E58<G58),"Er","") | Q58: =IF(OR(D58<F58,F58<G58),"Er","") | R58: =IF(OR(D58<G58,E58<G58,F58<G58),"Er","")
A59: =IF(ISNA( VLOOKUP(B59,NGHANH_CD_LIST,2,FALSE)),"",VLOOKUP(B59,NGHANH_CD_LIST,2,FALSE)) | D59: =SUM(H59:L59) -> 0 | O59: =IF(OR(D59<E59,D59<F59,D59<G59),"Er","") | P59: =IF(OR(D59<E59,E59<G59),"Er","") | Q59: =IF(OR(D59<F59,F59<G59),"Er","") | R59: =IF(OR(D59<G59,E59<G59,F59<G59),"Er","")
A60: =IF(ISNA( VLOOKUP(B60,NGHANH_CD_LIST,2,FALSE)),"",VLOOKUP(B60,NGHANH_CD_LIST,2,FALSE)) | D60: =SUM(H60:L60) -> 0 | O60: =IF(OR(D60<E60,D60<F60,D60<G60),"Er","") | P60: =IF(OR(D60<E60,E60<G60),"Er","") | Q60: =IF(OR(D60<F60,F60<G60),"Er","") | R60: =IF(OR(D60<G60,E60<G60,F60<G60),"Er","")
A61: =IF(ISNA( VLOOKUP(B61,NGHANH_CD_LIST,2,FALSE)),"",VLOOKUP(B61,NGHANH_CD_LIST,2,FALSE)) | D61: =SUM(H61:L61) -> 0 | O61: =IF(OR(D61<E61,D61<F61,D61<G61),"Er","") | P61: =IF(OR(D61<E61,E61<G61),"Er","") | Q61: =IF(OR(D61<F61,F61<G61),"Er","") | R61: =IF(OR(D61<G61,E61<G61,F61<G61),"Er","")
A62: =IF(ISNA( VLOOKUP(B62,NGHANH_CD_LIST,2,FALSE)),"",VLOOKUP(B62,NGHANH_CD_LIST,2,FALSE)) | D62: =SUM(H62:L62) -> 0 | O62: =IF(OR(D62<E62,D62<F62,D62<G62),"Er","") | P62: =IF(OR(D62<E62,E62<G62),"Er","") | Q62: =IF(OR(D62<F62,F62<G62),"Er","") | R62: =IF(OR(D62<G62,E62<G62,F62<G62),"Er","")
A63: =IF(ISNA( VLOOKUP(B63,NGHANH_CD_LIST,2,FALSE)),"",VLOOKUP(B63,NGHANH_CD_LIST,2,FALSE)) | D63: =SUM(H63:L63) -> 0 | O63: =IF(OR(D63<E63,D63<F63,D63<G63),"Er","") | P63: =IF(OR(D63<E63,E63<G63),"Er","") | Q63: =IF(OR(D63<F63,F63<G63),"Er","") | R63: =IF(OR(D63<G63,E63<G63,F63<G63),"Er","")
A64: =IF(ISNA( VLOOKUP(B64,NGHANH_CD_LIST,2,FALSE)),"",VLOOKUP(B64,NGHANH_CD_LIST,2,FALSE)) | D64: =SUM(H64:L64) -> 0 | O64: =IF(OR(D64<E64,D64<F64,D64<G64),"Er","") | P64: =IF(OR(D64<E64,E64<G64),"Er","") | Q64: =IF(OR(D64<F64,F64<G64),"Er","") | R64: =IF(OR(D64<G64,E64<G64,F64<G64),"Er","")
A65: =IF(ISNA( VLOOKUP(B65,NGHANH_CD_LIST,2,FALSE)),"",VLOOKUP(B65,NGHANH_CD_LIST,2,FALSE)) | D65: =SUM(H65:L65) -> 0 | O65: =IF(OR(D65<E65,D65<F65,D65<G65),"Er","") | P65: =IF(OR(D65<E65,E65<G65),"Er","") | Q65: =IF(OR(D65<F65,F65<G65),"Er","") | R65: =IF(OR(D65<G65,E65<G65,F65<G65),"Er","")
A66: =IF(ISNA( VLOOKUP(B66,NGHANH_CD_LIST,2,FALSE)),"",VLOOKUP(B66,NGHANH_CD_LIST,2,FALSE)) | D66: =SUM(H66:L66) -> 0 | O66: =IF(OR(D66<E66,D66<F66,D66<G66),"Er","") | P66: =IF(OR(D66<E66,E66<G66),"Er","") | Q66: =IF(OR(D66<F66,F66<G66),"Er","") | R66: =IF(OR(D66<G66,E66<G66,F66<G66),"Er","")
... A118: =IF(ISNA( VLOOKUP(B118,NGHANH_CD_LIST,2,FALSE)),"",VLOOKUP(B118,NGHANH_CD_LIST,2,FALSE)) | D118: =SUM(H118:L118) -> 0 | O118: =IF(OR(D118<E118,D118<F118,D118<G118),"Er","") | P118: =IF(OR(D118<E118,E118<G118),"Er","") | Q118: =IF(OR(D118<F118,F118<G118),"Er","") | R118: =IF(OR(D118<G118,E118<G118,F118<G118),"Er","")
A119: II- SV năm trước về thi lại: T.Số | C119: =SUM(G119:K119) -> 109 | D119: =SUM(H119:L119) -> 185 | E119: =SUM(E120:E193) -> 2 | F119: =SUM(F120:F193) -> 0 | G119: =SUM(G120:G193) -> 0 | H119: =SUM(H120:H193) -> 0 | I119: =SUM(I120:I193) -> 0 | J119: =SUM(J120:J193) -> 2 | K119: =SUM(K120:K193) -> 107 | L119: =SUM(L120:L193) -> 76 | O119: =IF(OR(D119<E119,D119<F119,D119<G119),"Er","") | P119: =IF(OR(D119<E119,E119<G119),"Er","") | Q119: =IF(OR(D119<F119,F119<G119),"Er","") | R119: =IF(OR(D119<G119,E119<G119,F119<G119),"Er","")
A120: Phân theo ngành đào tạo: | B120: x | C120: x | D120: =SUM(H120:L120) -> 0 | E120: x | F120: x | G120: x | H120: x | I120: x | J120: x | K120: x | L120: x
A121: =IF(ISNA( VLOOKUP(B121,NGHANH_CD_LIST,2,FALSE)),"",VLOOKUP(B121,NGHANH_CD_LIST,2,FALSE)) -> Công nghệ kỹ thuật điện, điện tử và viễn thông | B121: 515103 | C121: 85 | D121: =SUM(H121:L121) -> 66 | K121: 38 | L121: 28 | O121: =IF(OR(D121<E121,D121<F121,D121<G121),"Er","") | P121: =IF(OR(D121<E121,E121<G121),"Er","") | Q121: =IF(OR(D121<F121,F121<G121),"Er","") | R121: =IF(OR(D121<G121,E121<G121,F121<G121),"Er","")
A122: =IF(ISNA( VLOOKUP(B122,NGHANH_CD_LIST,2,FALSE)),"",VLOOKUP(B122,NGHANH_CD_LIST,2,FALSE)) -> Công nghệ kỹ thuật cơ khí | B122: 515102 | C122: 121 | D122: =SUM(H122:L122) -> 82 | K122: 52 | L122: 30 | O122: =IF(OR(D122<E122,D122<F122,D122<G122),"Er","") | P122: =IF(OR(D122<E122,E122<G122),"Er","") | Q122: =IF(OR(D122<F122,F122<G122),"Er","") | R122: =IF(OR(D122<G122,E122<G122,F122<G122),"Er","")
A123: =IF(ISNA( VLOOKUP(B123,NGHANH_CD_LIST,2,FALSE)),"",VLOOKUP(B123,NGHANH_CD_LIST,2,FALSE)) -> Sản xuất, chế biến sợi, vải, giày, da | B123: 515402 | C123: 1 | D123: =SUM(H123:L123) -> 1 | K123: 1 | O123: =IF(OR(D123<E123,D123<F123,D123<G123),"Er","") | P123: =IF(OR(D123<E123,E123<G123),"Er","") | Q123: =IF(OR(D123<F123,F123<G123),"Er","") | R123: =IF(OR(D123<G123,E123<G123,F123<G123),"Er","")
A124: =IF(ISNA( VLOOKUP(B124,NGHANH_CD_LIST,2,FALSE)),"",VLOOKUP(B124,NGHANH_CD_LIST,2,FALSE)) -> Công nghệ thông tin | B124: 514802 | C124: 63 | D124: =SUM(H124:L124) -> 36 | E124: 2 | J124: 2 | K124: 16 | L124: 18 | O124: =IF(OR(D124<E124,D124<F124,D124<G124),"Er","") | P124: =IF(OR(D124<E124,E124<G124),"Er","") | Q124: =IF(OR(D124<F124,F124<G124),"Er","") | R124: =IF(OR(D124<G124,E124<G124,F124<G124),"Er","")
A125: =IF(ISNA( VLOOKUP(B125,NGHANH_CD_LIST,2,FALSE)),"",VLOOKUP(B125,NGHANH_CD_LIST,2,FALSE)) | D125: =SUM(H125:L125) -> 0 | O125: =IF(OR(D125<E125,D125<F125,D125<G125),"Er","") | P125: =IF(OR(D125<E125,E125<G125),"Er","") | Q125: =IF(OR(D125<F125,F125<G125),"Er","") | R125: =IF(OR(D125<G125,E125<G125,F125<G125),"Er","")
A126: =IF(ISNA( VLOOKUP(B126,NGHANH_CD_LIST,2,FALSE)),"",VLOOKUP(B126,NGHANH_CD_LIST,2,FALSE)) | D126: =SUM(H126:L126) -> 0 | O126: =IF(OR(D126<E126,D126<F126,D126<G126),"Er","") | P126: =IF(OR(D126<E126,E126<G126),"Er","") | Q126: =IF(OR(D126<F126,F126<G126),"Er","") | R126: =IF(OR(D126<G126,E126<G126,F126<G126),"Er","")
A127: =IF(ISNA( VLOOKUP(B127,NGHANH_CD_LIST,2,FALSE)),"",VLOOKUP(B127,NGHANH_CD_LIST,2,FALSE)) | D127: =SUM(H127:L127) -> 0 | O127: =IF(OR(D127<E127,D127<F127,D127<G127),"Er","") | P127: =IF(OR(D127<E127,E127<G127),"Er","") | Q127: =IF(OR(D127<F127,F127<G127),"Er","") | R127: =IF(OR(D127<G127,E127<G127,F127<G127),"Er","")
A128: =IF(ISNA( VLOOKUP(B128,NGHANH_CD_LIST,2,FALSE)),"",VLOOKUP(B128,NGHANH_CD_LIST,2,FALSE)) | D128: =SUM(H128:L128) -> 0 | O128: =IF(OR(D128<E128,D128<F128,D128<G128),"Er","") | P128: =IF(OR(D128<E128,E128<G128),"Er","") | Q128: =IF(OR(D128<F128,F128<G128),"Er","") | R128: =IF(OR(D128<G128,E128<G128,F128<G128),"Er","")
A129: =IF(ISNA( VLOOKUP(B129,NGHANH_CD_LIST,2,FALSE)),"",VLOOKUP(B129,NGHANH_CD_LIST,2,FALSE)) | D129: =SUM(H129:L129) -> 0 | O129: =IF(OR(D129<E129,D129<F129,D129<G129),"Er","") | P129: =IF(OR(D129<E129,E129<G129),"Er","") | Q129: =IF(OR(D129<F129,F129<G129),"Er","") | R129: =IF(OR(D129<G129,E129<G129,F129<G129),"Er","")
A130: =IF(ISNA( VLOOKUP(B130,NGHANH_CD_LIST,2,FALSE)),"",VLOOKUP(B130,NGHANH_CD_LIST,2,FALSE)) | D130: =SUM(H130:L130) -> 0 | O130: =IF(OR(D130<E130,D130<F130,D130<G130),"Er","") | P130: =IF(OR(D130<E130,E130<G130),"Er","") | Q130: =IF(OR(D130<F130,F130<G130),"Er","") | R130: =IF(OR(D130<G130,E130<G130,F130<G130),"Er","")
A131: =IF(ISNA( VLOOKUP(B131,NGHANH_CD_LIST,2,FALSE)),"",VLOOKUP(B131,NGHANH_CD_LIST,2,FALSE)) | D131: =SUM(H131:L131) -> 0 | O131: =IF(OR(D131<E131,D131<F131,D131<G131),"Er","") | P131: =IF(OR(D131<E131,E131<G131),"Er","") | Q131: =IF(OR(D131<F131,F131<G131),"Er","") | R131: =IF(OR(D131<G131,E131<G131,F131<G131),"Er","")
A132: =IF(ISNA( VLOOKUP(B132,NGHANH_CD_LIST,2,FALSE)),"",VLOOKUP(B132,NGHANH_CD_LIST,2,FALSE)) | D132: =SUM(H132:L132) -> 0 | O132: =IF(OR(D132<E132,D132<F132,D132<G132),"Er","") | P132: =IF(OR(D132<E132,E132<G132),"Er","") | Q132: =IF(OR(D132<F132,F132<G132),"Er","") | R132: =IF(OR(D132<G132,E132<G132,F132<G132),"Er","")
A133: =IF(ISNA( VLOOKUP(B133,NGHANH_CD_LIST,2,FALSE)),"",VLOOKUP(B133,NGHANH_CD_LIST,2,FALSE)) | D133: =SUM(H133:L133) -> 0 | O133: =IF(OR(D133<E133,D133<F133,D133<G133),"Er","") | P133: =IF(OR(D133<E133,E133<G133),"Er","") | Q133: =IF(OR(D133<F133,F133<G133),"Er","") | R133: =IF(OR(D133<G133,E133<G133,F133<G133),"Er","")
A134: =IF(ISNA( VLOOKUP(B134,NGHANH_CD_LIST,2,FALSE)),"",VLOOKUP(B134,NGHANH_CD_LIST,2,FALSE)) | D134: =SUM(H134:L134) -> 0 | O134: =IF(OR(D134<E134,D134<F134,D134<G134),"Er","") | P134: =IF(OR(D134<E134,E134<G134),"Er","") | Q134: =IF(OR(D134<F134,F134<G134),"Er","") | R134: =IF(OR(D134<G134,E134<G134,F134<G134),"Er","")
A135: =IF(ISNA( VLOOKUP(B135,NGHANH_CD_LIST,2,FALSE)),"",VLOOKUP(B135,NGHANH_CD_LIST,2,FALSE)) | D135: =SUM(H135:L135) -> 0 | O135: =IF(OR(D135<E135,D135<F135,D135<G135),"Er","") | P135: =IF(OR(D135<E135,E135<G135),"Er","") | Q135: =IF(OR(D135<F135,F135<G135),"Er","") | R135: =IF(OR(D135<G135,E135<G135,F135<G135),"Er","")
A136: =IF(ISNA( VLOOKUP(B136,NGHANH_CD_LIST,2,FALSE)),"",VLOOKUP(B136,NGHANH_CD_LIST,2,FALSE)) | D136: =SUM(H136:L136) -> 0 | O136: =IF(OR(D136<E136,D136<F136,D136<G136),"Er","") | P136: =IF(OR(D136<E136,E136<G136),"Er","") | Q136: =IF(OR(D136<F136,F136<G136),"Er","") | R136: =IF(OR(D136<G136,E136<G136,F136<G136),"Er","")
... A193: =IF(ISNA( VLOOKUP(B193,NGHANH_CD_LIST,2,FALSE)),"",VLOOKUP(B193,NGHANH_CD_LIST,2,FALSE)) | D193: =SUM(H193:L193) -> 0 | O193: =IF(OR(D193<E193,D193<F193,D193<G193),"Er","") | P193: =IF(OR(D193<E193,E193<G193),"Er","") | Q193: =IF(OR(D193<F193,F193<G193),"Er","") | R193: =IF(OR(D193<G193,E193<G193,F193<G193),"Er","")
J194: Ngày …. tháng …..năm …. | L194: Ngày 29 tháng 12 năm 2014
A195: Người lập biểu | J195: Hiệu trưởng | L195: Hiệu trưởng
J196: Ký tên và đóng dấu
A201: Nguyễn Văn Tấn | L201: Phạm Hữu Lộc
A203: Biểu số: 04.3-TCCN, DN | C203: Số học sinh tốt nghiệp | K203: Đơn vị báo cáo:
A204: Ban hành theo Quyết định | C204: Năm 2014 | K204: =Bia!$C$10 -> Tr.CĐ Kỹ thuật Lý Tự Trọng TP HCM
A205: số 5363/QĐ-BGDĐT | C205: Trung cấp chuyên nghiệp, Dạy nghề
A206: ngày 14/11/2013 của Bộ trưởng
A207: Ngày nhận báo cáo: 31/12
C208: Số | D208: Học sinh tốt nghiệp hệ chính quy
C209: học sinh | E209: Tổng số | H209: Phân loại tốt nghiệp | M209: Ghi chú
C210: dự thi | D210: Tổng | F210: Dân tộc | H210: Loại | I210: Loại | J210: Loại | K210: Loại | L210: Loại
D211: số | E211: Nữ | F211: Tổng số | G211: Trong đó | H211: xuất | I211: giỏi | J211: khá | K211: trung bình | L211: trung
G212: Nữ | H212: sắc | K212: khá | L212: bình
A213: A | C213: 1 | D213: 2 | E213: 3 | F213: 4 | G213: 5 | H213: 6 | I213: 7 | J213: 8 | K213: 9 | L213: 10 | M213: 11
A214: I-Trung cấp chuyên nghiệp | C214: =SUM(C215:C216) -> 263 | D214: =SUM(D215:D216) -> 182 | E214: =SUM(E215:E216) -> 30 | F214: =SUM(F215:F216) -> 0 | G214: =SUM(G215:G216) -> 0 | H214: =SUM(H215:H216) -> 0 | I214: =SUM(I215:I216) -> 9 | J214: =SUM(J215:J216) -> 40 | ... L214: =SUM(L215:L216) -> 63 | M214: Số HS tốt nghiệp kể cả đào tạo tại trường, liên kết với nơi khác nhưng trường cấp bằng, đào tạo theo địa chỉ Không ghi số liệu vào ô đánh dấu (x) | O214: =IF(OR(D214<E214,D214<F214,D214<G214),"Er","") | P214: =IF(OR(D214<E214,E214<G214),"Er","") | Q214: =IF(OR(D214<F214,F214<G214),"Er","") | R214: =IF(OR(D214<G214,E214<G214,F214<G214),"Er","")
A215: 1. Hệ chính quy | C215: 263 | D215: 182 | E215: 30 | I215: 9 | J215: 40 | K215: 70 | L215: 63 | O215: =IF(OR(D215<E215,D215<F215,D215<G215),"Er","") | P215: =IF(OR(D215<E215,E215<G215),"Er","") | Q215: =IF(OR(D215<F215,F215<G215),"Er","") | R215: =IF(OR(D215<G215,E215<G215,F215<G215),"Er","")
A216: 2. Hệ vừa làm vừa học | O216: =IF(OR(D216<E216,D216<F216,D216<G216),"Er","") | P216: =IF(OR(D216<E216,E216<G216),"Er","") | Q216: =IF(OR(D216<F216,F216<G216),"Er","") | R216: =IF(OR(D216<G216,E216<G216,F216<G216),"Er","")
A217: II- Dạy nghề | C217: =SUM(C218:C219) -> 0 | D217: =SUM(D218:D219) -> 0 | E217: =SUM(E218:E219) -> 0 | F217: =SUM(F218:F219) -> 0 | G217: =SUM(G218:G219) -> 0 | H217: =SUM(H218:H219) -> 0 | I217: =SUM(I218:I219) -> 0 | J217: =SUM(J218:J219) -> 0 | ... L217: =SUM(L218:L219) -> 0 | O217: =IF(OR(D217<E217,D217<F217,D217<G217),"Er","") | P217: =IF(OR(D217<E217,E217<G217),"Er","") | Q217: =IF(OR(D217<F217,F217<G217),"Er","") | R217: =IF(OR(D217<G217,E217<G217,F217<G217),"Er","")
A218: 1. Cao đẳng nghề | O218: =IF(OR(D218<E218,D218<F218,D218<G218),"Er","") | P218: =IF(OR(D218<E218,E218<G218),"Er","") | Q218: =IF(OR(D218<F218,F218<G218),"Er","") | R218: =IF(OR(D218<G218,E218<G218,F218<G218),"Er","")
A219: 2. Trung cấp nghề | O219: =IF(OR(D219<E219,D219<F219,D219<G219),"Er","") | P219: =IF(OR(D219<E219,E219<G219),"Er","") | Q219: =IF(OR(D219<F219,F219<G219),"Er","") | R219: =IF(OR(D219<G219,E219<G219,F219<G219),"Er","")
...

Sheet bieu5.1
A1: Biểu số: 05.1A- ĐHCĐ | B1: Số cán bộ, giảng viên, nhân viên | N1: Đơn vị báo cáo:
A2: Ban hành theo Quyết định | B2: Năm học 2014 - 2015 | N2: =Bia!C10 -> Tr.CĐ Kỹ thuật Lý Tự Trọng TP HCM
A3: số 5363/QĐ-BGDĐT
A4: ngày 14/11/2013 của Bộ trưởng
A5: Ngày nhận báo cáo: 31/12
C6: Trong đó | J6: Chia theo trình độ đào tạo
B7: Tổng | D7: Dân tộc ít người | F7: Giáo | G7: Tr.đó: Nữ | H7: Phó | I7: Tr.đó: Nữ | J7: TSKH | K7: Tr.đó: Nữ | L7: Thạc | M7: Tr.đó: Nữ | N7: CK Y cấp I,II | O7: Tr.đó: Nữ | P7: Đại | Q7: Tr.đó: Nữ | R7: Cao | S7: Tr.đó: Nữ | U7: Tr.đó: Nữ
B8: số | C8: Nữ | D8: Tổng | E8: Tr.đó: Nữ | F8: sư | H8: giáo | J8: và Tiến | L8: sĩ | P8: học | R8: đẳng | T8: Khác
D9: số | H9: sư | J9: sĩ
A10: A | B10: 1 | C10: 2 | D10: 3 | E10: 4 | F10: 5 | G10: 6 | H10: 7 | I10: 8 | J10: 9 | K10: 10 | L10: 11 | M10: 12 | N10: 13 | O10: 14 | P10: 15 | Q10: 16 | R10: 17 | S10: 18 | T10: 19 | U10: 20
A11: Tổng số: (I+II) | B11: =SUM(B12,B18) -> 327 | C11: =SUM(C12,C18) -> 144 | D11: =SUM(D12,D18) -> 0 | E11: =SUM(E12,E18) -> 0 | F11: =SUM(F12,F18) -> 0 | G11: =SUM(G12,G18) -> 0 | H11: =SUM(H12,H18) -> 0 | I11: =SUM(I12,I18) -> 0 | ... U11: =SUM(U12,U18) -> 26 | W11: =IF(OR(B11<C11,B11<D11,B11<E11,B11<F11,B11<G11,B11<H11,B11<I11),"Er","") | X11: =IF(OR(B11<C11,C11<E11,C11<G11,C11<K11),"Er","") | Y11: =IF(OR(B11<D11,D11<E11),"Er","") | Z11: =IF(OR(B11<E11,C11<E11,D11<E11),"Er","") | AA11: =IF(OR(C11<F11),"Er","") | AB11: =IF(OR(C11<G11,F11<G11),"Er","") | AC11: =IF(OR(C11<H11),"Er","") | AD11: =IF(OR(C11<I11,H11<I11),"Er","")
A12: I- Cán bộ, nhân viên: | B12: =SUM(B13,B15,B17) -> 155 | C12: =SUM(C13,C15,C17) -> 75 | D12: =SUM(D13,D15,D17) -> 0 | E12: =SUM(E13,E15,E17) -> 0 | F12: =SUM(F13,F15,F17) -> 0 | G12: =SUM(G13,G15,G17) -> 0 | H12: =SUM(H13,H15,H17) -> 0 | I12: =SUM(I13,I15,I17) -> 0 | ... U12: =SUM(U13,U15,U17) -> 26 | W12: =IF(OR(B12<C12,B12<D12,B12<E12,B12<F12,B12<G12,B12<H12,B12<I12),"Er","") | X12: =IF(OR(B12<C12,C12<E12,C12<G12,C12<K12),"Er","") | Y12: =IF(OR(B12<D12,D12<E12),"Er","") | Z12: =IF(OR(B12<E12,C12<E12,D12<E12),"Er","") | AA12: =IF(OR(C12<F12),"Er","") | AB12: =IF(OR(C12<G12,F12<G12),"Er","") | AC12: =IF(OR(C12<H12),"Er","") | AD12: =IF(OR(C12<I12,H12<I12),"Er","")
A13: 1- Cán bộ quản lý | B13: =SUM(J13,L13,N13,P13,R13,T13) -> 4 | C13: =SUM(K13,M13,O13,Q13,S13,U13) -> 0 | J13: 1 | L13: 3 | W13: =IF(OR(B13<C13,B13<D13,B13<E13,B13<F13,B13<G13,B13<H13,B13<I13),"Er","") | X13: =IF(OR(B13<C13,C13<E13,C13<G13,C13<K13),"Er","") | Y13: =IF(OR(B13<D13,D13<E13),"Er","") | Z13: =IF(OR(B13<E13,C13<E13,D13<E13),"Er","") | AA13: =IF(OR(C13<F13),"Er","") | AB13: =IF(OR(C13<G13,F13<G13),"Er","") | AC13: =IF(OR(C13<H13),"Er","") | AD13: =IF(OR(C13<I13,H13<I13),"Er","")
A14: Trong đó: Kiêm nhiệm giảng dạy | B14: =SUM(J14,L14,N14,P14,R14,T14) -> 4 | C14: =SUM(K14,M14,O14,Q14,S14,U14) -> 0 | J14: 1 | L14: 3 | W14: =IF(OR(B14<C14,B14<D14,B14<E14,B14<F14,B14<G14,B14<H14,B14<I14),"Er","") | X14: =IF(OR(B14<C14,C14<E14,C14<G14,C14<K14),"Er","") | Y14: =IF(OR(B14<D14,D14<E14),"Er","") | Z14: =IF(OR(B14<E14,C14<E14,D14<E14),"Er","") | AA14: =IF(OR(C14<F14),"Er","") | AB14: =IF(OR(C14<G14,F14<G14),"Er","") | AC14: =IF(OR(C14<H14),"Er","") | AD14: =IF(OR(C14<I14,H14<I14),"Er","")
A15: 2- Cán bộ hành chính, nghiệp vụ, phục vụ (không bao gồm giảng viên ) | B15: =SUM(J15,L15,N15,P15,R15,T15) -> 139 | C15: =SUM(K15,M15,O15,Q15,S15,U15) -> 64 | L15: 16 | M15: 6 | N15: 1 | O15: 1 | P15: =8+54 -> 62 | Q15: 35 | R15: 25 | S15: 7 | T15: 35 | U15: 15 | W15: =IF(OR(B15<C15,B15<D15,B15<E15,B15<F15,B15<G15,B15<H15,B15<I15),"Er","") | X15: =IF(OR(B15<C15,C15<E15,C15<G15,C15<K15),"Er","") | Y15: =IF(OR(B15<D15,D15<E15),"Er","") | Z15: =IF(OR(B15<E15,C15<E15,D15<E15),"Er","") | AA15: =IF(OR(C15<F15),"Er","") | AB15: =IF(OR(C15<G15,F15<G15),"Er","") | AC15: =IF(OR(C15<H15),"Er","") | AD15: =IF(OR(C15<I15,H15<I15),"Er","")
A16: Trong đó: Kiêm nhiệm giảng dạy | B16: =SUM(J16,L16,N16,P16,R16,T16) -> 16 | C16: =SUM(K16,M16,O16,Q16,S16,U16) -> 3 | L16: 8 | M16: 2 | P16: 7 | Q16: 1 | R16: 1 | W16: =IF(OR(B16<C16,B16<D16,B16<E16,B16<F16,B16<G16,B16<H16,B16<I16),"Er","") | X16: =IF(OR(B16<C16,C16<E16,C16<G16,C16<K16),"Er","") | Y16: =IF(OR(B16<D16,D16<E16),"Er","") | Z16: =IF(OR(B16<E16,C16<E16,D16<E16),"Er","") | AA16: =IF(OR(C16<F16),"Er","") | AB16: =IF(OR(C16<G16,F16<G16),"Er","") | AC16: =IF(OR(C16<H16),"Er","") | AD16: =IF(OR(C16<I16,H16<I16),"Er","")
A17: 3- Nhân viên phục vụ | B17: =SUM(J17,L17,N17,P17,R17,T17) -> 12 | C17: =SUM(K17,M17,O17,Q17,S17,U17) -> 11 | T17: 12 | U17: 11 | W17: =IF(OR(B17<C17,B17<D17,B17<E17,B17<F17,B17<G17,B17<H17,B17<I17),"Er","") | X17: =IF(OR(B17<C17,C17<E17,C17<G17,C17<K17),"Er","") | Y17: =IF(OR(B17<D17,D17<E17),"Er","") | Z17: =IF(OR(B17<E17,C17<E17,D17<E17),"Er","") | AA17: =IF(OR(C17<F17),"Er","") | AB17: =IF(OR(C17<G17,F17<G17),"Er","") | AC17: =IF(OR(C17<H17),"Er","") | AD17: =IF(OR(C17<I17,H17<I17),"Er","")
A18: II- Giảng viên | B18: =SUM(J18,L18,N18,P18,R18,T18) -> 172 | C18: =SUM(K18,M18,O18,Q18,S18,U18) -> 69 | D18: =SUM(D19:D21) -> 0 | E18: =SUM(E19:E21) -> 0 | F18: =SUM(F19:F21) -> 0 | G18: =SUM(G19:G21) -> 0 | H18: =SUM(H19:H21) -> 0 | I18: =SUM(I19:I21) -> 0 | J18: =SUM(J19:J21) -> 0 | K18: =SUM(K19:K21) -> 0 | ... U18: =SUM(U19:U21) -> 0 | W18: =IF(OR(B18<C18,B18<D18,B18<E18,B18<F18,B18<G18,B18<H18,B18<I18),"Er","") | X18: =IF(OR(B18<C18,C18<E18,C18<G18,C18<K18),"Er","") | Y18: =IF(OR(B18<D18,D18<E18),"Er","") | Z18: =IF(OR(B18<E18,C18<E18,D18<E18),"Er","") | AA18: =IF(OR(C18<F18),"Er","") | AB18: =IF(OR(C18<G18,F18<G18),"Er","") | AC18: =IF(OR(C18<H18),"Er","") | AD18: =IF(OR(C18<I18,H18<I18),"Er","")
A19: 1. Cơ hữu | B19: =SUM(J19,L19,N19,P19,R19,T19) -> 171 | C19: =SUM(K19,M19,O19,Q19,S19,U19) -> 69 | L19: 78 | M19: 30 | P19: =171-L19 -> 93 | Q19: 39 | W19: =IF(OR(B19<C19,B19<D19,B19<E19,B19<F19,B19<G19,B19<H19,B19<I19),"Er","") | X19: =IF(OR(B19<C19,C19<E19,C19<G19,C19<K19),"Er","") | Y19: =IF(OR(B19<D19,D19<E19),"Er","") | Z19: =IF(OR(B19<E19,C19<E19,D19<E19),"Er","") | AA19: =IF(OR(C19<F19),"Er","") | AB19: =IF(OR(C19<G19,F19<G19),"Er","") | AC19: =IF(OR(C19<H19),"Er","") | AD19: =IF(OR(C19<I19,H19<I19),"Er","")
A20: 2. Hợp đồng có thời hạn | B20: =SUM(J20,L20,N20,P20,R20,T20) -> 1 | C20: =SUM(K20,M20,O20,Q20,S20,U20) -> 0 | L20: 0 | P20: 1 | W20: =IF(OR(B20<C20,B20<D20,B20<E20,B20<F20,B20<G20,B20<H20,B20<I20),"Er","") | X20: =IF(OR(B20<C20,C20<E20,C20<G20,C20<K20),"Er","") | Y20: =IF(OR(B20<D20,D20<E20),"Er","") | Z20: =IF(OR(B20<E20,C20<E20,D20<E20),"Er","") | AA20: =IF(OR(C20<F20),"Er","") | AB20: =IF(OR(C20<G20,F20<G20),"Er","") | AC20: =IF(OR(C20<H20),"Er","") | AD20: =IF(OR(C20<I20,H20<I20),"Er","")
A21: 3. Thử vịệc | B21: =SUM(J21,L21,N21,P21,R21,T21) -> 0 | C21: =SUM(K21,M21,O21,Q21,S21,U21) -> 0 | W21: =IF(OR(B21<C21,B21<D21,B21<E21,B21<F21,B21<G21,B21<H21,B21<I21),"Er","") | X21: =IF(OR(B21<C21,C21<E21,C21<G21,C21<K21),"Er","") | Y21: =IF(OR(B21<D21,D21<E21),"Er","") | Z21: =IF(OR(B21<E21,C21<E21,D21<E21),"Er","") | AA21: =IF(OR(C21<F21),"Er","") | AB21: =IF(OR(C21<G21,F21<G21),"Er","") | AC21: =IF(OR(C21<H21),"Er","") | AD21: =IF(OR(C21<I21,H21<I21),"Er","")
A22: Giảng viên chia theo độ tuổi: | B22: =SUM(J22,L22,N22,P22,R22,T22) -> 142 | C22: =SUM(K22,M22,O22,Q22,S22,U22) -> 56 | D22: =SUM(D24:D30) -> 0 | E22: =SUM(E24:E30) -> 0 | F22: =SUM(F24:F30) -> 0 | G22: =SUM(G24:G30) -> 0 | H22: =SUM(H24:H30) -> 0 | I22: =SUM(I24:I30) -> 0 | J22: =SUM(J24:J30) -> 0 | K22: =SUM(K24:K30) -> 0 | ... U22: =SUM(U24:U30) -> 0 | W22: =IF(OR(B22<C22,B22<D22,B22<E22,B22<F22,B22<G22,B22<H22,B22<I22),"Er","") | X22: =IF(OR(B22<C22,C22<E22,C22<G22,C22<K22),"Er","") | Y22: =IF(OR(B22<D22,D22<E22),"Er","") | Z22: =IF(OR(B22<E22,C22<E22,D22<E22),"Er","") | AA22: =IF(OR(C22<F22),"Er","") | AB22: =IF(OR(C22<G22,F22<G22),"Er","") | AC22: =IF(OR(C22<H22),"Er","") | AD22: =IF(OR(C22<I22,H22<I22),"Er","")
A23: Dưới 30 tuổi | B23: =SUM(J23,L23,N23,P23,R23,T23) -> 30 | C23: =SUM(K23,M23,O23,Q23,S23,U23) -> 13 | L23: 9 | M23: 4 | P23: 21 | Q23: 9 | W23: =IF(OR(B23<C23,B23<D23,B23<E23,B23<F23,B23<G23,B23<H23,B23<I23),"Er","") | X23: =IF(OR(B23<C23,C23<E23,C23<G23,C23<K23),"Er","") | Y23: =IF(OR(B23<D23,D23<E23),"Er","") | Z23: =IF(OR(B23<E23,C23<E23,D23<E23),"Er","") | AA23: =IF(OR(C23<F23),"Er","") | AB23: =IF(OR(C23<G23,F23<G23),"Er","") | AC23: =IF(OR(C23<H23),"Er","") | AD23: =IF(OR(C23<I23,H23<I23),"Er","")
A24: Từ 31 đến 35 | B24: =SUM(J24,L24,N24,P24,R24,T24) -> 46 | C24: =SUM(K24,M24,O24,Q24,S24,U24) -> 19 | L24: 30 | M24: 12 | P24: 16 | Q24: 7 | W24: =IF(OR(B24<C24,B24<D24,B24<E24,B24<F24,B24<G24,B24<H24,B24<I24),"Er","") | X24: =IF(OR(B24<C24,C24<E24,C24<G24,C24<K24),"Er","") | Y24: =IF(OR(B24<D24,D24<E24),"Er","") | Z24: =IF(OR(B24<E24,C24<E24,D24<E24),"Er","") | AA24: =IF(OR(C24<F24),"Er","") | AB24: =IF(OR(C24<G24,F24<G24),"Er","") | AC24: =IF(OR(C24<H24),"Er","") | AD24: =IF(OR(C24<I24,H24<I24),"Er","")
A25: Từ 36 đến 40 | B25: =SUM(J25,L25,N25,P25,R25,T25) -> 36 | C25: =SUM(K25,M25,O25,Q25,S25,U25) -> 16 | L25: 13 | M25: 5 | P25: 23 | Q25: 11 | W25: =IF(OR(B25<C25,B25<D25,B25<E25,B25<F25,B25<G25,B25<H25,B25<I25),"Er","") | X25: =IF(OR(B25<C25,C25<E25,C25<G25,C25<K25),"Er","") | Y25: =IF(OR(B25<D25,D25<E25),"Er","") | Z25: =IF(OR(B25<E25,C25<E25,D25<E25),"Er","") | AA25: =IF(OR(C25<F25),"Er","") | AB25: =IF(OR(C25<G25,F25<G25),"Er","") | AC25: =IF(OR(C25<H25),"Er","") | AD25: =IF(OR(C25<I25,H25<I25),"Er","")
A26: Từ 41 đến 45 | B26: =SUM(J26,L26,N26,P26,R26,T26) -> 23 | C26: =SUM(K26,M26,O26,Q26,S26,U26) -> 6 | L26: 8 | M26: 4 | P26: 15 | Q26: 2 | W26: =IF(OR(B26<C26,B26<D26,B26<E26,B26<F26,B26<G26,B26<H26,B26<I26),"Er","") | X26: =IF(OR(B26<C26,C26<E26,C26<G26,C26<K26),"Er","") | Y26: =IF(OR(B26<D26,D26<E26),"Er","") | Z26: =IF(OR(B26<E26,C26<E26,D26<E26),"Er","") | AA26: =IF(OR(C26<F26),"Er","") | AB26: =IF(OR(C26<G26,F26<G26),"Er","") | AC26: =IF(OR(C26<H26),"Er","") | AD26: =IF(OR(C26<I26,H26<I26),"Er","")
A27: Từ 46 đến 50 | B27: =SUM(J27,L27,N27,P27,R27,T27) -> 16 | C27: =SUM(K27,M27,O27,Q27,S27,U27) -> 4 | L27: 9 | M27: 3 | P27: 7 | Q27: 1 | W27: =IF(OR(B27<C27,B27<D27,B27<E27,B27<F27,B27<G27,B27<H27,B27<I27),"Er","") | X27: =IF(OR(B27<C27,C27<E27,C27<G27,C27<K27),"Er","") | Y27: =IF(OR(B27<D27,D27<E27),"Er","") | Z27: =IF(OR(B27<E27,C27<E27,D27<E27),"Er","") | AA27: =IF(OR(C27<F27),"Er","") | AB27: =IF(OR(C27<G27,F27<G27),"Er","") | AC27: =IF(OR(C27<H27),"Er","") | AD27: =IF(OR(C27<I27,H27<I27),"Er","")
A28: Từ 51 đến 55 | B28: =SUM(J28,L28,N28,P28,R28,T28) -> 18 | C28: =SUM(K28,M28,O28,Q28,S28,U28) -> 11 | L28: 7 | M28: 2 | P28: 11 | Q28: 9 | W28: =IF(OR(B28<C28,B28<D28,B28<E28,B28<F28,B28<G28,B28<H28,B28<I28),"Er","") | X28: =IF(OR(B28<C28,C28<E28,C28<G28,C28<K28),"Er","") | Y28: =IF(OR(B28<D28,D28<E28),"Er","") | Z28: =IF(OR(B28<E28,C28<E28,D28<E28),"Er","") | AA28: =IF(OR(C28<F28),"Er","") | AB28: =IF(OR(C28<G28,F28<G28),"Er","") | AC28: =IF(OR(C28<H28),"Er","") | AD28: =IF(OR(C28<I28,H28<I28),"Er","")
A29: Từ 56 đến 60 | B29: =SUM(J29,L29,N29,P29,R29,T29) -> 3 | C29: =SUM(K29,M29,O29,Q29,S29,U29) -> 0 | L29: 2 | M29: 0 | P29: 1 | Q29: 0 | W29: =IF(OR(B29<C29,B29<D29,B29<E29,B29<F29,B29<G29,B29<H29,B29<I29),"Er","") | X29: =IF(OR(B29<C29,C29<E29,C29<G29,C29<K29),"Er","") | Y29: =IF(OR(B29<D29,D29<E29),"Er","") | Z29: =IF(OR(B29<E29,C29<E29,D29<E29),"Er","") | AA29: =IF(OR(C29<F29),"Er","") | AB29: =IF(OR(C29<G29,F29<G29),"Er","") | AC29: =IF(OR(C29<H29),"Er","") | AD29: =IF(OR(C29<I29,H29<I29),"Er","")
A30: Trên 60 tuổi | B30: =SUM(J30,L30,N30,P30,R30,T30) -> 0 | C30: =SUM(K30,M30,O30,Q30,S30,U30) -> 0 | W30: =IF(OR(B30<C30,B30<D30,B30<E30,B30<F30,B30<G30,B30<H30,B30<I30),"Er","") | X30: =IF(OR(B30<C30,C30<E30,C30<G30,C30<K30),"Er","") | Y30: =IF(OR(B30<D30,D30<E30),"Er","") | Z30: =IF(OR(B30<E30,C30<E30,D30<E30),"Er","") | AA30: =IF(OR(C30<F30),"Er","") | AB30: =IF(OR(C30<G30,F30<G30),"Er","") | AC30: =IF(OR(C30<H30),"Er","") | AD30: =IF(OR(C30<I30,H30<I30),"Er","")
A31: Danh hiệu: - Nhà giáo nhân dân | B31: =SUM(J31,L31,N31,P31,R31,T31) -> 0 | C31: =SUM(K31,M31,O31,Q31,S31,U31) -> 0 | W31: =IF(OR(B31<C31,B31<D31,B31<E31,B31<F31,B31<G31,B31<H31,B31<I31),"Er","") | X31: =IF(OR(B31<C31,C31<E31,C31<G31,C31<K31),"Er","") | Y31: =IF(OR(B31<D31,D31<E31),"Er","") | Z31: =IF(OR(B31<E31,C31<E31,D31<E31),"Er","") | AA31: =IF(OR(C31<F31),"Er","") | AB31: =IF(OR(C31<G31,F31<G31),"Er","") | AC31: =IF(OR(C31<H31),"Er","") | AD31: =IF(OR(C31<I31,H31<I31),"Er","")
A32: - Nhà giáo ưu tú | B32: =SUM(J32,L32,N32,P32,R32,T32) -> 1 | C32: =SUM(K32,M32,O32,Q32,S32,U32) -> 0 | J32: 1 | W32: =IF(OR(B32<C32,B32<D32,B32<E32,B32<F32,B32<G32,B32<H32,B32<I32),"Er","") | X32: =IF(OR(B32<C32,C32<E32,C32<G32,C32<K32),"Er","") | Y32: =IF(OR(B32<D32,D32<E32),"Er","") | Z32: =IF(OR(B32<E32,C32<E32,D32<E32),"Er","") | AA32: =IF(OR(C32<F32),"Er","") | AB32: =IF(OR(C32<G32,F32<G32),"Er","") | AC32: =IF(OR(C32<H32),"Er","") | AD32: =IF(OR(C32<I32,H32<I32),"Er","")
A33: III-Giảng viên thỉnh giảng | B33: =SUM(J33,L33,N33,P33,R33,T33) -> 3 | C33: =SUM(K33,M33,O33,Q33,S33,U33) -> 1 | J33: 1 | K33: 0 | P33: 2 | Q33: 1 | W33: =IF(OR(B33<C33,B33<D33,B33<E33,B33<F33,B33<G33,B33<H33,B33<I33),"Er","") | X33: =IF(OR(B33<C33,C33<E33,C33<G33,C33<K33),"Er","") | Y33: =IF(OR(B33<D33,D33<E33),"Er","") | Z33: =IF(OR(B33<E33,C33<E33,D33<E33),"Er","") | AA33: =IF(OR(C33<F33),"Er","") | AB33: =IF(OR(C33<G33,F33<G33),"Er","") | AC33: =IF(OR(C33<H33),"Er","") | AD33: =IF(OR(C33<I33,H33<I33),"Er","")
P35: Ngày 29 tháng 12 năm 2014
A36: Người lập biểu | P36: Hiệu trưởng
A40: Trần Thị Thu Hà | P40: Phạm Hữu Lộc

Sheet bieu5.2
A1: Biểu số: 05.2- ĐHCĐ | B1: Số giảng viên chia theo khoa, tổ bộ môn | J1: Đơn vị báo cáo:
A2: Ban hành theo Quyết định | B2: Năm học 2014 - 2015 | J2: =Bia!C10 -> Tr.CĐ Kỹ thuật Lý Tự Trọng TP HCM
A3: số 5363/QĐ-BGDĐT
A4: ngày 14/11/2013 của Bộ trưởng
A5: Ngày nhận báo cáo: 31/12
C6: Trong đó | F6: Chia theo trình độ đào tạo
B7: Tổng | C7: Dân tộc ít người | F7: Giáo | G7: Phó | H7: TSKH | I7: Thạc | J7: Chuyên | K7: Đại | L7: Cao
B8: số | C8: Nữ | D8: Tổng | E8: Trong đó: | F8: sư | G8: giáo | H8: và Tiến | I8: sĩ | J8: khoa Y | K8: học | L8: đẳng | M8: Khác
D9: số | E9: Nữ | G9: sư | H9: sĩ | J9: cấp I và II
A10: A | B10: 1 | C10: 2 | D10: 3 | E10: 4 | F10: 5 | G10: 6 | H10: 7 | I10: 8 | J10: 9 | K10: 10 | L10: 11 | M10: 12
A11: Tổng số | B11: =SUM(B13:B19) -> 172 | C11: =SUM(C13:C19) -> 0 | D11: =SUM(D13:D19) -> 0 | E11: =SUM(E13:E19) -> 0 | F11: =SUM(F13:F19) -> 0 | G11: =SUM(G13:G19) -> 0 | H11: =SUM(H13:H19) -> 0 | I11: =SUM(I13:I19) -> 78 | ... M11: =SUM(M13:M19) -> 0
A12: Chia ra:
A13: 1.Khoa Cơ khí | B13: =SUM(I13,K13) -> 24 | I13: 8 | K13: =24-I13 -> 16
A14: 2.Khoa Công nghệ thông tin | B14: =SUM(I14,K14) -> 24 | I14: 8 | K14: =24-I14 -> 16
A15: 3.Khoa Động lực | B15: =SUM(I15,K15) -> 29 | I15: 13 | K15: 16
A16: 4.Khoa Điện - Điện tử | B16: =SUM(I16,K16) -> 34 | I16: 21 | K16: =34-I16 -> 13
A17: 5.Khoa Công nghệ May - Thời trang | B17: =SUM(I17,K17) -> 8 | I17: 2 | K17: 6
A18: 6.Khoa Lý luận Chính trị | B18: =SUM(I18,K18) -> 16 | I18: 8 | K18: =16-I18 -> 8
A19: 7.Khoa Khoa học cơ bản | B19: =SUM(I19,K19) -> 37 | I19: 18 | K19: =37-I19 -> 19
A20: Trong đó: Bộ môn Tiếng Anh | B20: =SUM(I20,K20) -> 11 | I20: 3 | K20: =11-I20 -> 8
J21: Ngày 29 tháng 12 năm 2014
A22: Người lập biểu | J22: Hiệu trưởng
A30: Trần Thị Thu Hà | J30: Phạm Hữu Lộc

Sheet CSVC
A1: Biểu số: 06- ĐHCĐ | B1: Cơ sở vật chất | E1: Đơn vị báo cáo:
A2: Ban hành theo Quyết định | B2: của trường | E2: =Bia!C10 -> Tr.CĐ Kỹ thuật Lý Tự Trọng TP HCM
A3: số 5363/QĐ-BGDĐT | B3: Năm học 201… - 201…
A4: ngày 14/11/2013 của Bộ trưởng
A5: Ngày nhận báo cáo: 31/12
B7: Đơn vị | D7: Trong đó: | E7: Tổng số chia ra
B8: tính | C8: Tổng số | D8: làm mới | E8: Kiên | F8: Bán kiên cố | G8: Nhà
D9: trong năm | E9: cố | F9: (cấp 4) | G9: tạm
A10: A | B10: 1 | C10: 2 | D10: 3 | E10: 4 | F10: 5 | G10: 6
A11: I - Đất đai nhà trường quản lý sử dụng
A12: Diện tích đất đai (Tổng số) | B12: ha | C12: 5.06466 | D12: x | E12: x | F12: x | G12: x
A13: II- Diện tích sàn xây dựng (Tổng số) | B13: m2 | C13: 24625 | I13: =IF(OR(C13<D13,C13<E13,C13<F13,C13<G13),"Er","") | J13: =IF($C13<D13,"Er","") | K13: =IF($C13<E13,"Er","") | L13: =IF($C13<F13,"Er","") | M13: =IF($C13<G13,"Er","") | N13: =IF($C13<H13,"Er","")
A14: Trong đó: | I14: =IF(OR(C14<D14,C14<E14,C14<F14,C14<G14),"Er","") | J14: =IF($C14<D14,"Er","") | K14: =IF($C14<E14,"Er","") | L14: =IF($C14<F14,"Er","") | M14: =IF($C14<G14,"Er","") | N14: =IF($C14<H14,"Er","")
A15: 1- Hội trường/giảng đường/phòng học: Diện tích | B15: m2 | C15: 7131 | I15: =IF(OR(C15<D15,C15<E15,C15<F15,C15<G15),"Er","") | J15: =IF($C15<D15,"Er","") | K15: =IF($C15<E15,"Er","") | L15: =IF($C15<F15,"Er","") | M15: =IF($C15<G15,"Er","") | N15: =IF($C15<H15,"Er","")
A16: Số phòng học | B16: phòng | C16: 89 | I16: =IF(OR(C16<D16,C16<E16,C16<F16,C16<G16),"Er","") | J16: =IF($C16<D16,"Er","") | K16: =IF($C16<E16,"Er","") | L16: =IF($C16<F16,"Er","") | M16: =IF($C16<G16,"Er","") | N16: =IF($C16<H16,"Er","")
A17: Trong đó: | I17: =IF(OR(C17<D17,C17<E17,C17<F17,C17<G17),"Er","") | J17: =IF($C17<D17,"Er","") | K17: =IF($C17<E17,"Er","") | L17: =IF($C17<F17,"Er","") | M17: =IF($C17<G17,"Er","") | N17: =IF($C17<H17,"Er","")
A18: 1.1 - Phòng máy tính | B18: m2 | C18: 1267 | I18: =IF(OR(C18<D18,C18<E18,C18<F18,C18<G18),"Er","") | J18: =IF($C18<D18,"Er","") | K18: =IF($C18<E18,"Er","") | L18: =IF($C18<F18,"Er","") | M18: =IF($C18<G18,"Er","") | N18: =IF($C18<H18,"Er","")
A19: Số phòng | B19: phòng | C19: 19 | I19: =IF(OR(C19<D19,C19<E19,C19<F19,C19<G19),"Er","") | J19: =IF($C19<D19,"Er","") | K19: =IF($C19<E19,"Er","") | L19: =IF($C19<F19,"Er","") | M19: =IF($C19<G19,"Er","") | N19: =IF($C19<H19,"Er","")
A20: 1.2 - Phòng học ngoại ngữ | B20: m2 | C20: 68 | I20: =IF(OR(C20<D20,C20<E20,C20<F20,C20<G20),"Er","") | J20: =IF($C20<D20,"Er","") | K20: =IF($C20<E20,"Er","") | L20: =IF($C20<F20,"Er","") | M20: =IF($C20<G20,"Er","") | N20: =IF($C20<H20,"Er","")
A21: Số phòng | B21: phòng | C21: 1 | I21: =IF(OR(C21<D21,C21<E21,C21<F21,C21<G21),"Er","") | J21: =IF($C21<D21,"Er","") | K21: =IF($C21<E21,"Er","") | L21: =IF($C21<F21,"Er","") | M21: =IF($C21<G21,"Er","") | N21: =IF($C21<H21,"Er","")
A22: 1.3 - Phòng nhạc, hoạ | B22: m2 | C22: 0 | I22: =IF(OR(C22<D22,C22<E22,C22<F22,C22<G22),"Er","") | J22: =IF($C22<D22,"Er","") | K22: =IF($C22<E22,"Er","") | L22: =IF($C22<F22,"Er","") | M22: =IF($C22<G22,"Er","") | N22: =IF($C22<H22,"Er","")
A23: Số phòng | B23: phòng | C23: 0 | I23: =IF(OR(C23<D23,C23<E23,C23<F23,C23<G23),"Er","") | J23: =IF($C23<D23,"Er","") | K23: =IF($C23<E23,"Er","") | L23: =IF($C23<F23,"Er","") | M23: =IF($C23<G23,"Er","") | N23: =IF($C23<H23,"Er","")
A24: 2. Thư viện/Trung tâm học liệu: Diện tích | B24: m2 | C24: 608 | I24: =IF(OR(C24<D24,C24<E24,C24<F24,C24<G24),"Er","") | J24: =IF($C24<D24,"Er","") | K24: =IF($C24<E24,"Er","") | L24: =IF($C24<F24,"Er","") | M24: =IF($C24<G24,"Er","") | N24: =IF($C24<H24,"Er","")
A25: Số phòng | B25: phòng | C25: 1 | I25: =IF(OR(C25<D25,C25<E25,C25<F25,C25<G25),"Er","") | J25: =IF($C25<D25,"Er","") | K25: =IF($C25<E25,"Er","") | L25: =IF($C25<F25,"Er","") | M25: =IF($C25<G25,"Er","") | N25: =IF($C25<H25,"Er","")
A26: 3-Phòng thí nghiệm: Diện tích | B26: m2 | C26: 772 | I26: =IF(OR(C26<D26,C26<E26,C26<F26,C26<G26),"Er","") | J26: =IF($C26<D26,"Er","") | K26: =IF($C26<E26,"Er","") | L26: =IF($C26<F26,"Er","") | M26: =IF($C26<G26,"Er","") | N26: =IF($C26<H26,"Er","")
A27: Số phòng | B27: phòng | C27: 8 | I27: =IF(OR(C27<D27,C27<E27,C27<F27,C27<G27),"Er","") | J27: =IF($C27<D27,"Er","") | K27: =IF($C27<E27,"Er","") | L27: =IF($C27<F27,"Er","") | M27: =IF($C27<G27,"Er","") | N27: =IF($C27<H27,"Er","")
A28: 4- Xưởng thực tập, thực hành: Diện tích | B28: m2 | C28: 6584.2 | I28: =IF(OR(C28<D28,C28<E28,C28<F28,C28<G28),"Er","") | J28: =IF($C28<D28,"Er","") | K28: =IF($C28<E28,"Er","") | L28: =IF($C28<F28,"Er","") | M28: =IF($C28<G28,"Er","") | N28: =IF($C28<H28,"Er","")
A29: Số phòng | B29: phòng | C29: 56 | I29: =IF(OR(C29<D29,C29<E29,C29<F29,C29<G29),"Er","") | J29: =IF($C29<D29,"Er","") | K29: =IF($C29<E29,"Er","") | L29: =IF($C29<F29,"Er","") | M29: =IF($C29<G29,"Er","") | N29: =IF($C29<H29,"Er","")
... A33: Số phòng | B33: phòng | C33: 0 | I33: =IF(OR(C33<D33,C33<E33,C33<F33,C33<G33),"Er","") | J33: =IF($C33<D33,"Er","") | K33: =IF($C33<E33,"Er","") | L33: =IF($C33<F33,"Er","") | M33: =IF($C33<G33,"Er","") | N33: =IF($C33<H33,"Er","")
A34: 7-Diện tích khác | I34: =IF(OR(C34<D34,C34<E34,C34<F34,C34<G34),"Er","") | J34: =IF($C34<D34,"Er","") | K34: =IF($C34<E34,"Er","") | L34: =IF($C34<F34,"Er","") | M34: =IF($C34<G34,"Er","") | N34: =IF($C34<H34,"Er","")
A35: - Bể bơi : Diện tích | B35: m2 | C35: 0 | I35: =IF(OR(C35<D35,C35<E35,C35<F35,C35<G35),"Er","") | J35: =IF($C35<D35,"Er","") | K35: =IF($C35<E35,"Er","") | L35: =IF($C35<F35,"Er","") | M35: =IF($C35<G35,"Er","") | N35: =IF($C35<H35,"Er","")
A36: -Sân vận động: Diện tích | B36: m2 | C36: 8700 | I36: =IF(OR(C36<D36,C36<E36,C36<F36,C36<G36),"Er","") | J36: =IF($C36<D36,"Er","") | K36: =IF($C36<E36,"Er","") | L36: =IF($C36<F36,"Er","") | M36: =IF($C36<G36,"Er","") | N36: =IF($C36<H36,"Er","")
A37: Ghi chú: Không ghi vào ô đánh dấu x | D37: Ngày 22 tháng 12 năm 2014
A38: Người lập biểu | D38: HIỆU TRƯỞNG
A44: Nguyễn Văn Lâm | D44: Phạm Hữu Lộc
